{"text_format":"1","workbook":"xlsx","n_sheets":2,"sheets":["Order Form","Sheet 2"],"not_rendered":{"charts":0,"images":0,"macros":1,"external_links":1,"defined_names":6,"comments":1,"pivot_tables":0},"unopened":[],"bounds":{"document_bytes":16777216,"sheet_cells":100000,"rows_first":2000,"rows_last":500,"rows_between":2000,"halvings":0,"cell_chars":16384,"cell_head_chars":4096},"cells_cut":0,"cells_raw":0,"read":"whole","date_system":"1900"}

{"sheet":"Order Form","index":0,"n_rows":733,"n_cols":12,"rows_kept":733,"cut":false,"hidden":false,"merged":[[8,4,8,8],[4,4,4,5],[6,4,7,4],[6,5,7,5],[6,7,7,7],[6,8,7,8],[6,0,6,2],[7,0,7,2],[0,0,0,8],[2,6,2,7],[4,6,4,7],[6,6,7,6],[2,0,2,2],[3,0,3,2],[4,0,4,2],[5,0,5,2],[2,4,2,5],[13,4,13,8],[11,4,11,8],[12,4,12,8],[10,0,13,2],[9,0,9,3],[10,3,10,8],[9,4,9,8]]}
["Wildland Equipment Order Form\nMN FIRE DEPARTMENT USE ONLY"]
[null,null,null,"Version 2026.1"]
["Fire Department Name",null,null,null,"Date of Order"]
["Shipping Address (No P.O. Boxes)"]
["City, State, Zip Code",null,null,null,"Date Needed"]
["Contact Name"]
["Phone #",null,null,null,"SHIP THIS ORDER",false,null,"PICKUP AT CACHE",false]
["Email"]
[]
["Enter the quantity of the item you would like below. ",null,null,null,"Completed forms must be emailed to:\nsm.fs.nekfirecache@usda.gov "]
["THIS PROGRAM SHOULD BE USED AS A RESOURCE OF LAST RESORT Equipment may be refurbished and not in new condition. Accountable property such as pumps, chainsaws, and portable generators cannot be sold through this program.\n\nThe equipment sales are offered as a service. Fire departments are encouraged to purchase wildland fire equipment through normal vendors. Vendors' prices may be similar, and products may better suit the needs of the fire department.\nALL SALES ARE FINAL",null,null,"The Cache is not involved in the billing or invoiceing process. Please do not send payment to the cache!"]
[null,null,null,"TOTAL COST WITHOUT SHIPPING",{"$f":"SUM(F16:F757)","v":{"$error":"#N/A"}}]
[null,null,null,"TOTAL ESTIMATED SHIPPING COST",{"$f":"IF(L14=TRUE,10,J14)","v":10}]
[null,null,null,"TOTAL OVERALL COST",{"$f":"SUM(E12:I13)","v":{"$error":"#N/A"}},null,null,null,null,{"$f":"SUM(I16:I757)","v":0},{"$f":"SUM(J14*0.8)","v":0},{"$f":"IF(K14<10,TRUE,FALSE)","v":true}]
["Item #","Qty","Unit of Issue","Description","Unit of Issue Cost","Total",null,"Weight","Total weight"]
[{"$f":"LEFT(D16, 6)","v":"000003"},0,"Each","000003 - ADAPTER - 1\" NPSH-F,(11 1/2 TPI) TO 1\" NH-M(8 TPI)",{"$f":"_xlfn.XLOOKUP(A16,'Sheet 2'!A:A,'Sheet 2'!B:B)","v":4.95},{"$f":"E16*B16","v":0},null,0.13,{"$f":"B16*H16","v":0}]
["000004",0,"Each","000004 - ADAPTER - 1\" NH-F,(9 TPI) TO 1\" NPSH-M (11 1/2 TPI)",{"$f":"_xlfn.XLOOKUP(A17,'Sheet 2'!A:A,'Sheet 2'!B:B)","v":5.01},0,null,0.13,0]
["000006",0,"Each","000006 - ADAPTER - 1 1/2\" NH-F, (9 TPI) TO 1 1/2\" NPSH-M (11 1/2 TPI)",{"$f":"_xlfn.XLOOKUP(A18,'Sheet 2'!A:A,'Sheet 2'!B:B)","v":15.57},0,null,0.25,0]
["000007",0,"Each","000007 - ADAPTER - 1 1/2\" NPSH-F, (11 1/2 TPI) TO 1 1/2\" NH-M (9TPI)",{"$f":"_xlfn.XLOOKUP(A19,'Sheet 2'!A:A,'Sheet 2'!B:B)","v":16.12},0,null,0.25,0]
["000009",0,"Each","000009 - REDUCER - 1 1/2\" NH-F (9 TPI) TO 1\" NH-M (8 TPI)",{"$f":"_xlfn.XLOOKUP(A20,'Sheet 2'!A:A,'Sheet 2'!B:B)","v":29.92},0,null,0.56000000000000005,0]
["000010",0,"Each","000010 - REDUCER - 1 1/2\" NH-F (9 TPI) TO 1\" NPSH-M (11 1/2 TPI)",{"$f":"_xlfn.XLOOKUP(A21,'Sheet 2'!A:A,'Sheet 2'!B:B)","v":13.58},0,null,0.19,0]
["000011",0,"Each","000011 - PULLER - FENCEPOST",{"$f":"_xlfn.XLOOKUP(A22,'Sheet 2'!A:A,'Sheet 2'!B:B)","v":112.37},0,null,14,0]
["000014",0,"Each","000014 - BAR - WRECKING, 5/8\" DIAMETER, 18\"",{"$f":"_xlfn.XLOOKUP(A23,'Sheet 2'!A:A,'Sheet 2'!B:B)","v":10.41},0,null,1.88,0]
["000021",0,"Box","000021 - BAG - GARBAGE CAN LINER, PLASTIC, 30 GL, 39\" X 33\"",{"$f":"_xlfn.XLOOKUP(A24,'Sheet 2'!A:A,'Sheet 2'!B:B)","v":29.89},0,null,20.75,0]
["000022",0,"Each","000022 - BAG - SLEEPING, COLD WEATHER, 34\" X 76\"",{"$f":"_xlfn.XLOOKUP(A25,'Sheet 2'!A:A,'Sheet 2'!B:B)","v":62.66},0,null,4.75,0]
["000024",0,"Each","000024 - NOZZLE - TWIN TIP, COMBINATION, 1'' NPSH-F",{"$f":"_xlfn.XLOOKUP(A26,'Sheet 2'!A:A,'Sheet 2'!B:B)","v":161.35},0,null,2.25,0]
["000028",0,"Pair","000028 - CHAPS - PROTECTIVE, SUMMER WEIGHT, 28\" LONG",{"$f":"_xlfn.XLOOKUP(A27,'Sheet 2'!A:A,'Sheet 2'!B:B)","v":146.66999999999999},0,null,0,0]
["000030",0,"PG","000030 - BATTERY - SIZE AA, 1.5 VOLT, PENLIGHT",{"$f":"_xlfn.XLOOKUP(A28,'Sheet 2'!A:A,'Sheet 2'!B:B)","v":9.26},0,null,1.25,0]
["000033",0,"PG","000033 - BATTERY - SIZE D,1.5V,ALKALINE,GENERAL PURPOSE",{"$f":"_xlfn.XLOOKUP(A29,'Sheet 2'!A:A,'Sheet 2'!B:B)","v":15.47},0,null,3.5,0]
["000037",0,"Each","000037 - CANTEEN - 1 QT (.9L), PLASTIC, DISPOSABLE, W/O COVER",{"$f":"_xlfn.XLOOKUP(A30,'Sheet 2'!A:A,'Sheet 2'!B:B)","v":2.0299999999999998},0,null,0.19,0]
["000045",0,"Pair","000045 - CHAPS - PROTECTIVE, SUMMER WEIGHT, 32\" LONG",{"$f":"_xlfn.XLOOKUP(A31,'Sheet 2'!A:A,'Sheet 2'!B:B)","v":146.66999999999999},0,null,3.75,0]
["000046",0,"Each","000046 - CLAMP - HOSE, SHUT-OFF, 1\" - 1 1/2\" HOSES, 10\" LONG WHEN CLOSED",{"$f":"_xlfn.XLOOKUP(A32,'Sheet 2'!A:A,'Sheet 2'!B:B)","v":53.07},0,null,1.44,0]
["000047",0,"Each","000047 - COMPASS - MAGNETIC, POCKET, AZIMUTH TYPE, 0-360 DEGREES",{"$f":"_xlfn.XLOOKUP(A33,'Sheet 2'!A:A,'Sheet 2'!B:B)","v":46.56},0,null,0.25,0]
["000048",0,"Box","000048 - CONTAINER - 5 GL (18.9L), PLASTIC, COLLAPSIBLE, W/OVERPACK",{"$f":"_xlfn.XLOOKUP(A34,'Sheet 2'!A:A,'Sheet 2'!B:B)","v":186.25},0,null,52,0]
["000049",0,"Each","000049 - PLIERS,12\" - ADJUSTABLE JOINT,ANGLE NOSE,MULTI TONGUE",{"$f":"_xlfn.XLOOKUP(A35,'Sheet 2'!A:A,'Sheet 2'!B:B)","v":15.47},0,null,1.81,0]
["000053",0,"Each","000053 - COT - FOLDING, 12 OZ COVER, 31\" X 77 1/2\"",{"$f":"_xlfn.XLOOKUP(A36,'Sheet 2'!A:A,'Sheet 2'!B:B)","v":88.26},0,null,18.75,0]
["000059",0,"Each","000059 - BAG - BURLAP, 50\" X 28 1/2\", W/PLASTIC LINER",{"$f":"_xlfn.XLOOKUP(A37,'Sheet 2'!A:A,'Sheet 2'!B:B)","v":8.76},0,null,1.19,0]
["000060",0,"Each","000060 - FILE - MILL, 10'', BASTARD",{"$f":"_xlfn.XLOOKUP(A38,'Sheet 2'!A:A,'Sheet 2'!B:B)","v":3.26},0,null,0.38,0]
["000061",0,"Set","000061 - GUIDE - FILE, 7/32\", W/FILE & HANDLE",{"$f":"_xlfn.XLOOKUP(A39,'Sheet 2'!A:A,'Sheet 2'!B:B)","v":7.61},0,null,0.38,0]
["000063",0,"Each","000063 - HANDLE - FILE, FOR 8\" TO 14\" FILES",{"$f":"_xlfn.XLOOKUP(A40,'Sheet 2'!A:A,'Sheet 2'!B:B)","v":2.46},0,null,0.13,0]
["000067",0,"Kit","000067 - KIT - FIRST AID, TYPE 1, POCKET",{"$f":"_xlfn.XLOOKUP(A41,'Sheet 2'!A:A,'Sheet 2'!B:B)","v":24.31},0,null,0.31,0]
["000070",0,"Each","000070 - FLY - PLASTIC TENT,16'X24' W/10 GUY ROPES",{"$f":"_xlfn.XLOOKUP(A42,'Sheet 2'!A:A,'Sheet 2'!B:B)","v":663.05},0,null,19.75,0]
["000071",0,"Roll","000071 - TAPE - DUCT, 2\" X 60 YD",{"$f":"_xlfn.XLOOKUP(A43,'Sheet 2'!A:A,'Sheet 2'!B:B)","v":7.68},{"$f":"E43*B43","v":0},null,1.75,0]
["000077",0,"Each","000077 - TENT - 2 PERSON",{"$f":"_xlfn.XLOOKUP(A44,'Sheet 2'!A:A,'Sheet 2'!B:B)","v":255.31},0,null,10.94,0]
["000078",0,"Pair","000078 - CHAPS - PROTECTIVE, SUMMER WEIGHT, 36\" LONG",{"$f":"_xlfn.XLOOKUP(A45,'Sheet 2'!A:A,'Sheet 2'!B:B)","v":146.66999999999999},0,null,4.25,0]
["000082",0,"Each","000082 - POLE, RIDGE - FOR 10' X 12' TENT",{"$f":"_xlfn.XLOOKUP(A46,'Sheet 2'!A:A,'Sheet 2'!B:B)","v":85.38},0,null,16.2,0]
["000083",0,"Each","000083 - POLE - UPRIGHT, ADJUSTABLE",{"$f":"_xlfn.XLOOKUP(A47,'Sheet 2'!A:A,'Sheet 2'!B:B)","v":60.91},0,null,7.38,0]
["000084",0,"Each","000084 - TENT - WALL, 14' X 16', WITHOUT POLES",{"$f":"_xlfn.XLOOKUP(A48,'Sheet 2'!A:A,'Sheet 2'!B:B)","v":689.68},0,null,96,0]
["000086",0,"Pad","000086 - FORM - I/A HELICOPTER PASS/CARGO MANIFEST, OF-252",{"$f":"_xlfn.XLOOKUP(A49,'Sheet 2'!A:A,'Sheet 2'!B:B)","v":8.65},0,null,0.25,0]
["000089",0,"Each","000089 - POLE - RIDGE,16'",{"$f":"_xlfn.XLOOKUP(A50,'Sheet 2'!A:A,'Sheet 2'!B:B)","v":184.17},0,null,22.75,0]
["000090",0,"Each","000090 - TANK - COLLAPSIBLE - 1200 GL (4542L), FREE STANDING 44'' DEPTH, OPENING 61''",{"$f":"_xlfn.XLOOKUP(A51,'Sheet 2'!A:A,'Sheet 2'!B:B)","v":895.77},0,null,68,0]
["000105",0,"Box","000105 - FUSEE - SIGNAL DEVICE, HAND",{"$f":"_xlfn.XLOOKUP(A52,'Sheet 2'!A:A,'Sheet 2'!B:B)","v":143.16999999999999},0,null,37.5,0]
["000113",0,"Each","000113 - FUEL LINE ASSEMBLY - 1/4\" X 5' W/FITTINGS",{"$f":"_xlfn.XLOOKUP(A53,'Sheet 2'!A:A,'Sheet 2'!B:B)","v":57.72},0,null,1,0]
["000114",0,"Length","000114 - HOSE - COTTON SYNTHETIC JACKET,1 1/2\" NH X 3', RUBBER LINED",{"$f":"_xlfn.XLOOKUP(A54,'Sheet 2'!A:A,'Sheet 2'!B:B)","v":38.909999999999997},0,null,2.38,0]
["000115",0,"Length","000115 - HOSE - SUCTION, 1 1/2\" NH X 10', RUBBER, RCKR LUG COUPL,9 NSHT/IN",{"$f":"_xlfn.XLOOKUP(A55,'Sheet 2'!A:A,'Sheet 2'!B:B)","v":214.15},0,null,8.8800000000000008,0]
["000126",0,"Kit","000126 - KIT - WASH, ASSEMBLY",{"$f":"_xlfn.XLOOKUP(A56,'Sheet 2'!A:A,'Sheet 2'!B:B)","v":12.96},0,null,1.06,0]
["000128",0,"Each","000128 - BAG - SLEEPING, COLD WEATHER, 35\" X 81\" (2012)",{"$f":"_xlfn.XLOOKUP(A57,'Sheet 2'!A:A,'Sheet 2'!B:B)","v":116.97},0,null,4.5,0]
["000131",0,"Each","000131 - RESPIRATOR - N95 PARTICULATE, NIOSH APPROVED",{"$f":"_xlfn.XLOOKUP(A58,'Sheet 2'!A:A,'Sheet 2'!B:B)","v":0.98},0,null,0.06,0]
["000135",0,"Kit","000135 - MESS GEAR - DISPOSABLE 25-PERSON, 1 DAY",{"$f":"_xlfn.XLOOKUP(A59,'Sheet 2'!A:A,'Sheet 2'!B:B)","v":70.11},0,null,8.3800000000000008,0]
["000136",0,"Each","000136 - NOZZLE - GARDEN HOSE, 3/4\" NH, ADJUSTABLE, BRASS",{"$f":"_xlfn.XLOOKUP(A60,'Sheet 2'!A:A,'Sheet 2'!B:B)","v":22.06},0,null,0.44,0]
["000137",0,"Each","000137 - NOZZLE - PLASTIC, 60 GPM, 1 1/2'' NH-F X 4 3/4'' LONG",{"$f":"_xlfn.XLOOKUP(A61,'Sheet 2'!A:A,'Sheet 2'!B:B)","v":8.33},0,null,0.63,0]
["000138",0,"Each","000138 - NOZZLE - PLASTIC, 35 GPM, 1'' NPSH-F",{"$f":"_xlfn.XLOOKUP(A62,'Sheet 2'!A:A,'Sheet 2'!B:B)","v":8.64},0,null,0.5,0]
["000141",0,"Each","000141 - PAIL - COLLAPSIBLE, W/CARRYING HANDLE",{"$f":"_xlfn.XLOOKUP(A63,'Sheet 2'!A:A,'Sheet 2'!B:B)","v":10.46},0,null,0.5,0]
["000142",0,"Box","000142 - PAPER - TOILET",{"$f":"_xlfn.XLOOKUP(A64,'Sheet 2'!A:A,'Sheet 2'!B:B)","v":68.459999999999994},0,null,44,0]
["000143",0,"Roll","000143 - SHEETING - PLASTIC, CLEAR, 16' X 100'",{"$f":"_xlfn.XLOOKUP(A65,'Sheet 2'!A:A,'Sheet 2'!B:B)","v":67.8},0,null,21.88,0]
["000144",0,"Roll","000144 - SHEETING - PLASTIC, BLACK, 20' X 100'",{"$f":"_xlfn.XLOOKUP(A66,'Sheet 2'!A:A,'Sheet 2'!B:B)","v":84.53},0,null,44,0]
["000145",0,"Each","000145 - PRIMER - HAND, MARK 3",{"$f":"_xlfn.XLOOKUP(A67,'Sheet 2'!A:A,'Sheet 2'!B:B)","v":116.49},0,null,2.25,0]
["000146",0,"Each","000146 - PULASKI - WITH PLASTIC SHEATH",{"$f":"_xlfn.XLOOKUP(A68,'Sheet 2'!A:A,'Sheet 2'!B:B)","v":72.680000000000007},0,null,5.88,0]
["000149",0,"Each","000149 - PUMP - BARREL, HAND, W/UNLEADED NOZZLE, FOR 55 GL DRUM",{"$f":"_xlfn.XLOOKUP(A69,'Sheet 2'!A:A,'Sheet 2'!B:B)","v":278.56},0,null,15.75,0]
["000150",0,"Pair","000150 - CHAPS - PROTECTIVE, SUMMER WEIGHT, 40\" LONG",{"$f":"_xlfn.XLOOKUP(A70,'Sheet 2'!A:A,'Sheet 2'!B:B)","v":146.66999999999999},0,null,2.44,0]
["000151",0,"Each","000151 - PUMP - TROMBONE, BACKPACK, SINGLE ACTION",{"$f":"_xlfn.XLOOKUP(A71,'Sheet 2'!A:A,'Sheet 2'!B:B)","v":70.67},0,null,2.63,0]
["000171",0,"Each","000171 - SHOVEL - WITH PLASTIC SHEATH, SIZE #1",{"$f":"_xlfn.XLOOKUP(A72,'Sheet 2'!A:A,'Sheet 2'!B:B)","v":91.53},0,null,4.88,0]
["000177",0,"Each","000177 - SIGN - DANGER NO SMOKING, POLYVINYL, 14\" X 11\"",{"$f":"_xlfn.XLOOKUP(A73,'Sheet 2'!A:A,'Sheet 2'!B:B)","v":6.39},0,null,0.1,0]
["000178",0,"Each","000178 - SIGN - DIRECTION ARROW, WHITE TAG, 14\" X 11\"",{"$f":"_xlfn.XLOOKUP(A74,'Sheet 2'!A:A,'Sheet 2'!B:B)","v":1.47},0,null,0.06,0]
["000184",0,"Each","000184 - SIGN - ADA PARKING, POLYVINYL, 12\" x 16\"",{"$f":"_xlfn.XLOOKUP(A75,'Sheet 2'!A:A,'Sheet 2'!B:B)","v":12.03},0,null,0.1,0]
["000185",0,"Each","000185 - SIGN - PARKING, POLYVINYL, 14\" X 10\"",{"$f":"_xlfn.XLOOKUP(A76,'Sheet 2'!A:A,'Sheet 2'!B:B)","v":6.5},0,null,0.06,0]
["000186",0,"Each","000186 - SIGN - NO PARKING, POLYVINYL, 14'' X 10''",{"$f":"_xlfn.XLOOKUP(A77,'Sheet 2'!A:A,'Sheet 2'!B:B)","v":12.89},0,null,0.1,0]
["000189",0,"Each","000189 - SIGN - BLANK, WHITE TAG, 14\" X 11\"",{"$f":"_xlfn.XLOOKUP(A78,'Sheet 2'!A:A,'Sheet 2'!B:B)","v":0.69},0,null,0.1,0]
["000196",0,"Each","000196 - SIGN - DANGER KEEP OUT, POLYVINYL, 14'' X 10''",{"$f":"_xlfn.XLOOKUP(A79,'Sheet 2'!A:A,'Sheet 2'!B:B)","v":11.91},0,null,0.1,0]
[{"$f":"LEFT(D80, 6)","v":"000197"},0,"Each","000197 - SIGN - RESTROOM WOMEN, WHITE TAG, 12\" X 12\"",{"$f":"_xlfn.XLOOKUP(A80,'Sheet 2'!A:A,'Sheet 2'!B:B)","v":4.32},0,null,0.1,{"$f":"B80*H80","v":0}]
["000206",0,"Each","000206 - WASHCLOTH - WATERLESS, CLEANSING, 10\" X 11 1/2\"",{"$f":"_xlfn.XLOOKUP(A81,'Sheet 2'!A:A,'Sheet 2'!B:B)","v":0.21},0,null,0.06,0]
["000212",0,"Each","000212 - VALVE - FOOT, 1 1/2\" NH-F W/STRAINER",{"$f":"_xlfn.XLOOKUP(A82,'Sheet 2'!A:A,'Sheet 2'!B:B)","v":87.78},0,null,1.88,0]
["000213",0,"Each","000213 - STRAP - CHIN, SAFETY HELMET, BULLARD ES-42",{"$f":"_xlfn.XLOOKUP(A83,'Sheet 2'!A:A,'Sheet 2'!B:B)","v":4.6500000000000004},0,null,0.06,0]
["000216",0,"Each","000216 - TAG - SHIPPING (BLANK)",{"$f":"_xlfn.XLOOKUP(A84,'Sheet 2'!A:A,'Sheet 2'!B:B)","v":0.24},0,null,0.06,0]
["000218",0,"Each","000218 - TANK, GASOLINE - 5 GL (18.9L), PUMP ADAPTED",{"$f":"_xlfn.XLOOKUP(A85,'Sheet 2'!A:A,'Sheet 2'!B:B)","v":181.15},0,null,10.88,0]
["000222",0,"Roll","000222 - TAPE - FILAMENT, 1\" X 60 YD",{"$f":"_xlfn.XLOOKUP(A86,'Sheet 2'!A:A,'Sheet 2'!B:B)","v":5.4},0,null,0.63,0]
["000223",0,"Each","000223 - TENT - WALL, 10' X 12', WITHOUT POLES",{"$f":"_xlfn.XLOOKUP(A87,'Sheet 2'!A:A,'Sheet 2'!B:B)","v":434.1},0,null,56.2,0]
["000224",0,"Each","000224 - INSTRUCTIONS - LIGHTWEIGHT PUMP",{"$f":"_xlfn.XLOOKUP(A88,'Sheet 2'!A:A,'Sheet 2'!B:B)","v":0},0,null,0.2,0]
["000228",0,"Each","000228 - VALVE - AUTOMATIC CHECK AND BLEEDER 1 1/2\" NH-F",{"$f":"_xlfn.XLOOKUP(A89,'Sheet 2'!A:A,'Sheet 2'!B:B)","v":132.81},0,null,2.56,0]
["000229",0,"Each","000229 - VALVE - PRESSURE RELIEF, 1 1/2\" NH-F",{"$f":"_xlfn.XLOOKUP(A90,'Sheet 2'!A:A,'Sheet 2'!B:B)","v":104.38},0,null,1.38,0]
["000230",0,"Each","000230 - TEE - HOSELINE, W/VALVE, 1 1/2\" NH-F X 1 1/2\" NH-M X 1\" NPSH-M",{"$f":"_xlfn.XLOOKUP(A91,'Sheet 2'!A:A,'Sheet 2'!B:B)","v":47.09},0,null,0.94,0]
["000231",0,"Each","000231 - VALVE - WYE, GATED, 1 1/2'' NH-F X 1 1/2'' NH-M X 1 1/2'' NH-M",{"$f":"_xlfn.XLOOKUP(A92,'Sheet 2'!A:A,'Sheet 2'!B:B)","v":125.63},0,null,3.75,0]
["000234",0,"Each","000234 - WRENCH - SPANNER, 5\", 1\" TO 1 1/2\" HOSE SIZE",{"$f":"_xlfn.XLOOKUP(A93,'Sheet 2'!A:A,'Sheet 2'!B:B)","v":6.46},0,null,0.38,0]
["000235",0,"Each","000235 - WRENCH - SPANNER, 11\", 1 1/2\" TO 2 1/2\" HOSE SIZE",{"$f":"_xlfn.XLOOKUP(A94,'Sheet 2'!A:A,'Sheet 2'!B:B)","v":11.08},0,null,0.63,0]
["000240",0,"Box","000240 - TOWEL - PAPER, TWO PLY, ROLL",{"$f":"_xlfn.XLOOKUP(A95,'Sheet 2'!A:A,'Sheet 2'!B:B)","v":31.1},0,null,41,0]
["000241",0,"Each","000241 - TORCH - DRIP, 1 1/4 GL (4.7L) CAPACITY",{"$f":"_xlfn.XLOOKUP(A96,'Sheet 2'!A:A,'Sheet 2'!B:B)","v":214.72},0,null,5.13,0]
["000247",0,"Each","000247 - HANDLE - SLIDING T, 1/2\" DRIVE",{"$f":"_xlfn.XLOOKUP(A97,'Sheet 2'!A:A,'Sheet 2'!B:B)","v":27.91},0,null,0.94,0]
["000248",0,"Each","000248 - PLIERS - SLIP JOINT 8\" LONG",{"$f":"_xlfn.XLOOKUP(A98,'Sheet 2'!A:A,'Sheet 2'!B:B)","v":11.34},0,null,0.63,0]
["000250",0,"Pad","000250 - PAPER - EASEL, 27\" X 34\"",{"$f":"_xlfn.XLOOKUP(A99,'Sheet 2'!A:A,'Sheet 2'!B:B)","v":22.29},0,null,6.38,0]
["000251",0,"Each","000251 - CLOTH - OIL SORBENT, 36\" X 36\" X 3/8\"",{"$f":"_xlfn.XLOOKUP(A100,'Sheet 2'!A:A,'Sheet 2'!B:B)","v":2.88},0,null,0.69,0]
["000254",0,"Each","000254 - GASKET - HOSE, 1 1/2\"",{"$f":"_xlfn.XLOOKUP(A101,'Sheet 2'!A:A,'Sheet 2'!B:B)","v":0.34},0,null,0.06,0]
["000256",0,"Each","000256 - SCREWDRIVER - FLAT TIP, 2\"",{"$f":"_xlfn.XLOOKUP(A102,'Sheet 2'!A:A,'Sheet 2'!B:B)","v":2.23},0,null,0.06,0]
["000258",0,"Each","000258 - PULASKI - W/42\" FIBERGLASS HANDLE",{"$f":"_xlfn.XLOOKUP(A103,'Sheet 2'!A:A,'Sheet 2'!B:B)","v":73.83},0,null,6.8,0]
["000259",0,"Each","000259 - VALVE - WYE, GATED, 1\" NPSH-F X 1\" NPSH-M X 1\" NPSH-M",{"$f":"_xlfn.XLOOKUP(A104,'Sheet 2'!A:A,'Sheet 2'!B:B)","v":124.55},0,null,2.44,0]
["000260",0,"Kit","000260 - KIT - PUMP TOOL ROLL, FIRE, PORTABLE",{"$f":"_xlfn.XLOOKUP(A105,'Sheet 2'!A:A,'Sheet 2'!B:B)","v":141.44},0,null,4,0]
["000262",0,"Each","000262 - WRENCH - BOX, OPEN END, 10MM OFFSET, MARK 3, PACIFIC R-906",{"$f":"_xlfn.XLOOKUP(A106,'Sheet 2'!A:A,'Sheet 2'!B:B)","v":13.93},0,null,0.19,0]
["000263",0,"Each","000263 - SCREWDRIVER - FLAT TIP, DOUBLE BEND, 3\"",{"$f":"_xlfn.XLOOKUP(A107,'Sheet 2'!A:A,'Sheet 2'!B:B)","v":5.86},{"$f":"E107*B107","v":0},null,0.06,0]
["000264",0,"Roll","000264 - RIBBON - FLAGGING, WHITE, 1\" WIDE",{"$f":"_xlfn.XLOOKUP(A108,'Sheet 2'!A:A,'Sheet 2'!B:B)","v":0.84},0,null,0.5,0]
["000267",0,"Roll","000267 - RIBBON - FLAGGING,HAZARDS,1'' WIDE",{"$f":"_xlfn.XLOOKUP(A109,'Sheet 2'!A:A,'Sheet 2'!B:B)","v":3.74},0,null,0.44,0]
["000268",0,"Each","000268 - PUNCH - PAPER,3 HOLE",{"$f":"_xlfn.XLOOKUP(A110,'Sheet 2'!A:A,'Sheet 2'!B:B)","v":51.75},0,null,3.19,0]
["000278",0,"Roll","000278 - RIBBON - FLAGGING, YELLOW, 1\" WIDE",{"$f":"_xlfn.XLOOKUP(A111,'Sheet 2'!A:A,'Sheet 2'!B:B)","v":2.59},0,null,0.38,0]
["000279",0,"Roll","000279 - RIBBON - FLAGGING, RED, 1\" WIDE",{"$f":"_xlfn.XLOOKUP(A112,'Sheet 2'!A:A,'Sheet 2'!B:B)","v":2.46},0,null,0.38,0]
["000281",0,"Each","000281 - BAG - TENT, PERSONAL GEAR PACK",{"$f":"_xlfn.XLOOKUP(A113,'Sheet 2'!A:A,'Sheet 2'!B:B)","v":33.33},0,null,1.25,0]
["000288",0,"Each","000288 - CLOCK - DIGITAL, BATTERY OPERATED,W/ALARM,12/24 HOUR",{"$f":"_xlfn.XLOOKUP(A114,'Sheet 2'!A:A,'Sheet 2'!B:B)","v":15.55},0,null,0.44,0]
["000290",0,"Each","000290 - SCREWDRIVER - FLAT TIP, 6\"",{"$f":"_xlfn.XLOOKUP(A115,'Sheet 2'!A:A,'Sheet 2'!B:B)","v":8.18},0,null,0.31,0]
["000291",0,"Each","000291 - PLIERS - SLIP JOINT 6\" LONG",{"$f":"_xlfn.XLOOKUP(A116,'Sheet 2'!A:A,'Sheet 2'!B:B)","v":9.4700000000000006},0,null,0.31,0]
["000294",0,"Each","000294 - HARNESS - CHEST, FIRE SHELTER",{"$f":"_xlfn.XLOOKUP(A117,'Sheet 2'!A:A,'Sheet 2'!B:B)","v":19.260000000000002},0,null,0.44,0]
["000296",0,"Each","000296 - MC LEOD - WITH PLASTIC SHEATH, 11\" WIDE",{"$f":"_xlfn.XLOOKUP(A118,'Sheet 2'!A:A,'Sheet 2'!B:B)","v":68.489999999999995},0,null,6.19,0]
["000305",0,"Each","000305 - CARTON - FIBERBOARD, 56\" X 20\" X 11\"",{"$f":"_xlfn.XLOOKUP(A119,'Sheet 2'!A:A,'Sheet 2'!B:B)","v":52.58},0,null,13.13,0]
["000307",0,"Each","000307 - EXTINGUISHER - FIRE,20A:120BC, 20 LBS",{"$f":"_xlfn.XLOOKUP(A120,'Sheet 2'!A:A,'Sheet 2'!B:B)","v":154.68},0,null,40,0]
["000308",0,"Each","000308 - WINDSOCK - SMALL, 9\" X 30\", W/BRACKET AND POLE",{"$f":"_xlfn.XLOOKUP(A121,'Sheet 2'!A:A,'Sheet 2'!B:B)","v":85.7},0,null,1.63,0]
["000315",0,"Roll","000315 - WRAP - STRETCH, 2\" - 5\", DISPOSABLE",{"$f":"_xlfn.XLOOKUP(A122,'Sheet 2'!A:A,'Sheet 2'!B:B)","v":5.8},0,null,1.38,0]
["000316",0,"Roll","000316 - WRAP - STRETCH, 15\" - 18\", DISPOSABLE",{"$f":"_xlfn.XLOOKUP(A123,'Sheet 2'!A:A,'Sheet 2'!B:B)","v":17.329999999999998},0,null,5.31,0]
["000317",0,"Each","000317 - FRAME - ALICE PACK W/STRAPS",{"$f":"_xlfn.XLOOKUP(A124,'Sheet 2'!A:A,'Sheet 2'!B:B)","v":34.96},0,null,3.88,0]
["000318",0,"Pair","000318 - GOGGLES - CLEAR LENS,UVEX STEALTH MODEL ANSI Z87.1",{"$f":"_xlfn.XLOOKUP(A125,'Sheet 2'!A:A,'Sheet 2'!B:B)","v":22.93},0,null,0.25,0]
["000320",0,"Kit","000320 - KIT - INCIDENT BASE MAINTENANCE",{"$f":"_xlfn.XLOOKUP(A126,'Sheet 2'!A:A,'Sheet 2'!B:B)","v":685.55},0,null,75,0]
["000321",0,"Each","000321 - HAMMER - CLAW, 16 OZ",{"$f":"_xlfn.XLOOKUP(A127,'Sheet 2'!A:A,'Sheet 2'!B:B)","v":12.75},0,null,1,0]
["000322",0,"Each","000322 - HAMMER - BLACKSMITH, 3-5 LBS (1.35KG - 2.25KG)",{"$f":"_xlfn.XLOOKUP(A128,'Sheet 2'!A:A,'Sheet 2'!B:B)","v":20.82},0,null,3.38,0]
["000324",0,"Each","000324 - WRENCH - ADJUSTABLE, 12\"",{"$f":"_xlfn.XLOOKUP(A129,'Sheet 2'!A:A,'Sheet 2'!B:B)","v":13.34},0,null,1.44,0]
["000325",0,"Each","000325 - PLIERS - LINEMAN, 6\"",{"$f":"_xlfn.XLOOKUP(A130,'Sheet 2'!A:A,'Sheet 2'!B:B)","v":19.84},0,null,0.44,0]
["000328",0,"Each","000328 - CAP - CANTEEN, 1 QT., PUSH/PULL",{"$f":"_xlfn.XLOOKUP(A131,'Sheet 2'!A:A,'Sheet 2'!B:B)","v":0.13},0,null,0.06,0]
["000329",0,"PG","000329 - NAILS - 10 D, 3\"",{"$f":"_xlfn.XLOOKUP(A132,'Sheet 2'!A:A,'Sheet 2'!B:B)","v":8.6999999999999993},0,null,5.38,0]
["000332",0,"Each","000332 - WRENCH - ADJUSTABLE, 6\"",{"$f":"_xlfn.XLOOKUP(A133,'Sheet 2'!A:A,'Sheet 2'!B:B)","v":13.6},0,null,0.38,0]
["000333",0,"Each","000333 - WRENCH - BUNG",{"$f":"_xlfn.XLOOKUP(A134,'Sheet 2'!A:A,'Sheet 2'!B:B)","v":35.96},0,null,2.25,0]
["000336",0,"Each","000336 - WRENCH - TORX",{"$f":"_xlfn.XLOOKUP(A135,'Sheet 2'!A:A,'Sheet 2'!B:B)","v":1.94},0,null,0.06,0]
["000342",0,"Kit","000342 - KIT - CHAIN SAW TOOL ROLL",{"$f":"_xlfn.XLOOKUP(A136,'Sheet 2'!A:A,'Sheet 2'!B:B)","v":59.03},0,null,1,0]
["000344",0,"Each","000344 - PLUG - SPARK, CHAINSAW",{"$f":"_xlfn.XLOOKUP(A137,'Sheet 2'!A:A,'Sheet 2'!B:B)","v":2.56},0,null,0.13,0]
["000345",0,"Each","000345 - FILE - ROUND, 7/32\", CHAIN SAW",{"$f":"_xlfn.XLOOKUP(A138,'Sheet 2'!A:A,'Sheet 2'!B:B)","v":1.44},0,null,0.13,0]
["000346",0,"Each","000346 - TOOL-COMBINATION (SCRENCH), CHAINSAW OR PUMP, 16MM & 19MM HEX",{"$f":"_xlfn.XLOOKUP(A139,'Sheet 2'!A:A,'Sheet 2'!B:B)","v":6.94},0,null,0.38,0]
["000348",0,"Each","000348 - GUARD - CHAIN SAW BAR",{"$f":"_xlfn.XLOOKUP(A140,'Sheet 2'!A:A,'Sheet 2'!B:B)","v":7.46},0,null,0.63,0]
["000351",0,"Each","000351 - FILE - MILL, 8'', BASTARD",{"$f":"_xlfn.XLOOKUP(A141,'Sheet 2'!A:A,'Sheet 2'!B:B)","v":2.38},0,null,0.25,0]
["000358",0,"Each","000358 - HANDLE - FILE, CHAIN SAW",{"$f":"_xlfn.XLOOKUP(A142,'Sheet 2'!A:A,'Sheet 2'!B:B)","v":2.72},0,null,0.13,0]
["000365",0,"Each","000365 - PEN - NYLON TIP, BLACK",{"$f":"_xlfn.XLOOKUP(A143,'Sheet 2'!A:A,'Sheet 2'!B:B)","v":0.82},0,null,0.06,0]
[{"$f":"LEFT(D144, 6)","v":"000366"},0,"Each","000366 - PEN - NYLON TIP, BLUE",{"$f":"_xlfn.XLOOKUP(A144,'Sheet 2'!A:A,'Sheet 2'!B:B)","v":0.76},0,null,0.06,{"$f":"B144*H144","v":0}]
["000367",0,"Each","000367 - PEN - NYLON TIP, RED",{"$f":"_xlfn.XLOOKUP(A145,'Sheet 2'!A:A,'Sheet 2'!B:B)","v":1.1100000000000001},0,null,0.06,0]
["000371",0,"Box","000371 - FLARE - FIRE,  3/4\" X 3 1/2\"",{"$f":"_xlfn.XLOOKUP(A146,'Sheet 2'!A:A,'Sheet 2'!B:B)","v":64.930000000000007},0,null,0.94,0]
["000372",0,"Each","000372 - CARTRIDGE - #6 PURPLE,BLANK,22 CALIBER,SMALL ARMS",{"$f":"_xlfn.XLOOKUP(A147,'Sheet 2'!A:A,'Sheet 2'!B:B)","v":0.14000000000000001},0,null,0,0]
["000373",0,"Each","000373 - PLACARD - FLAMMABLE GAS 2, 10.75\" X 10.75\"",{"$f":"_xlfn.XLOOKUP(A148,'Sheet 2'!A:A,'Sheet 2'!B:B)","v":1.5},0,null,0.13,0]
["000374",0,"Each","000374 - PLACARD - FLAMMABLE 3, 10.75'' X 10.75''",{"$f":"_xlfn.XLOOKUP(A149,'Sheet 2'!A:A,'Sheet 2'!B:B)","v":1.59},0,null,0.13,0]
["000375",0,"Each","000375 - PLACARD - COMBUSTIBLE 3, 10.75'' X 10.75''",{"$f":"_xlfn.XLOOKUP(A150,'Sheet 2'!A:A,'Sheet 2'!B:B)","v":2.39},0,null,0.13,0]
["000376",0,"Each","000376 - PLACARD - FLAMMABLE SOLID 4, POLYVINYL, 10.75'' X 10.75''",{"$f":"_xlfn.XLOOKUP(A151,'Sheet 2'!A:A,'Sheet 2'!B:B)","v":1.27},0,null,0.13,0]
["000377",0,"Each","000377 - PLACARD - OXIDIZER 5.1, POLYVINYL, 10.75\" X 10.75\"",{"$f":"_xlfn.XLOOKUP(A152,'Sheet 2'!A:A,'Sheet 2'!B:B)","v":1.3},0,null,0.13,0]
["000378",0,"Each","000378 - PLACARD - CORROSIVE 8, 10.75'' X 10.75''",{"$f":"_xlfn.XLOOKUP(A153,'Sheet 2'!A:A,'Sheet 2'!B:B)","v":1.49},0,null,0.13,0]
["000379",0,"Each","000379 - PLACARD - EXPLOSIVES 1.4G, 10.75'' X 10.75''",{"$f":"_xlfn.XLOOKUP(A154,'Sheet 2'!A:A,'Sheet 2'!B:B)","v":0.73},0,null,0.06,0]
["000381",0,"PG","000381 - SUGAR SUBSTITUTE - INDIVIDUAL PACKET",{"$f":"_xlfn.XLOOKUP(A155,'Sheet 2'!A:A,'Sheet 2'!B:B)","v":0.06},0,null,0.01,0]
["000382",0,"Each","000382 - SAW - CAMP",{"$f":"_xlfn.XLOOKUP(A156,'Sheet 2'!A:A,'Sheet 2'!B:B)","v":16.559999999999999},0,null,0.81,0]
["000383",0,"Each","000383 - AXE - 3-5 LB, 26\" STRAIGHT HANDLE W/SHEATH",{"$f":"_xlfn.XLOOKUP(A157,'Sheet 2'!A:A,'Sheet 2'!B:B)","v":35.119999999999997},0,null,5,0]
["000384",0,"Each","000384 - CARTON - FIBERBOARD, 48\" X 13\" X 10\"",{"$f":"_xlfn.XLOOKUP(A158,'Sheet 2'!A:A,'Sheet 2'!B:B)","v":40.090000000000003},0,null,1.5,0]
["000385",0,"Each","000385 - CARTON - FIBERBOARD, 7 1/4 X 9 1/4 X 26",{"$f":"_xlfn.XLOOKUP(A159,'Sheet 2'!A:A,'Sheet 2'!B:B)","v":12.54},0,null,2,0]
["000386",0,"Each","000386 - WRENCH - ALLEN, 4MM",{"$f":"_xlfn.XLOOKUP(A160,'Sheet 2'!A:A,'Sheet 2'!B:B)","v":1.41},0,null,7.0000000000000007E-2,0]
["000390",0,"Kit","000390 - KIT - FINANCE SECTION",{"$f":"_xlfn.XLOOKUP(A161,'Sheet 2'!A:A,'Sheet 2'!B:B)","v":1810.5},0,null,147,0]
["000394",0,"Each","000394 - TIE WRAPS - ONE WAY, 15\" - 17\"",{"$f":"_xlfn.XLOOKUP(A162,'Sheet 2'!A:A,'Sheet 2'!B:B)","v":0.08},0,null,0.06,0]
["000401",0,"Each","000401 - GASKET - WATER BAG, 2'', 5 GL & 55 GL",{"$f":"_xlfn.XLOOKUP(A163,'Sheet 2'!A:A,'Sheet 2'!B:B)","v":0.03},0,null,0.05,0]
["000410",0,"Set","000410 - BOARD - HELIBASE DISPLAY",{"$f":"_xlfn.XLOOKUP(A164,'Sheet 2'!A:A,'Sheet 2'!B:B)","v":79.41},0,null,4,0]
["000415",0,"Each","000415 - WINGNUT - 5/16\"",{"$f":"_xlfn.XLOOKUP(A165,'Sheet 2'!A:A,'Sheet 2'!B:B)","v":0.72},0,null,0.01,0]
["000416",0,"Each","000416 - INCREASER - 1\" NPSH-F (11 1/2 TPI) TO 1 1/2\" NH-M (9 TPI)",{"$f":"_xlfn.XLOOKUP(A166,'Sheet 2'!A:A,'Sheet 2'!B:B)","v":16.53},0,null,0.88,0]
["000417",0,"Each","000417 - REDUCER - 2\" NPSH-F (11 1/2 TPI) TO 1 1/2\" NH-M (9 TPI)",{"$f":"_xlfn.XLOOKUP(A167,'Sheet 2'!A:A,'Sheet 2'!B:B)","v":26.23},0,null,0.88,0]
["000418",0,"Each","000418 - REDUCER - 1 1/2\" NPSH-F(11 1/2 TPI) TO 1\" NPSH-M (11 1/2 TPI)",{"$f":"_xlfn.XLOOKUP(A168,'Sheet 2'!A:A,'Sheet 2'!B:B)","v":11.85},0,null,0.63,0]
["000420",0,"Pad","000420 - FORM,OF-304 - EMERGENCY EQUIPMENT FUEL AND OIL ISSUE,(7/90)",{"$f":"_xlfn.XLOOKUP(A169,'Sheet 2'!A:A,'Sheet 2'!B:B)","v":7.41},0,null,0.38,0]
["000422",0,"PG","000422 - FORM - EMERGENCY EQUIPMENT RENTAL USE ENVELOPE, OF-305",{"$f":"_xlfn.XLOOKUP(A170,'Sheet 2'!A:A,'Sheet 2'!B:B)","v":25.72},0,null,4.25,0]
["000424",0,"Each","000424 - TAPE - MEASURING, 16'",{"$f":"_xlfn.XLOOKUP(A171,'Sheet 2'!A:A,'Sheet 2'!B:B)","v":14.98},{"$f":"E171*B171","v":0},null,0.5,0]
["000426",0,"Each","000426 - BAG - SLINGABLE, WATER, 72 GL (272.6L), NON-POTABLE, ORANGE",{"$f":"_xlfn.XLOOKUP(A172,'Sheet 2'!A:A,'Sheet 2'!B:B)","v":380.49},0,null,11.25,0]
["000428",0,"Each","000428 - FITTING - BACKPACK PUMP, MALE",{"$f":"_xlfn.XLOOKUP(A173,'Sheet 2'!A:A,'Sheet 2'!B:B)","v":7.13},0,null,0.13,0]
["000429",0,"Each","000429 - FITTING - BACKPACK PUMP, FEMALE",{"$f":"_xlfn.XLOOKUP(A174,'Sheet 2'!A:A,'Sheet 2'!B:B)","v":9.65},0,null,0.31,0]
["000435",0,"Each","000435 - BAG - SLINGABLE, WATER, DRINKING, 55 GL (208.2L)",{"$f":"_xlfn.XLOOKUP(A175,'Sheet 2'!A:A,'Sheet 2'!B:B)","v":378.13},0,null,13.75,0]
["000437",0,"Each","000437 - BAG - SLINGABLE, WATER, SUPPRESSION, 55 GL (208.2L)",{"$f":"_xlfn.XLOOKUP(A176,'Sheet 2'!A:A,'Sheet 2'!B:B)","v":224.41},0,null,12.94,0]
["000438",0,"Each","000438 - LINER - WATERBAG, SUPPRESSION, 55 GL (208.2L)",{"$f":"_xlfn.XLOOKUP(A177,'Sheet 2'!A:A,'Sheet 2'!B:B)","v":41.33},0,null,6.81,0]
["000440",0,"Each","000440 - STRAINER - FISH, 100 GPM",{"$f":"_xlfn.XLOOKUP(A178,'Sheet 2'!A:A,'Sheet 2'!B:B)","v":74.75},0,null,1.1200000000000001,0]
["000443",0,"Each","000443 - BLANKET - PAPER DISP 60\" X 90\"",{"$f":"_xlfn.XLOOKUP(A179,'Sheet 2'!A:A,'Sheet 2'!B:B)","v":5.33},0,null,1,0]
["000445",0,"Set","000445 - SPLINT - INFLATABLE, ALL LIMBS, 6 PIECE",{"$f":"_xlfn.XLOOKUP(A180,'Sheet 2'!A:A,'Sheet 2'!B:B)","v":113.23},0,null,3.75,0]
["000446",0,"Each","000446 - COMPRESS - COLD",{"$f":"_xlfn.XLOOKUP(A181,'Sheet 2'!A:A,'Sheet 2'!B:B)","v":1.22},0,null,0.31,0]
["000447",0,"Each","000447 - PEN - BALLPOINT,BLUE",{"$f":"_xlfn.XLOOKUP(A182,'Sheet 2'!A:A,'Sheet 2'!B:B)","v":1.07},0,null,0.06,0]
["000448",0,"Pad","000448 - PAD - WRITING, AD-777, DI-5A OR EQUAL",{"$f":"_xlfn.XLOOKUP(A183,'Sheet 2'!A:A,'Sheet 2'!B:B)","v":0.81},0,null,0.13,0]
["000453",0,"Each","000453 - CARTON - FIBERBOARD, 73\" X 12\" X 12\"",{"$f":"_xlfn.XLOOKUP(A184,'Sheet 2'!A:A,'Sheet 2'!B:B)","v":20.69},0,null,7,0]
["000464",0,"Box","000464 - PLATE - PAPER",{"$f":"_xlfn.XLOOKUP(A185,'Sheet 2'!A:A,'Sheet 2'!B:B)","v":41.4},0,null,25.2,0]
["000465",0,"Box","000465 - CUP - PAPER, PLASTIC COATED, 12 OZ",{"$f":"_xlfn.XLOOKUP(A186,'Sheet 2'!A:A,'Sheet 2'!B:B)","v":96.54},0,null,18,0]
["000471",0,"Each","000471 - ASSEMBLY - FUEL LINE, COFFEE HEATING KIT",{"$f":"_xlfn.XLOOKUP(A187,'Sheet 2'!A:A,'Sheet 2'!B:B)","v":158.46},0,null,3,0]
["000473",0,"Each","000473 - WRENCH - ADJUSTABLE, 10\"",{"$f":"_xlfn.XLOOKUP(A188,'Sheet 2'!A:A,'Sheet 2'!B:B)","v":11.19},0,null,0.88,0]
["000474",0,"Pair","000474 - GLASSES - SAFETY, GRAY",{"$f":"_xlfn.XLOOKUP(A189,'Sheet 2'!A:A,'Sheet 2'!B:B)","v":5.44},0,null,0.38,0]
["000475",0,"Pair","000475 - GLASSES - SAFETY, CLEAR",{"$f":"_xlfn.XLOOKUP(A190,'Sheet 2'!A:A,'Sheet 2'!B:B)","v":5.23},0,null,0.38,0]
["000476",0,"Pair","000476 - GLASSES - SAFETY, AMBER",{"$f":"_xlfn.XLOOKUP(A191,'Sheet 2'!A:A,'Sheet 2'!B:B)","v":5.23},0,null,0.38,0]
["000478",0,"Each","000478 - IGNITER - LONG HANDLE",{"$f":"_xlfn.XLOOKUP(A192,'Sheet 2'!A:A,'Sheet 2'!B:B)","v":3.75},0,null,0.19,0]
["000480",0,"Kit","000480 - KIT - COFFEE HEATING",{"$f":"_xlfn.XLOOKUP(A193,'Sheet 2'!A:A,'Sheet 2'!B:B)","v":1852.88},0,null,100,0]
["000481",0,"Each","000481 - URN - COFFEE, 20 GL (75.7L) STAINLESS STEEL",{"$f":"_xlfn.XLOOKUP(A194,'Sheet 2'!A:A,'Sheet 2'!B:B)","v":499.64},0,null,28.13,0]
["000482",0,"Each","000482 - BASKET - FILTER, W/HANDLES",{"$f":"_xlfn.XLOOKUP(A195,'Sheet 2'!A:A,'Sheet 2'!B:B)","v":229.13},0,null,1.63,0]
["000483",0,"Each","000483 - FILTERS - PAPER, COFFEE BASKET, 23\" X 9\"",{"$f":"_xlfn.XLOOKUP(A196,'Sheet 2'!A:A,'Sheet 2'!B:B)","v":0.12},0,null,0.06,0]
["000484",0,"Each","000484 - STAND - COFFEE URN, RING TYPE",{"$f":"_xlfn.XLOOKUP(A197,'Sheet 2'!A:A,'Sheet 2'!B:B)","v":35.35},0,null,1.88,0]
["000485",0,"Each","000485 - RING - SEATING",{"$f":"_xlfn.XLOOKUP(A198,'Sheet 2'!A:A,'Sheet 2'!B:B)","v":56.15},0,null,0.88,0]
["000487",0,"Each","000487 - PAIL - POURING, STAINLESS STEEL,  12 QT (11.4L)",{"$f":"_xlfn.XLOOKUP(A199,'Sheet 2'!A:A,'Sheet 2'!B:B)","v":16.149999999999999},0,null,2.9,0]
["000488",0,"Each","000488 - STOVE - WATER HEATER, SINGLE BURNER",{"$f":"_xlfn.XLOOKUP(A200,'Sheet 2'!A:A,'Sheet 2'!B:B)","v":215.55},0,null,9.1300000000000008,0]
["000490",0,"Each","000490 - WINDSHIELD - STOVE, WATER HEATER",{"$f":"_xlfn.XLOOKUP(A201,'Sheet 2'!A:A,'Sheet 2'!B:B)","v":39.78},0,null,1.56,0]
["000491",0,"Each","000491 - TANK, PROPANE - FUEL, LPG, 20# TANK (5 GL)",{"$f":"_xlfn.XLOOKUP(A202,'Sheet 2'!A:A,'Sheet 2'!B:B)","v":47.48},0,null,39,0]
["000494",0,"Pair","000494 - MITTS - OVEN, 14\" LONG",{"$f":"_xlfn.XLOOKUP(A203,'Sheet 2'!A:A,'Sheet 2'!B:B)","v":9.33},0,null,1,0]
["000495",0,"Each","000495 - STRAP - REPLACEMENT, BACKPACK PUMP",{"$f":"_xlfn.XLOOKUP(A204,'Sheet 2'!A:A,'Sheet 2'!B:B)","v":13.67},0,null,6,0]
["000497",0,"Each","000497 - SPOON - PLASTIC, 5\" LONG",{"$f":"_xlfn.XLOOKUP(A205,'Sheet 2'!A:A,'Sheet 2'!B:B)","v":0.1},0,null,0.06,0]
["000498",0,"PG","000498 - SUGAR - GRANULATED, INDIVIDUAL PACKETS",{"$f":"_xlfn.XLOOKUP(A206,'Sheet 2'!A:A,'Sheet 2'!B:B)","v":0.02},0,null,0.01,0]
["000499",0,"PG","000499 - CREAM - SUBSTITUTE, INDIVIDUAL PACKET, 3 GRAMS",{"$f":"_xlfn.XLOOKUP(A207,'Sheet 2'!A:A,'Sheet 2'!B:B)","v":7.0000000000000007E-2},0,null,0.01,0]
[{"$f":"LEFT(D208, 6)","v":"000500"},0,"Each","000500 - CARTON - FIBERBOARD, 22\" X 22\" X 36\"",{"$f":"_xlfn.XLOOKUP(A208,'Sheet 2'!A:A,'Sheet 2'!B:B)","v":21.21},0,null,16.5,{"$f":"B208*H208","v":0}]
["000501",0,"Each","000501 - FLIGHT SUIT - CHEST SIZE 36, INSEAM 28 1/2\" (S)",{"$f":"_xlfn.XLOOKUP(A209,'Sheet 2'!A:A,'Sheet 2'!B:B)","v":181.41},0,null,1.81,0]
["000507",0,"Each","000507 - FLIGHT SUIT - CHEST SIZE 36, INSEAM 30 1/2\" (R)",{"$f":"_xlfn.XLOOKUP(A210,'Sheet 2'!A:A,'Sheet 2'!B:B)","v":168.2},0,null,1.88,0]
["000508",0,"Each","000508 - FLIGHT SUIT - CHEST SIZE 36, INSEAM 32 1/2\" (L)",{"$f":"_xlfn.XLOOKUP(A211,'Sheet 2'!A:A,'Sheet 2'!B:B)","v":168.2},0,null,1.94,0]
["000509",0,"Each","000509 - FLIGHT SUIT - CHEST SIZE 38, INSEAM 28 1/2\" (S)",{"$f":"_xlfn.XLOOKUP(A212,'Sheet 2'!A:A,'Sheet 2'!B:B)","v":181.41},0,null,1.88,0]
["000510",0,"Each","000510 - GAUGE - SHARPENING, FIRELINE HANDTOOLS",{"$f":"_xlfn.XLOOKUP(A213,'Sheet 2'!A:A,'Sheet 2'!B:B)","v":44.85},0,null,0.31,0]
["000511",0,"Each","000511 - SHIRT - FIRE, SMALL, LONG",{"$f":"_xlfn.XLOOKUP(A214,'Sheet 2'!A:A,'Sheet 2'!B:B)","v":91.89},0,null,0.88,0]
["000512",0,"Each","000512 - SHIRT - FIRE, XX-LARGE, LONG",{"$f":"_xlfn.XLOOKUP(A215,'Sheet 2'!A:A,'Sheet 2'!B:B)","v":91.89},0,null,1.1299999999999999,0]
["000514",0,"Each","000514 - FLIGHT SUIT - CHEST SIZE 38, INSEAM 32 1/2\" (L)",{"$f":"_xlfn.XLOOKUP(A216,'Sheet 2'!A:A,'Sheet 2'!B:B)","v":181.41},0,null,2,0]
["000515",0,"Each","000515 - WEDGE - FELLING, 6\"",{"$f":"_xlfn.XLOOKUP(A217,'Sheet 2'!A:A,'Sheet 2'!B:B)","v":8.08},0,null,0.25,0]
["000516",0,"Each","000516 - WEDGE - FELLING, 8'', RIFLED",{"$f":"_xlfn.XLOOKUP(A218,'Sheet 2'!A:A,'Sheet 2'!B:B)","v":5.85},0,null,0.56000000000000005,0]
["000517",0,"Each","000517 - FLIGHT SUIT - CHEST SIZE 40, INSEAM 28 1/2\" (S)",{"$f":"_xlfn.XLOOKUP(A219,'Sheet 2'!A:A,'Sheet 2'!B:B)","v":181.41},0,null,1.94,0]
["000518",0,"Each","000518 - FLIGHT SUIT - CHEST SIZE 40, INSEAM 30 1/2\" (R)",{"$f":"_xlfn.XLOOKUP(A220,'Sheet 2'!A:A,'Sheet 2'!B:B)","v":181.41},0,null,2,0]
["000519",0,"Each","000519 - FLIGHT SUIT - CHEST SIZE 40, INSEAM 32 1/2\" (L)",{"$f":"_xlfn.XLOOKUP(A221,'Sheet 2'!A:A,'Sheet 2'!B:B)","v":181.41},0,null,2.06,0]
["000520",0,"Kit","000520 - KIT - HELICOPTER SUPPORT",{"$f":"_xlfn.XLOOKUP(A222,'Sheet 2'!A:A,'Sheet 2'!B:B)","v":5209.72},0,null,246,0]
["000521",0,"Each","000521 - FLIGHT SUIT - CHEST SIZE 42, INSEAM 28 1/2\" (S)",{"$f":"_xlfn.XLOOKUP(A223,'Sheet 2'!A:A,'Sheet 2'!B:B)","v":181.41},0,null,2,0]
["000522",0,"Each","000522 - SHIRT - FIRE, X-SMALL",{"$f":"_xlfn.XLOOKUP(A224,'Sheet 2'!A:A,'Sheet 2'!B:B)","v":91.89},0,null,0.81,0]
["000523",0,"Each","000523 - CARTON - FIBERBOARD, 32\" X 16\" X 17\"",{"$f":"_xlfn.XLOOKUP(A225,'Sheet 2'!A:A,'Sheet 2'!B:B)","v":10.7},0,null,4.5,0]
["000525",0,"Each","000525 - FLIGHT SUIT - CHEST SIZE 42, INSEAM 32 1/2\" (L)",{"$f":"_xlfn.XLOOKUP(A226,'Sheet 2'!A:A,'Sheet 2'!B:B)","v":181.41},0,null,2.13,0]
["000526",0,"Each","000526 - SWIVEL - CARGO, 3000 LB CAPACITY",{"$f":"_xlfn.XLOOKUP(A227,'Sheet 2'!A:A,'Sheet 2'!B:B)","v":329.15},0,null,6,0]
["000527",0,"Each","000527 - FLIGHT SUIT - CHEST SIZE 44, INSEAM 28 1/2\" (S)",{"$f":"_xlfn.XLOOKUP(A228,'Sheet 2'!A:A,'Sheet 2'!B:B)","v":168.2},0,null,2,0]
["000528",0,"Each","000528 - LEAD LINE - 12', 3000 LB CAPACITY",{"$f":"_xlfn.XLOOKUP(A229,'Sheet 2'!A:A,'Sheet 2'!B:B)","v":126.88},0,null,5.5,0]
["000529",0,"Each","000529 - CARTON - FIBERBOARD,24\" X 14\" X 17\"",{"$f":"_xlfn.XLOOKUP(A230,'Sheet 2'!A:A,'Sheet 2'!B:B)","v":8.26},0,null,3.19,0]
["000531",0,"Each","000531 - NET - CARGO,DRAWSTRING, 12' X 12', POLYPROPOLENE, 3000 LB CAPACITY",{"$f":"_xlfn.XLOOKUP(A231,'Sheet 2'!A:A,'Sheet 2'!B:B)","v":604.36},0,null,23.5,0]
["000532",0,"Each","000532 - SCALES - SPRING, 200 LB",{"$f":"_xlfn.XLOOKUP(A232,'Sheet 2'!A:A,'Sheet 2'!B:B)","v":41.55},0,null,4.88,0]
["000533",0,"Spool","000533 - CORD - NYLON SHROUD",{"$f":"_xlfn.XLOOKUP(A233,'Sheet 2'!A:A,'Sheet 2'!B:B)","v":171.23},0,null,9,0]
["000534",0,"Roll","000534 - FLAGGING - PERIMETER, MULTI-COLORED PENNANTS, 100 FT.",{"$f":"_xlfn.XLOOKUP(A234,'Sheet 2'!A:A,'Sheet 2'!B:B)","v":9.16},0,null,1.5,0]
["000535",0,"Roll","000535 - SHEETING - PLASTIC, FLUORESCENT ORANGE, 9'' X 100'",{"$f":"_xlfn.XLOOKUP(A235,'Sheet 2'!A:A,'Sheet 2'!B:B)","v":45.22},{"$f":"E235*B235","v":0},null,4.88,0]
["000536",0,"Each","000536 - BAG - FUEL BOTTLE",{"$f":"_xlfn.XLOOKUP(A236,'Sheet 2'!A:A,'Sheet 2'!B:B)","v":17.84},0,null,0.55000000000000004,0]
["000537",0,"Set","000537 - PANELS - NUMBER 0 THRU 9, 3' X 3',W/GROMMETS,BLACK ON YELLOW",{"$f":"_xlfn.XLOOKUP(A237,'Sheet 2'!A:A,'Sheet 2'!B:B)","v":140.65},0,null,9.25,0]
["000538",0,"Each","000538 - PIN - PANEL, HOLD DOWN, 8\" LONG",{"$f":"_xlfn.XLOOKUP(A238,'Sheet 2'!A:A,'Sheet 2'!B:B)","v":0.89},0,null,0.31,0]
["000539",0,"Each","000539 - FLIGHT SUIT - CHEST SIZE 44, INSEAM 30 1/2\" (R)",{"$f":"_xlfn.XLOOKUP(A239,'Sheet 2'!A:A,'Sheet 2'!B:B)","v":181.41},0,null,2.06,0]
["000542",0,"Each","000542 - PLUG - SPARK,EQUIPMENT SPECIFIC",{"$f":"_xlfn.XLOOKUP(A240,'Sheet 2'!A:A,'Sheet 2'!B:B)","v":4.12},0,null,0.13,0]
["000543",0,"Each","000543 - SIGN - CAUTION HELISPOT, POLYVINYL, 14'' X 10''",{"$f":"_xlfn.XLOOKUP(A241,'Sheet 2'!A:A,'Sheet 2'!B:B)","v":7.91},0,null,0.1,0]
["000544",0,"Each","000544 - CLIPBOARD - ALUMINUM, W/STORAGE, LEGAL SIZE",{"$f":"_xlfn.XLOOKUP(A242,'Sheet 2'!A:A,'Sheet 2'!B:B)","v":28.16},0,null,2.25,0]
["000545",0,"Each","000545 - FLIGHT SUIT - CHEST SIZE 44, INSEAM 32 1/2\" (L)",{"$f":"_xlfn.XLOOKUP(A243,'Sheet 2'!A:A,'Sheet 2'!B:B)","v":181.41},0,null,2.13,0]
["000546",0,"Each","000546 - FLIGHT SUIT - CHEST SIZE 46, INSEAM 28 1/2\" (S)",{"$f":"_xlfn.XLOOKUP(A244,'Sheet 2'!A:A,'Sheet 2'!B:B)","v":181.41},0,null,2,0]
["000547",0,"Each","000547 - FLIGHT SUIT - CHEST SIZE 46, INSEAM 32 1/2\" (L)",{"$f":"_xlfn.XLOOKUP(A245,'Sheet 2'!A:A,'Sheet 2'!B:B)","v":181.41},0,null,2.19,0]
["000548",0,"Each","000548 - FLIGHT SUIT - CHEST SIZE 48, INSEAM 32 1/2\" (L)",{"$f":"_xlfn.XLOOKUP(A246,'Sheet 2'!A:A,'Sheet 2'!B:B)","v":181.41},0,null,2.25,0]
["000551",0,"Each","000551 - ROD - GROUNDING 2 1/2 STAKE W/WIRE",{"$f":"_xlfn.XLOOKUP(A247,'Sheet 2'!A:A,'Sheet 2'!B:B)","v":12.01},0,null,3.13,0]
["000557",0,"Each","000557 - CHEST - ICE, 48 QT",{"$f":"_xlfn.XLOOKUP(A248,'Sheet 2'!A:A,'Sheet 2'!B:B)","v":53.84},0,null,10,0]
["000558",0,"Each","000558 - BULB, LED, A19, 13-15W, DAMP RATED",{"$f":"_xlfn.XLOOKUP(A249,'Sheet 2'!A:A,'Sheet 2'!B:B)","v":6.19},0,null,0.13,0]
["000560",0,"Each","000560 - CORD - EXTENSION, 50', AWG, 12/3 WIRE",{"$f":"_xlfn.XLOOKUP(A250,'Sheet 2'!A:A,'Sheet 2'!B:B)","v":43.11},0,null,4.5,0]
["000562",0,"PG","000562 - LABEL - OXIDIZER 5.1",{"$f":"_xlfn.XLOOKUP(A251,'Sheet 2'!A:A,'Sheet 2'!B:B)","v":2.78},0,null,0.56000000000000005,0]
["000563",0,"Each","000563 - CORD - LIGHT, 50', MULTISOCKET, AWG, 12/3 WIRE",{"$f":"_xlfn.XLOOKUP(A252,'Sheet 2'!A:A,'Sheet 2'!B:B)","v":127.69},0,null,10.130000000000001,0]
["000564",0,"Each","000564 - FUNNEL - 1 QT (.9L), W/STRAINER",{"$f":"_xlfn.XLOOKUP(A253,'Sheet 2'!A:A,'Sheet 2'!B:B)","v":7.57},0,null,0.5,0]
["000565",0,"Bale","000565 - RAG - WIPING",{"$f":"_xlfn.XLOOKUP(A254,'Sheet 2'!A:A,'Sheet 2'!B:B)","v":61.82},0,null,50,0]
["000566",0,"Roll","000566 - RIBBON - FLAGGING, \"ESCAPE ROUTE\", 1\" X 100 YDS",{"$f":"_xlfn.XLOOKUP(A255,'Sheet 2'!A:A,'Sheet 2'!B:B)","v":2.34},0,null,0.38,0]
["000567",0,"Each","000567 - FLIGHT SUIT - CHEST SIZE 48, INSEAM 30 1/2\" (R)",{"$f":"_xlfn.XLOOKUP(A256,'Sheet 2'!A:A,'Sheet 2'!B:B)","v":181.41},0,null,2.19,0]
["000569",0,"Each","000569 - SHIRT - FIRE, MEDIUM, LONG",{"$f":"_xlfn.XLOOKUP(A257,'Sheet 2'!A:A,'Sheet 2'!B:B)","v":91.89},0,null,0.94,0]
["000570",0,"Each","000570 - SHIRT - FIRE, XX-LARGE",{"$f":"_xlfn.XLOOKUP(A258,'Sheet 2'!A:A,'Sheet 2'!B:B)","v":91.89},0,null,1.1299999999999999,0]
["000572",0,"Each","000572 - FLIGHT SUIT - CHEST SIZE 38, INSEAM 30 1/2\" (R)",{"$f":"_xlfn.XLOOKUP(A259,'Sheet 2'!A:A,'Sheet 2'!B:B)","v":181.41},0,null,1.94,0]
["000573",0,"Each","000573 - SQUARE - QUICK, 6\"",{"$f":"_xlfn.XLOOKUP(A260,'Sheet 2'!A:A,'Sheet 2'!B:B)","v":13.25},0,null,7.0000000000000007E-2,0]
["000574",0,"Each","000574 - FLIGHT SUIT - CHEST SIZE 42, INSEAM 30 1/2\" (R)",{"$f":"_xlfn.XLOOKUP(A261,'Sheet 2'!A:A,'Sheet 2'!B:B)","v":181.41},0,null,2.06,0]
["000575",0,"Each","000575 - PLIERS - W/CUTTER, 7\"",{"$f":"_xlfn.XLOOKUP(A262,'Sheet 2'!A:A,'Sheet 2'!B:B)","v":11.37},0,null,0.5,0]
["000576",0,"Each","000576 - FLIGHT SUIT - CHEST SIZE 46, INSEAM 30 1/2\" (R)",{"$f":"_xlfn.XLOOKUP(A263,'Sheet 2'!A:A,'Sheet 2'!B:B)","v":181.41},0,null,2.13,0]
["000577",0,"Each","000577 - SHIRT - FIRE, SMALL",{"$f":"_xlfn.XLOOKUP(A264,'Sheet 2'!A:A,'Sheet 2'!B:B)","v":91.89},0,null,0.81,0]
["000578",0,"Each","000578 - SHIRT - FIRE, MEDIUM",{"$f":"_xlfn.XLOOKUP(A265,'Sheet 2'!A:A,'Sheet 2'!B:B)","v":91.89},0,null,0.94,0]
["000579",0,"Each","000579 - SHIRT - FIRE, LARGE",{"$f":"_xlfn.XLOOKUP(A266,'Sheet 2'!A:A,'Sheet 2'!B:B)","v":91.89},0,null,1,0]
["000580",0,"Each","000580 - SHIRT - FIRE, X-LARGE",{"$f":"_xlfn.XLOOKUP(A267,'Sheet 2'!A:A,'Sheet 2'!B:B)","v":91.89},0,null,1,0]
["000586",0,"Each","000586 - LADDER - STEP, 8 FT, FIBERGLASS",{"$f":"_xlfn.XLOOKUP(A268,'Sheet 2'!A:A,'Sheet 2'!B:B)","v":136.02000000000001},0,null,35,0]
["000587",0,"Each","000587 - DRIVER- FENCE POST, 2.9\" MIN OPENING",{"$f":"_xlfn.XLOOKUP(A269,'Sheet 2'!A:A,'Sheet 2'!B:B)","v":63.75},0,null,6.56,0]
["000588",0,"Each","000588 - TANK, COLLAPSIBLE - 1000 GL (3785.4L), FREE STANDING 40'' DEPTH, OPENING 140''",{"$f":"_xlfn.XLOOKUP(A270,'Sheet 2'!A:A,'Sheet 2'!B:B)","v":711.73},0,null,51.2,0]
["000589",0,"Each","000589 - TANK, COLLAPSIBLE - 1500 GL (5678.1L), FREE STANDING 39\" DEPTH, OPENING 158\"",{"$f":"_xlfn.XLOOKUP(A271,'Sheet 2'!A:A,'Sheet 2'!B:B)","v":713.64},0,null,58,0]
[{"$f":"LEFT(D272, 6)","v":"000591"},0,"Each","000591 - PLACARD - DANGEROUS 4, 10.75\" X 10.75\"",{"$f":"_xlfn.XLOOKUP(A272,'Sheet 2'!A:A,'Sheet 2'!B:B)","v":0.73},0,null,0.75,{"$f":"B272*H272","v":0}]
["000592",0,"PG","000592 - LABEL - FLAMMABLE GAS 2",{"$f":"_xlfn.XLOOKUP(A273,'Sheet 2'!A:A,'Sheet 2'!B:B)","v":3.81},0,null,0.38,0]
["000593",0,"PG","000593 - LABEL - FLAMMABLE LIQUID 3",{"$f":"_xlfn.XLOOKUP(A274,'Sheet 2'!A:A,'Sheet 2'!B:B)","v":2.61},0,null,0.25,0]
["000594",0,"PG","000594 - LABEL - FLAMMABLE SOLID 4",{"$f":"_xlfn.XLOOKUP(A275,'Sheet 2'!A:A,'Sheet 2'!B:B)","v":3.84},0,null,0.25,0]
["000595",0,"PG","000595 - LABEL - 'EXPLOSIVE 1.4G''",{"$f":"_xlfn.XLOOKUP(A276,'Sheet 2'!A:A,'Sheet 2'!B:B)","v":9.98},0,null,0.25,0]
["000596",0,"PG","000596 - LABEL - NON-FLAMMABLE GAS 2",{"$f":"_xlfn.XLOOKUP(A277,'Sheet 2'!A:A,'Sheet 2'!B:B)","v":3.27},0,null,0.25,0]
["000597",0,"Each","000597 - LINER - BACKPACK BAG W/O COUPLINGS",{"$f":"_xlfn.XLOOKUP(A278,'Sheet 2'!A:A,'Sheet 2'!B:B)","v":9.2899999999999991},0,null,0.88,0]
["000598",0,"Each","000598 - HANDTRUCK - W/LARGE WHEELS",{"$f":"_xlfn.XLOOKUP(A279,'Sheet 2'!A:A,'Sheet 2'!B:B)","v":101.92},0,null,26.56,0]
["000599",0,"Each","000599 - PLUG - SPARK, MARK 3,14MM",{"$f":"_xlfn.XLOOKUP(A280,'Sheet 2'!A:A,'Sheet 2'!B:B)","v":3.26},0,null,0.19,0]
["000604",0,"Each","000604 - ROPE - STARTER ASSEMBLY",{"$f":"_xlfn.XLOOKUP(A281,'Sheet 2'!A:A,'Sheet 2'!B:B)","v":0.93},0,null,0.03,0]
["000606",0,"Each","000606 - CAN - GASOLINE,SAFETY,5GL,DOT APPROVED STYLE JERRI CAN",{"$f":"_xlfn.XLOOKUP(A282,'Sheet 2'!A:A,'Sheet 2'!B:B)","v":214.65},0,null,12.31,0]
["000607",0,"Each","000607 - CAN - FUEL, SAFETY TRANSPORT, 5GL",{"$f":"_xlfn.XLOOKUP(A283,'Sheet 2'!A:A,'Sheet 2'!B:B)","v":329.95},0,null,12.31,0]
["000609",0,"Each","000609 - POST - FENCE,NOTCHED FIBERGLASS/METAL,60\"-72\"",{"$f":"_xlfn.XLOOKUP(A284,'Sheet 2'!A:A,'Sheet 2'!B:B)","v":8.2200000000000006},0,null,6.94,0]
["000610",0,"Each","000610 - TIE - ONE-WAY SELF-LOCKING, 7\" LONG",{"$f":"_xlfn.XLOOKUP(A285,'Sheet 2'!A:A,'Sheet 2'!B:B)","v":0.04},0,null,0.06,0]
["000611",0,"Each","000611 - GASKET - 3\", FOR FEMALE QUICK COUPLER",{"$f":"_xlfn.XLOOKUP(A286,'Sheet 2'!A:A,'Sheet 2'!B:B)","v":1.06},0,null,0.05,0]
["000613",0,"Length","000613 - HOSE - SUCTION, 3\" X 10', FEMALE QUICK COUPLER & MALE QUICK ADAPTER",{"$f":"_xlfn.XLOOKUP(A287,'Sheet 2'!A:A,'Sheet 2'!B:B)","v":121.55},0,null,15,0]
["000615",0,"Each","000615 - FILE – EXPANDO, MULTI-POCKET, LETTER SIZE",{"$f":"_xlfn.XLOOKUP(A288,'Sheet 2'!A:A,'Sheet 2'!B:B)","v":20.92},0,null,1,0]
["000616",0,"Each","000616 - STRAINER - 3\"",{"$f":"_xlfn.XLOOKUP(A289,'Sheet 2'!A:A,'Sheet 2'!B:B)","v":38.119999999999997},0,null,4,0]
["000618",0,"Each","000618 - VALVE - WYE, GATED, 2 1/2\" NH-F x 1 1/2\" NH-M x 1 1/2\" NH-M",{"$f":"_xlfn.XLOOKUP(A290,'Sheet 2'!A:A,'Sheet 2'!B:B)","v":286.44},0,null,5.44,0]
["000619",0,"Roll","000619 - TAPE - ELECTRICAL, PLASTIC, 3/4\" X 36 YD",{"$f":"_xlfn.XLOOKUP(A291,'Sheet 2'!A:A,'Sheet 2'!B:B)","v":3.79},0,null,0.19,0]
["000620",0,"Each","000620 - WRENCH - ADJUSTABLE, 8\"",{"$f":"_xlfn.XLOOKUP(A292,'Sheet 2'!A:A,'Sheet 2'!B:B)","v":13.23},0,null,0.56000000000000005,0]
["000621",0,"Length","000621 - HOSE - COLLAPSIBLE, 3\" X 25', W/FEMALE QUICK COUPLER & MALE QUICK ADAPTER",{"$f":"_xlfn.XLOOKUP(A293,'Sheet 2'!A:A,'Sheet 2'!B:B)","v":123.97},0,null,13,0]
["000627",0,"Each","000627 - NOZZLE - FIRE FOAM, 3/4\" NH, 8 GPM, PLASTIC",{"$f":"_xlfn.XLOOKUP(A294,'Sheet 2'!A:A,'Sheet 2'!B:B)","v":19.18},0,null,0.38,0]
["000628",0,"Each","000628 - NOZZLE - FIRE FOAM, 1 1/2\" NH, 16 GPM, PLASTIC",{"$f":"_xlfn.XLOOKUP(A295,'Sheet 2'!A:A,'Sheet 2'!B:B)","v":25.58},0,null,0.88,0]
["000629",0,"Each","000629 - NOZZLE - FIRE FOAM, 1 1/2\" NH, 30 GPM, PLASTIC",{"$f":"_xlfn.XLOOKUP(A296,'Sheet 2'!A:A,'Sheet 2'!B:B)","v":31},0,null,1.1299999999999999,0]
["000635",0,"Each","000635 - TIP - NOZZLE, FOG, 2-4 GPM NH, FOR 1'' NOZZLE",{"$f":"_xlfn.XLOOKUP(A297,'Sheet 2'!A:A,'Sheet 2'!B:B)","v":27.11},0,null,0.44,0]
["000636",0,"Each","000636 - TIP - NOZZLE, FOG, 5-7 GPM NH, FOR 1'' NOZZLE",{"$f":"_xlfn.XLOOKUP(A298,'Sheet 2'!A:A,'Sheet 2'!B:B)","v":35.44},0,null,0.44,0]
["000637",0,"Each","000637 - TIP - NOZZLE, STRAIGHT STREAM, 3/16\" NH, FOR 1\" NOZZLE",{"$f":"_xlfn.XLOOKUP(A299,'Sheet 2'!A:A,'Sheet 2'!B:B)","v":9.84},{"$f":"E299*B299","v":0},null,0.25,0]
["000638",0,"Each","000638 - TIP - NOZZLE, STRAIGHT STREAM, 3/8\" NH, FOR 1\" NOZZLE",{"$f":"_xlfn.XLOOKUP(A300,'Sheet 2'!A:A,'Sheet 2'!B:B)","v":17.34},0,null,0.25,0]
["000639",0,"Each","000639 - TAPE - CORRECTION",{"$f":"_xlfn.XLOOKUP(A301,'Sheet 2'!A:A,'Sheet 2'!B:B)","v":3.42},0,null,0.13,0]
["000640",0,"Kit","000640 - KIT - BODY FLUIDS BARRIER",{"$f":"_xlfn.XLOOKUP(A302,'Sheet 2'!A:A,'Sheet 2'!B:B)","v":42.62},0,null,1,0]
["000643",0,"Each","000643 - CARTON - FIBERBOARD, 41\" X 15\" X 19\"",{"$f":"_xlfn.XLOOKUP(A303,'Sheet 2'!A:A,'Sheet 2'!B:B)","v":11.53},0,null,14.19,0]
["000645",0,"Each","000645 - CARTON - FIBERBOARD,42\" X 13 1/2\" X 14\"",{"$f":"_xlfn.XLOOKUP(A304,'Sheet 2'!A:A,'Sheet 2'!B:B)","v":9.3800000000000008},0,null,3.5,0]
["000646",0,"Each","000646 - MARKER - GROUND, 9\" X 10'  (FOR NFES 0650)",{"$f":"_xlfn.XLOOKUP(A305,'Sheet 2'!A:A,'Sheet 2'!B:B)","v":1.61},0,null,0.53,0]
["000647",0,"Each","000647 - ADAPTER - QUICK, 3'' MALE TO 3'' MALE NPT THREAD",{"$f":"_xlfn.XLOOKUP(A306,'Sheet 2'!A:A,'Sheet 2'!B:B)","v":22.66},0,null,1.17,0]
["000649",0,"Each","000649 - COUPLER - QUICK, 3\" FEMALE TO 3\" MALE NPT THREAD",{"$f":"_xlfn.XLOOKUP(A307,'Sheet 2'!A:A,'Sheet 2'!B:B)","v":30.84},0,null,1.52,0]
["000650",0,"Kit","000650 - KIT - EVACUATION, S.K.E.D.",{"$f":"_xlfn.XLOOKUP(A308,'Sheet 2'!A:A,'Sheet 2'!B:B)","v":1250.1300000000001},0,null,51.31,0]
["000652",0,"Length","000652 - HOSE - SUCTION,W/STRAINER OR FOOTVALVE(PUMP SPECIFIC)",{"$f":"_xlfn.XLOOKUP(A309,'Sheet 2'!A:A,'Sheet 2'!B:B)","v":56.51},0,null,9,0]
["000656",0,"Each","000656 - STAPLER - DESKTOP,LARGE CAPACITY,60 SHEETS MAXIMUM",{"$f":"_xlfn.XLOOKUP(A310,'Sheet 2'!A:A,'Sheet 2'!B:B)","v":27.35},0,null,1.81,0]
["000657",0,"Box","000657 - STAPLES - LARGE CAPACITY STAPLER(NFES 0656)",{"$f":"_xlfn.XLOOKUP(A311,'Sheet 2'!A:A,'Sheet 2'!B:B)","v":6.01},0,null,0.31,0]
["000659",0,"Each","000659 - RAKE - COLLAPSIBLE",{"$f":"_xlfn.XLOOKUP(A312,'Sheet 2'!A:A,'Sheet 2'!B:B)","v":114.16},0,null,3.31,0]
["000661",0,"Each","000661 - TANK, FOLDING - 1000 GL (3785.4L) W/FRAME",{"$f":"_xlfn.XLOOKUP(A313,'Sheet 2'!A:A,'Sheet 2'!B:B)","v":837.6},0,null,110.38,0]
["000662",0,"Each","000662 - SPLINT - SPLINE",{"$f":"_xlfn.XLOOKUP(A314,'Sheet 2'!A:A,'Sheet 2'!B:B)","v":176.17},0,null,10.19,0]
["000664",0,"Each","000664 - TANK, FOLDING - 1500 GL (5678.1L), W/FRAME",{"$f":"_xlfn.XLOOKUP(A315,'Sheet 2'!A:A,'Sheet 2'!B:B)","v":908.68},0,null,145,0]
["000666",0,"Each","000666 - HOSE ROLLER - HAND OPERATED, 3/4\" SYNTHETIC HOSE",{"$f":"_xlfn.XLOOKUP(A316,'Sheet 2'!A:A,'Sheet 2'!B:B)","v":44.2},0,null,1.38,0]
["000668",0,"Each","000668 - TANK, COLLAPSIBLE - 1800 GL (6813.7L), FREE STANDING 54\" DEPTH, OPENING 128\"",{"$f":"_xlfn.XLOOKUP(A317,'Sheet 2'!A:A,'Sheet 2'!B:B)","v":781.55},0,null,82,0]
["000674",0,"Each","000674 - PACK,FIRELINE - COMPLETE,BLUE",{"$f":"_xlfn.XLOOKUP(A318,'Sheet 2'!A:A,'Sheet 2'!B:B)","v":147.29},0,null,3.69,0]
["000676",0,"Each","000676 - FAUCETS - COFFEE URN, CHROME, 1/2\" NPSH",{"$f":"_xlfn.XLOOKUP(A319,'Sheet 2'!A:A,'Sheet 2'!B:B)","v":61.51},0,null,1.1299999999999999,0]
["000679",0,"Each","000679 - PACK - PERSONAL GEAR, M-2014",{"$f":"_xlfn.XLOOKUP(A320,'Sheet 2'!A:A,'Sheet 2'!B:B)","v":112.17},0,null,4,0]
["000681",0,"Each","000681 - WRENCH - SOCKET, 13/16'' DEEP, 1/2'', DRIVE",{"$f":"_xlfn.XLOOKUP(A321,'Sheet 2'!A:A,'Sheet 2'!B:B)","v":10.31},0,null,0.44,0]
["000684",0,"Each","000684 - GUN - GREASE,CARTRIDGE,20CC W/GREASE",{"$f":"_xlfn.XLOOKUP(A322,'Sheet 2'!A:A,'Sheet 2'!B:B)","v":17.27},0,null,0.31,0]
["000685",0,"Each","000685 - REDUCER - 3\" F-NPSH TO 2 1/2\" M-NH",{"$f":"_xlfn.XLOOKUP(A323,'Sheet 2'!A:A,'Sheet 2'!B:B)","v":83.62},0,null,0.88,0]
["000687",0,"Box","000687 - FLARE - FIRE, 'STUBBY', 1 1/2\" X 2\", PISTOL LAUNCHED",{"$f":"_xlfn.XLOOKUP(A324,'Sheet 2'!A:A,'Sheet 2'!B:B)","v":88.02},0,null,1.8,0]
["000689",0,"Each","000689 - CARTRIDGE - #7 GREY, BLANK, 22 CALIBER, SMALL",{"$f":"_xlfn.XLOOKUP(A325,'Sheet 2'!A:A,'Sheet 2'!B:B)","v":0.18},0,null,0,0]
["000690",0,"Each","000690 - FLARE - FIRE, 'CHUBBIE', 2 1/2\" X 2\", HAND LAUNCHED",{"$f":"_xlfn.XLOOKUP(A326,'Sheet 2'!A:A,'Sheet 2'!B:B)","v":10.050000000000001},0,null,0.48,0]
["000692",0,"Each","000692 - BERM - CONTAINMENT, 55 GL, (1-4 DRUMS)",{"$f":"_xlfn.XLOOKUP(A327,'Sheet 2'!A:A,'Sheet 2'!B:B)","v":332.59},0,null,27,0]
["000693",0,"Each","000693 - BERM - SPILL CONTAINMENT, PORTABLE PUMP",{"$f":"_xlfn.XLOOKUP(A328,'Sheet 2'!A:A,'Sheet 2'!B:B)","v":50.62},0,null,4,0]
["000694",0,"Each","000694 - WASHER - 5/16\"",{"$f":"_xlfn.XLOOKUP(A329,'Sheet 2'!A:A,'Sheet 2'!B:B)","v":0.08},0,null,0.01,0]
["000706",0,"Each","000706 - NOZZLE - FLEXIBLE, POUR, 1\" X 9\" (FOR NFES 0606)",{"$f":"_xlfn.XLOOKUP(A330,'Sheet 2'!A:A,'Sheet 2'!B:B)","v":8.69},0,null,0.45,0]
["000707",0,"Each","000707 - AXE - SINGLE BIT, 4 LB, W/SHEATH",{"$f":"_xlfn.XLOOKUP(A331,'Sheet 2'!A:A,'Sheet 2'!B:B)","v":52.24},0,null,5.0599999999999996,0]
["000710",0,"Each","000710 - COUPLING - DOUBLE FEMALE, 1'' NPSH (11 1/2 TPI)",{"$f":"_xlfn.XLOOKUP(A332,'Sheet 2'!A:A,'Sheet 2'!B:B)","v":19.61},0,null,0.19,0]
["000712",0,"Each","000712 - TOWEL - WATERLESS, CLEANSING, MINIMUM 12\" X 30\"",{"$f":"_xlfn.XLOOKUP(A333,'Sheet 2'!A:A,'Sheet 2'!B:B)","v":2.0699999999999998},0,null,0.13,0]
["000714",0,"Each","000714 - WRENCH - BALL POINT, HEX, L-KEY,6MM",{"$f":"_xlfn.XLOOKUP(A334,'Sheet 2'!A:A,'Sheet 2'!B:B)","v":2.0699999999999998},0,null,0.13,0]
["000718",0,"Each","000718 - HEADLAMP - FIREFIGHTERS, LED",{"$f":"_xlfn.XLOOKUP(A335,'Sheet 2'!A:A,'Sheet 2'!B:B)","v":57.76},0,null,0.65,0]
[{"$f":"LEFT(D336, 6)","v":"000720"},0,"Each","000720 - APPLICATOR - WATER, 2-PIECE, 3/4\" NH, 48\" LONG",{"$f":"_xlfn.XLOOKUP(A336,'Sheet 2'!A:A,'Sheet 2'!B:B)","v":25.47},0,null,1.75,{"$f":"B336*H336","v":0}]
["000721",0,"Each","000721 - GASKET - GARDEN HOSE, 3/4\"",{"$f":"_xlfn.XLOOKUP(A337,'Sheet 2'!A:A,'Sheet 2'!B:B)","v":0.28000000000000003},0,null,0.06,0]
["000725",0,"Each","000725 - FORM,FS6400-17 - TAG, WARNING",{"$f":"_xlfn.XLOOKUP(A338,'Sheet 2'!A:A,'Sheet 2'!B:B)","v":0.14000000000000001},0,null,0.06,0]
["000727",0,"Each","000727 - BANDS - RUBBER, HOSE, 1 3/8\" X 9 1/2\"",{"$f":"_xlfn.XLOOKUP(A339,'Sheet 2'!A:A,'Sheet 2'!B:B)","v":0.3},0,null,0.13,0]
["000729",0,"Each","000729 - INSTRUCTIONS - SPRINKLER KIT",{"$f":"_xlfn.XLOOKUP(A340,'Sheet 2'!A:A,'Sheet 2'!B:B)","v":0.65},0,null,0,0]
["000730",0,"Each","000730 - POST, U CHANNEL - SIGN",{"$f":"_xlfn.XLOOKUP(A341,'Sheet 2'!A:A,'Sheet 2'!B:B)","v":17.61},0,null,6,0]
["000731",0,"Each","000731 - TEE - HOSELINE, 1 1/2\" NH-F X 1 1/2\" NH-M X 1\" NPSH-M W/CAP",{"$f":"_xlfn.XLOOKUP(A342,'Sheet 2'!A:A,'Sheet 2'!B:B)","v":45.76},0,null,0.38,0]
["000732",0,"Each","000732 - CAP - TEE, 1\" W/CHAIN, NPSH-F",{"$f":"_xlfn.XLOOKUP(A343,'Sheet 2'!A:A,'Sheet 2'!B:B)","v":15.75},0,null,0.13,0]
["000733",0,"Each","000733 - REDUCER - 1'' NPSH-F (11 1/2 TPI) TO 3/4'' NH-M (11 1/2 TPI)",{"$f":"_xlfn.XLOOKUP(A344,'Sheet 2'!A:A,'Sheet 2'!B:B)","v":10.86},0,null,0.19,0]
["000735",0,"Each","000735 - TIP - APPLICATOR, 3 GPM",{"$f":"_xlfn.XLOOKUP(A345,'Sheet 2'!A:A,'Sheet 2'!B:B)","v":46.18},0,null,0.25,0]
["000736",0,"Each","000736 - TIP - APPLICATOR, 15 GPM",{"$f":"_xlfn.XLOOKUP(A346,'Sheet 2'!A:A,'Sheet 2'!B:B)","v":10.02},0,null,0.31,0]
["000737",0,"Each","000737 - TIP - NOZZLE, STRAIGHT STREAM, 1/4\" NH, FOR 1\" NOZZLE",{"$f":"_xlfn.XLOOKUP(A347,'Sheet 2'!A:A,'Sheet 2'!B:B)","v":15.7},0,null,0.25,0]
["000741",0,"Each","000741 - CONTAINER - FUEL/OIL, 2 COMPARTMENT",{"$f":"_xlfn.XLOOKUP(A348,'Sheet 2'!A:A,'Sheet 2'!B:B)","v":43.9},0,null,2.25,0]
["000742",0,"Each","000742 - GASKET - HOSE, 2\"",{"$f":"_xlfn.XLOOKUP(A349,'Sheet 2'!A:A,'Sheet 2'!B:B)","v":1.24},0,null,0.06,0]
["000743",0,"Each","000743 - GASKET - HOSE, 1\", RUBBER",{"$f":"_xlfn.XLOOKUP(A350,'Sheet 2'!A:A,'Sheet 2'!B:B)","v":0.42},0,null,0.06,0]
["000744",0,"Each","000744 - PACKSACK - WATERPROOF, W/STRAPS",{"$f":"_xlfn.XLOOKUP(A351,'Sheet 2'!A:A,'Sheet 2'!B:B)","v":92.99},0,null,2.13,0]
["000746",0,"Each","000746 - BOLT - 5/16\" X 2 1/8\"\"",{"$f":"_xlfn.XLOOKUP(A352,'Sheet 2'!A:A,'Sheet 2'!B:B)","v":0.41},0,null,0.02,0]
["000747",0,"Pound","000747 - SCREWS - DRYWALL, 2 1/2\"",{"$f":"_xlfn.XLOOKUP(A353,'Sheet 2'!A:A,'Sheet 2'!B:B)","v":6.28},0,null,1.05,0]
["000748",0,"Pound","000748 - SCREWS - DRYWALL, 1 5/8\"",{"$f":"_xlfn.XLOOKUP(A354,'Sheet 2'!A:A,'Sheet 2'!B:B)","v":6.14},0,null,1.05,0]
["000751",0,"Each","000751 - PLUG - SPARK, PUMP, 18MM",{"$f":"_xlfn.XLOOKUP(A355,'Sheet 2'!A:A,'Sheet 2'!B:B)","v":5.29},0,null,0.13,0]
["000758",0,"Each","000758 - SOCK - GRAVITY, 9\" DIAMETER, 1 1/2\" NH-M",{"$f":"_xlfn.XLOOKUP(A356,'Sheet 2'!A:A,'Sheet 2'!B:B)","v":84.87},0,null,1.63,0]
["000760",0,"Kit","000760 - KIT - OFFICE SUPPLIES, INCIDENT BASE",{"$f":"_xlfn.XLOOKUP(A357,'Sheet 2'!A:A,'Sheet 2'!B:B)","v":769.78},0,null,36,0]
["000762",0,"Roll","000762 - TAPE-GAFFERS, BLACK, 2\" X 50 YD, 11 MIL, 3\" CORE",{"$f":"_xlfn.XLOOKUP(A358,'Sheet 2'!A:A,'Sheet 2'!B:B)","v":19.88},0,null,0.13,0]
["000763",0,"Roll","000763 - TAPE - PAINTERS, BLUE, 2\"",{"$f":"_xlfn.XLOOKUP(A359,'Sheet 2'!A:A,'Sheet 2'!B:B)","v":9.06},0,null,0.6,0]
["000764",0,"Pad","000764 - PAD - RULED TABLET",{"$f":"_xlfn.XLOOKUP(A360,'Sheet 2'!A:A,'Sheet 2'!B:B)","v":2.64},0,null,0.88,0]
["000765",0,"Each","000765 - FOLDER - FILE, 9 1/2\" X 12\"",{"$f":"_xlfn.XLOOKUP(A361,'Sheet 2'!A:A,'Sheet 2'!B:B)","v":0.23},0,null,0.13,0]
["000766",0,"Each","000766 - ENVELOPE - BROWN, PLAIN 9 1/4\" X 12\"",{"$f":"_xlfn.XLOOKUP(A362,'Sheet 2'!A:A,'Sheet 2'!B:B)","v":0.18},0,null,0.06,0]
["000767",0,"Each","000767 - PENCIL - MECHANICAL",{"$f":"_xlfn.XLOOKUP(A363,'Sheet 2'!A:A,'Sheet 2'!B:B)","v":2.17},{"$f":"E363*B363","v":0},null,0.06,0]
["000768",0,"Set","000768 - MARKER - SHARPIE, CHISEL TIP,  4 COLOR",{"$f":"_xlfn.XLOOKUP(A364,'Sheet 2'!A:A,'Sheet 2'!B:B)","v":3.48},0,null,0.13,0]
["000769",0,"Roll","000769 - TAPE - CELLULOSE, W/DISPENSER",{"$f":"_xlfn.XLOOKUP(A365,'Sheet 2'!A:A,'Sheet 2'!B:B)","v":1.93},0,null,0.06,0]
["000770",0,"Roll","000770 - TAPE - MASKING, 1\"",{"$f":"_xlfn.XLOOKUP(A366,'Sheet 2'!A:A,'Sheet 2'!B:B)","v":2.5099999999999998},0,null,0.31,0]
["000771",0,"Each","000771 - CLIPBOARD - 9\" X 12 1/2\"",{"$f":"_xlfn.XLOOKUP(A367,'Sheet 2'!A:A,'Sheet 2'!B:B)","v":3.96},0,null,0.25,0]
["000773",0,"Box","000773 - STAPLES - FOR DESK TYPE STAPLER",{"$f":"_xlfn.XLOOKUP(A368,'Sheet 2'!A:A,'Sheet 2'!B:B)","v":3.33},0,null,0.38,0]
["000774",0,"Pad","000774 - PAD - COLUMNAR",{"$f":"_xlfn.XLOOKUP(A369,'Sheet 2'!A:A,'Sheet 2'!B:B)","v":2.63},0,null,0.56999999999999995,0]
["000776",0,"Box","000776 - CLIP - PAPER, APPROX 100 PER BG OR BX",{"$f":"_xlfn.XLOOKUP(A370,'Sheet 2'!A:A,'Sheet 2'!B:B)","v":1.33},0,null,0.13,0]
["000781",0,"Each","000781 - PORTFOLIO - DOUBLE POCKET",{"$f":"_xlfn.XLOOKUP(A371,'Sheet 2'!A:A,'Sheet 2'!B:B)","v":0.79},0,null,0.13,0]
["000783",0,"Each","000783 - RULER - 12\"",{"$f":"_xlfn.XLOOKUP(A372,'Sheet 2'!A:A,'Sheet 2'!B:B)","v":2.16},0,null,0.06,0]
["000784",0,"Box","000784 - CLIP - BINDER, MEDIUM",{"$f":"_xlfn.XLOOKUP(A373,'Sheet 2'!A:A,'Sheet 2'!B:B)","v":3.02},0,null,0.31,0]
["000785",0,"Box","000785 - TACK - THUMB",{"$f":"_xlfn.XLOOKUP(A374,'Sheet 2'!A:A,'Sheet 2'!B:B)","v":1.1000000000000001},0,null,0.19,0]
["000786",0,"Package","000786 - BANDS - RUBBER, ASSORTED",{"$f":"_xlfn.XLOOKUP(A375,'Sheet 2'!A:A,'Sheet 2'!B:B)","v":2.69},0,null,0.38,0]
["000787",0,"Each","000787 - SHEARS - OFFICE, 7\" TO 9\"",{"$f":"_xlfn.XLOOKUP(A376,'Sheet 2'!A:A,'Sheet 2'!B:B)","v":23.41},0,null,0.31,0]
["000790",0,"Each","000790 - BOX - INTERFILE, LEGAL AND LETTER SIZE",{"$f":"_xlfn.XLOOKUP(A377,'Sheet 2'!A:A,'Sheet 2'!B:B)","v":4.13},0,null,1.81,0]
["000791",0,"PG","000791 - LEAD - FOR MECHANICAL PENCILS",{"$f":"_xlfn.XLOOKUP(A378,'Sheet 2'!A:A,'Sheet 2'!B:B)","v":0.66},0,null,0.01,0]
["000795",0,"Each","000795 - NET - CARGO,LIGHTWEIGHT,300LB CAP,10'X10',1/8'' BRAIDED CORD",{"$f":"_xlfn.XLOOKUP(A379,'Sheet 2'!A:A,'Sheet 2'!B:B)","v":359.74},0,null,3,0]
["000800",0,"Kit","000800 - KIT - PLANNING SECTION",{"$f":"_xlfn.XLOOKUP(A380,'Sheet 2'!A:A,'Sheet 2'!B:B)","v":435.08},0,null,126.5,0]
["000801",0,"Each","000801 - TAG - UNLEADED GASOLINE, UN1203, FLAMMABLE, RED",{"$f":"_xlfn.XLOOKUP(A381,'Sheet 2'!A:A,'Sheet 2'!B:B)","v":1.28},0,null,0.06,0]
["000802",0,"Each","000802 - TAG - DIESEL,UN1202,FLAMMABLE,GREEN",{"$f":"_xlfn.XLOOKUP(A382,'Sheet 2'!A:A,'Sheet 2'!B:B)","v":1.1499999999999999},0,null,0.06,0]
["000803",0,"Each","000803 - TAG - DRIP TORCH FUEL,UN1993,FLAMMABLE,BLUE",{"$f":"_xlfn.XLOOKUP(A383,'Sheet 2'!A:A,'Sheet 2'!B:B)","v":1.19},0,null,0.06,0]
["000805",0,"Each","000805 - TAG - 2 STROKE MIX,UN1203,FLAMMABLE,YELLOW",{"$f":"_xlfn.XLOOKUP(A384,'Sheet 2'!A:A,'Sheet 2'!B:B)","v":1.48},0,null,0.06,0]
["000814",0,"Each","000814 - STEREOSCOPE - POCKET",{"$f":"_xlfn.XLOOKUP(A385,'Sheet 2'!A:A,'Sheet 2'!B:B)","v":189.61},0,null,0.44,0]
["000823",0,"Each","000823 - CARTON - FIBERBOARD, 15\" X 15\" X 10\"",{"$f":"_xlfn.XLOOKUP(A386,'Sheet 2'!A:A,'Sheet 2'!B:B)","v":5.5},0,null,1.1200000000000001,0]
["000824",0,"Each","000824 - BLOCK - WOOD, 2\" X 4\" X 6\"",{"$f":"_xlfn.XLOOKUP(A387,'Sheet 2'!A:A,'Sheet 2'!B:B)","v":0.71},0,null,0,0]
["000825",0,"Each","000825 - STAKES - TENT, METAL",{"$f":"_xlfn.XLOOKUP(A388,'Sheet 2'!A:A,'Sheet 2'!B:B)","v":3.18},0,null,0.94,0]
["000826",0,"Set","000826 - LABELS - IMT",{"$f":"_xlfn.XLOOKUP(A389,'Sheet 2'!A:A,'Sheet 2'!B:B)","v":2.4300000000000002},0,null,0,0]
["000828",0,"Each","000828 - SCREWDRIVER - FLAT TIP, 7/32'' X 10''",{"$f":"_xlfn.XLOOKUP(A390,'Sheet 2'!A:A,'Sheet 2'!B:B)","v":1.49},0,null,0.19,0]
["000829",0,"Box","000829 - FOLDER - FILE, STANDARD, 1/5 CUT",{"$f":"_xlfn.XLOOKUP(A391,'Sheet 2'!A:A,'Sheet 2'!B:B)","v":17.71},0,null,6,0]
["000832",0,"Box","000832 - FOLDER - HANGING FILE WITH 1/5 CUT PLASTIC TABS",{"$f":"_xlfn.XLOOKUP(A392,'Sheet 2'!A:A,'Sheet 2'!B:B)","v":17.489999999999998},0,null,3.6,0]
["000833",0,"Each","000833 - BOX - HANGING FILE - 12 GL, 21 1/2\" X 15\" X 12 1/2\"",{"$f":"_xlfn.XLOOKUP(A393,'Sheet 2'!A:A,'Sheet 2'!B:B)","v":25.15},0,null,5.15,0]
["000835",0,"Each","000835 - VALVE - SHUT OFF, BRASS, BALL, 3/4\" NH",{"$f":"_xlfn.XLOOKUP(A394,'Sheet 2'!A:A,'Sheet 2'!B:B)","v":21.61},0,null,0.19,0]
["000856",0,"Each","000856 - COUPLING - DOUBLE MALE 1 1/2\" NH-M (9-TPI)",{"$f":"_xlfn.XLOOKUP(A395,'Sheet 2'!A:A,'Sheet 2'!B:B)","v":15.82},0,null,1,0]
["000857",0,"Each","000857 - COUPLING - DOUBLE FEMALE 1 1/2\" NH-F (9 TPI)",{"$f":"_xlfn.XLOOKUP(A396,'Sheet 2'!A:A,'Sheet 2'!B:B)","v":26.76},0,null,1.19,0]
["000863",0,"PG","000863 - FORM - EMERGENCY EQUIPMENT USE INVOICE, OF-286",{"$f":"_xlfn.XLOOKUP(A397,'Sheet 2'!A:A,'Sheet 2'!B:B)","v":40.35},0,null,3.13,0]
["000866",0,"PG","000866 - FORM - INCIDENT TIME REPORT, OF-288",{"$f":"_xlfn.XLOOKUP(A398,'Sheet 2'!A:A,'Sheet 2'!B:B)","v":26.66},0,null,3.88,0]
["000871",0,"Each","000871 - INSTRUCTIONS - PMS 460, HIGH PRESSURE PORTABLE PUMP",{"$f":"_xlfn.XLOOKUP(A399,'Sheet 2'!A:A,'Sheet 2'!B:B)","v":6.4},0,null,0.06,0]
[{"$f":"LEFT(D400, 6)","v":"000872"},0,"Pad","000872 - FORM,OF-297 - EMERGENCY EQUIPMENT SHIFT TICKET, (2024)",{"$f":"_xlfn.XLOOKUP(A400,'Sheet 2'!A:A,'Sheet 2'!B:B)","v":15.77},0,null,0.25,{"$f":"B400*H400","v":0}]
["000875",0,"Each","000875 - WRENCH - COMBINATION, SPARK PLUG, 14MM-18MM",{"$f":"_xlfn.XLOOKUP(A401,'Sheet 2'!A:A,'Sheet 2'!B:B)","v":22.37},0,null,0.4,0]
["000880",0,"Roll","000880 - COVER - PALLET, CLEAR 50\" X 42\" X 76\"",{"$f":"_xlfn.XLOOKUP(A402,'Sheet 2'!A:A,'Sheet 2'!B:B)","v":144.13},0,null,80,0]
["000881",0,"Roll","000881 - WRAP - STRUCTURE PROTECTION, 54\" X 300'",{"$f":"_xlfn.XLOOKUP(A403,'Sheet 2'!A:A,'Sheet 2'!B:B)","v":400.31},0,null,59,0]
["000882",0,"Pound","000882 - NAILS - DUPLEX, DOUBLE HEAD, 16D, 3\"",{"$f":"_xlfn.XLOOKUP(A404,'Sheet 2'!A:A,'Sheet 2'!B:B)","v":3.25},0,null,1.1000000000000001,0]
["000884",0,"Each","000884 - WEDGE - FELLING, 8\", TEXTURED/SMOOTH",{"$f":"_xlfn.XLOOKUP(A405,'Sheet 2'!A:A,'Sheet 2'!B:B)","v":10.58},0,null,0.56000000000000005,0]
["000891",0,"Book","000891 - FORM,SF-261 - CREW TIME REPORT,(5/78)",{"$f":"_xlfn.XLOOKUP(A406,'Sheet 2'!A:A,'Sheet 2'!B:B)","v":8.66},0,null,0.38,0]
["000898",0,"Each","000898 - TAPE - MEASURING, 100'",{"$f":"_xlfn.XLOOKUP(A407,'Sheet 2'!A:A,'Sheet 2'!B:B)","v":40.25},0,null,1.25,0]
["000904",0,"Each","000904 - VALVE - WYE, GATED, BRASS, 3/4\" NH-F X 3/4\" NF-M X 3/4\" NH-M",{"$f":"_xlfn.XLOOKUP(A408,'Sheet 2'!A:A,'Sheet 2'!B:B)","v":24.26},0,null,0.25,0]
["000909",0,"Kit","000909 - WATERBAG ASSEMBLY - 5 GL, M2015 W/PUMP",{"$f":"_xlfn.XLOOKUP(A409,'Sheet 2'!A:A,'Sheet 2'!B:B)","v":140.1},0,null,7,0]
["000910",0,"Kit","000910 - KIT - LOGISTICS SECTION",{"$f":"_xlfn.XLOOKUP(A410,'Sheet 2'!A:A,'Sheet 2'!B:B)","v":694.06},0,null,148.5,0]
["000913",0,"Each","000913 - STAKE - W/CLAMP, SPRINKLER, METAL, 18\" X 1\" X 1\"",{"$f":"_xlfn.XLOOKUP(A411,'Sheet 2'!A:A,'Sheet 2'!B:B)","v":6.88},0,null,0,0]
["000916",0,"Each","000916 - COUPLING - DOUBLE MALE, 1\" NPSH TO 1\" NPSH",{"$f":"_xlfn.XLOOKUP(A412,'Sheet 2'!A:A,'Sheet 2'!B:B)","v":15.22},0,null,0.31,0]
["000925",0,"Each","000925 - SHELTER - FIRE,COMPLETE,M2002",{"$f":"_xlfn.XLOOKUP(A413,'Sheet 2'!A:A,'Sheet 2'!B:B)","v":500.97},0,null,5.19,0]
["000926",0,"Each","000926 - SHELTER - FIRE, M2002",{"$f":"_xlfn.XLOOKUP(A414,'Sheet 2'!A:A,'Sheet 2'!B:B)","v":422.96},0,null,4.95,0]
["000927",0,"Each","000927 - CASE - FIRE SHELTER,M2002,CARRYING",{"$f":"_xlfn.XLOOKUP(A415,'Sheet 2'!A:A,'Sheet 2'!B:B)","v":20.79},0,null,0.35,0]
["000928",0,"Each","000928 - LINER - FIRE SHELTER,M2002,CARRYING CASE",{"$f":"_xlfn.XLOOKUP(A416,'Sheet 2'!A:A,'Sheet 2'!B:B)","v":9.0299999999999994},0,null,0.4,0]
["000929",0,"Each","000929 - CARTON - FIBERBOARD, 41'' X 15 1/2'' X 25''",{"$f":"_xlfn.XLOOKUP(A417,'Sheet 2'!A:A,'Sheet 2'!B:B)","v":24.39},0,null,4.5,0]
["000936",0,"PG","000936 - FORM,SF-95 - CLAIM FOR DAMAGE, INJURY OR DEATH (7/85)",{"$f":"_xlfn.XLOOKUP(A418,'Sheet 2'!A:A,'Sheet 2'!B:B)","v":3.38},0,null,0.94,0]
["000937",0,"Each","000937 - SAW - PRUNING, 10\"",{"$f":"_xlfn.XLOOKUP(A419,'Sheet 2'!A:A,'Sheet 2'!B:B)","v":13.39},0,null,0.55000000000000004,0]
["000938",0,"Set","000938 - INSTRUCTIONS IMT - W/GUIDANCE, EXAMPLES, DOCUMENTATION AND FEEDBACK",{"$f":"_xlfn.XLOOKUP(A420,'Sheet 2'!A:A,'Sheet 2'!B:B)","v":6.71},0,null,0,0]
["000939",0,"Each","000939 - KNIFE - RAZOR, RETRACTABLE BLADE",{"$f":"_xlfn.XLOOKUP(A421,'Sheet 2'!A:A,'Sheet 2'!B:B)","v":4.22},0,null,0.38,0]
["000963",0,"Each","000963 - SCREWDRIVER - FLAT TIP, 1/4\" X 4\"",{"$f":"_xlfn.XLOOKUP(A422,'Sheet 2'!A:A,'Sheet 2'!B:B)","v":7.72},0,null,0.19,0]
["000970",0,"Kit","000970 - KIT - SECURITY FENCE",{"$f":"_xlfn.XLOOKUP(A423,'Sheet 2'!A:A,'Sheet 2'!B:B)","v":146.61000000000001},0,null,60,0]
["000972",0,"Each","000972 - SURGE PROTECTOR - POWER STRIP",{"$f":"_xlfn.XLOOKUP(A424,'Sheet 2'!A:A,'Sheet 2'!B:B)","v":17},0,null,1.1000000000000001,0]
["000975",0,"Each","000975 - SHELTER - FIRE,LARGE SIZE,COMPLETE,M2002",{"$f":"_xlfn.XLOOKUP(A425,'Sheet 2'!A:A,'Sheet 2'!B:B)","v":555.15},0,null,6.38,0]
["000981",0,"Each","000981 - HANDLE - AXE, 26\", STRAIGHT (FOR NFES 0383 AND 0885)",{"$f":"_xlfn.XLOOKUP(A426,'Sheet 2'!A:A,'Sheet 2'!B:B)","v":11.59},0,null,1.5,0]
["000985",0,"Each","000985 - STAPLER - PLIER TYPE",{"$f":"_xlfn.XLOOKUP(A427,'Sheet 2'!A:A,'Sheet 2'!B:B)","v":12.59},{"$f":"E427*B427","v":0},null,0.38,0]
["000999",0,"Each","000999 - SPRINKLER ASSEMBLY - 1/2\", SPRINKLER HEAD W/COUPLINGS",{"$f":"_xlfn.XLOOKUP(A428,'Sheet 2'!A:A,'Sheet 2'!B:B)","v":18.57},0,null,0,0]
["001002",0,"Each","001002 - PENCIL - WOODEN #2",{"$f":"_xlfn.XLOOKUP(A429,'Sheet 2'!A:A,'Sheet 2'!B:B)","v":0.2},0,null,0.06,0]
["001005",0,"Each","001005 - CAN - GARBAGE, PLASTIC, 32 GL",{"$f":"_xlfn.XLOOKUP(A430,'Sheet 2'!A:A,'Sheet 2'!B:B)","v":37.19},0,null,20,0]
["001008",0,"Pound","001008 - NAILS - 16D",{"$f":"_xlfn.XLOOKUP(A431,'Sheet 2'!A:A,'Sheet 2'!B:B)","v":4.8499999999999996},0,null,1.04,0]
["001014",0,"Each","001014 - TAPE - MEASURE, 25'",{"$f":"_xlfn.XLOOKUP(A432,'Sheet 2'!A:A,'Sheet 2'!B:B)","v":18.3},0,null,0.95,0]
["001016",0,"Length","001016 - HOSE - GARDEN, SYNTHETIC, 3/4\" NH X 50'",{"$f":"_xlfn.XLOOKUP(A433,'Sheet 2'!A:A,'Sheet 2'!B:B)","v":32.31},0,null,1.25,0]
["001026",0,"Kit","001026 - KIT - ROAD SIGN",{"$f":"_xlfn.XLOOKUP(A434,'Sheet 2'!A:A,'Sheet 2'!B:B)","v":3890.48},0,null,200,0]
["001027",0,"PG","001027 - EARPLUGS - FOAM, DISPOSABLE",{"$f":"_xlfn.XLOOKUP(A435,'Sheet 2'!A:A,'Sheet 2'!B:B)","v":0.26},0,null,0,0]
["001031",0,"Kit","001031 - KIT - SIGN, INCIDENT BASE",{"$f":"_xlfn.XLOOKUP(A436,'Sheet 2'!A:A,'Sheet 2'!B:B)","v":471.58},0,null,56.31,0]
["001034",0,"Each","001034 - HOLDER - RADIO BATTERY, FOR 9 EACH AA ALKALINE",{"$f":"_xlfn.XLOOKUP(A437,'Sheet 2'!A:A,'Sheet 2'!B:B)","v":26.3},0,null,0.25,0]
["001035",0,"Each","001035 - JACKET - FILING, 1 3/4\", 2 POCKET, LETTER",{"$f":"_xlfn.XLOOKUP(A438,'Sheet 2'!A:A,'Sheet 2'!B:B)","v":6.86},0,null,0.19,0]
["001038",0,"Box","001038 - TOWEL - BATH, DISPOSABLE, 24\" X 36\"",{"$f":"_xlfn.XLOOKUP(A439,'Sheet 2'!A:A,'Sheet 2'!B:B)","v":132.55000000000001},0,null,31.25,0]
["001039",0,"Set","001039 - HIGHLIGHTERS - 4-COLOR SET",{"$f":"_xlfn.XLOOKUP(A440,'Sheet 2'!A:A,'Sheet 2'!B:B)","v":6.7},0,null,0.25,0]
["001040",0,"Kit","001040 - KIT - CRASH RESCUE",{"$f":"_xlfn.XLOOKUP(A441,'Sheet 2'!A:A,'Sheet 2'!B:B)","v":1029.08},0,null,31.5,0]
["001041",0,"Hank","001041 - ROPE - NYLON, 1/4\" X 100'",{"$f":"_xlfn.XLOOKUP(A442,'Sheet 2'!A:A,'Sheet 2'!B:B)","v":19.77},0,null,1.63,0]
["001046",0,"Box","001046 - PIN - PUSH, ASSORTED COLORS",{"$f":"_xlfn.XLOOKUP(A443,'Sheet 2'!A:A,'Sheet 2'!B:B)","v":4.22},0,null,0.19,0]
["001048",0,"Kit","001048 - KIT - SPRINKLER (2008)",{"$f":"_xlfn.XLOOKUP(A444,'Sheet 2'!A:A,'Sheet 2'!B:B)","v":882.69},0,null,42,0]
["001050",0,"Kit","001050 - KIT - BELT, WEATHER",{"$f":"_xlfn.XLOOKUP(A445,'Sheet 2'!A:A,'Sheet 2'!B:B)","v":147.66},0,null,1.5,0]
["001051",0,"Pad","001051 - PAD - POST-IT-NOTE, 3 X 3",{"$f":"_xlfn.XLOOKUP(A446,'Sheet 2'!A:A,'Sheet 2'!B:B)","v":1.26},0,null,0.13,0]
["001052",0,"Package","001052 - TAB - POST IT, ARROW FLAGS",{"$f":"_xlfn.XLOOKUP(A447,'Sheet 2'!A:A,'Sheet 2'!B:B)","v":4.96},0,null,0.3,0]
["001054",0,"PG","001054 - FORM - CLAIM FOR LOSS OR DAMAGE TO PERSONAL PROPERTY, AD-382",{"$f":"_xlfn.XLOOKUP(A448,'Sheet 2'!A:A,'Sheet 2'!B:B)","v":5.04},0,null,0.65,0]
["001055",0,"Each","001055 - THERMOMETER - PROBE, FOOD, 0 - 270 DEGREE",{"$f":"_xlfn.XLOOKUP(A449,'Sheet 2'!A:A,'Sheet 2'!B:B)","v":7.78},0,null,0.1,0]
["001059",0,"Each","001059 - FILE - MILL, 12'', BASTARD",{"$f":"_xlfn.XLOOKUP(A450,'Sheet 2'!A:A,'Sheet 2'!B:B)","v":2.66},0,null,0.75,0]
["001060",0,"Kit","001060 - KIT - ACCESSORY, VOLUME PUMP",{"$f":"_xlfn.XLOOKUP(A451,'Sheet 2'!A:A,'Sheet 2'!B:B)","v":1291.1099999999999},0,null,62,0]
["001064",0,"Pad","001064 - FORM - I/A HELICOPTER LOAD CALCULATION, AMD-67/FS5700-17",{"$f":"_xlfn.XLOOKUP(A452,'Sheet 2'!A:A,'Sheet 2'!B:B)","v":8.8000000000000007},0,null,0.38,0]
["001067",0,"Each","001067 - EXTENSION - 5\", SOCKET, 1/2\" DRIVE",{"$f":"_xlfn.XLOOKUP(A453,'Sheet 2'!A:A,'Sheet 2'!B:B)","v":16.010000000000002},0,null,0.44,0]
["001073",0,"Set","001073 - MARKER - DRY ERASE",{"$f":"_xlfn.XLOOKUP(A454,'Sheet 2'!A:A,'Sheet 2'!B:B)","v":4.34},0,null,0.13,0]
["001074",0,"Each","001074 - SHARPENER - PENCIL",{"$f":"_xlfn.XLOOKUP(A455,'Sheet 2'!A:A,'Sheet 2'!B:B)","v":0.59},0,null,0.13,0]
["001075",0,"Each","001075 - REMOVER - STAPLE, OFFICE",{"$f":"_xlfn.XLOOKUP(A456,'Sheet 2'!A:A,'Sheet 2'!B:B)","v":2.13},0,null,0.06,0]
["001077",0,"Each","001077 - GUIDE - NWCG INCIDENT RESPONSE POCKET GUIDE (IRPG), PMS 461",{"$f":"_xlfn.XLOOKUP(A457,'Sheet 2'!A:A,'Sheet 2'!B:B)","v":6},0,null,0.13,0]
["001078",0,"PG","001078 - FORM - EMPLOYEE CLAIM FOR LOSS OR DAMAGE TO PERSONAL PROPERTY, DI-570",{"$f":"_xlfn.XLOOKUP(A458,'Sheet 2'!A:A,'Sheet 2'!B:B)","v":11.95},0,null,0.56000000000000005,0]
["001081",0,"Each","001081 - NOZZLE - COMBINATION, BARREL, KK, 1\" NPSH",{"$f":"_xlfn.XLOOKUP(A459,'Sheet 2'!A:A,'Sheet 2'!B:B)","v":37.33},0,null,0.69,0]
["001082",0,"Each","001082 - NOZZLE - COMBINATION, BARREL, KK 1 1/2\" NH",{"$f":"_xlfn.XLOOKUP(A460,'Sheet 2'!A:A,'Sheet 2'!B:B)","v":57.04},0,null,1.31,0]
["001083",0,"Each","001083 - COVER - URN, COFFEE",{"$f":"_xlfn.XLOOKUP(A461,'Sheet 2'!A:A,'Sheet 2'!B:B)","v":208.03},0,null,8.5,0]
["001086",0,"Each","001086 - HARNESS - RADIO, CHEST",{"$f":"_xlfn.XLOOKUP(A462,'Sheet 2'!A:A,'Sheet 2'!B:B)","v":70.62},0,null,0.56000000000000005,0]
["001091",0,"Each","001091 - AXE - CRASH, SMOOTH EDGE",{"$f":"_xlfn.XLOOKUP(A463,'Sheet 2'!A:A,'Sheet 2'!B:B)","v":135.43},0,null,3.19,0]
[{"$f":"LEFT(D464, 6)","v":"001092"},0,"Each","001092 - AXE - CRASH, SERRATED EDGE",{"$f":"_xlfn.XLOOKUP(A464,'Sheet 2'!A:A,'Sheet 2'!B:B)","v":140.84},0,null,3,{"$f":"B464*H464","v":0}]
["001093",0,"Each","001093 - KNIFE - RESCUE, SEAT BELT TYPE",{"$f":"_xlfn.XLOOKUP(A465,'Sheet 2'!A:A,'Sheet 2'!B:B)","v":67.56},0,null,1.1299999999999999,0]
["001094",0,"Each","001094 - OPENER - DOOR W/CLAW TOOL",{"$f":"_xlfn.XLOOKUP(A466,'Sheet 2'!A:A,'Sheet 2'!B:B)","v":428.09},0,null,8.94,0]
["001095",0,"Each","001095 - FRAME - HACK SAW, W/BLADE",{"$f":"_xlfn.XLOOKUP(A467,'Sheet 2'!A:A,'Sheet 2'!B:B)","v":11.51},0,null,1,0]
["001097",0,"Set","001097 - CASE - CANVAS, RESCUE KIT",{"$f":"_xlfn.XLOOKUP(A468,'Sheet 2'!A:A,'Sheet 2'!B:B)","v":153.37},0,null,4.5,0]
["001098",0,"PG","001098 - FORM - ENVELOPE, INCIDENT INJURY CASE FILE, OF-313",{"$f":"_xlfn.XLOOKUP(A469,'Sheet 2'!A:A,'Sheet 2'!B:B)","v":43.35},0,null,4.5,0]
["001099",0,"PG","001099 - FORM - ENVELOPE, INCIDENT CLAIMS CASE FILE, OF-314",{"$f":"_xlfn.XLOOKUP(A470,'Sheet 2'!A:A,'Sheet 2'!B:B)","v":123.23},0,null,4.5,0]
["001113",0,"Each","001113 - CUTTER - BOLT, 24\"",{"$f":"_xlfn.XLOOKUP(A471,'Sheet 2'!A:A,'Sheet 2'!B:B)","v":71.86},0,null,5.88,0]
["001120",0,"Each","001120 - BINDER - SAFETY DATA SHEET, YELLOW, 1'', 3-RING, 8 1/2'' X 11''",{"$f":"_xlfn.XLOOKUP(A472,'Sheet 2'!A:A,'Sheet 2'!B:B)","v":5.7},0,null,1.38,0]
["001121",0,"Each","001121 - SIGN, FIRE CAMP - SQUARE ROLL UP",{"$f":"_xlfn.XLOOKUP(A473,'Sheet 2'!A:A,'Sheet 2'!B:B)","v":133.41},0,null,0,0]
["001134",0,"PG","001134 - MOLESKIN - 3-3/8\" X 7\"",{"$f":"_xlfn.XLOOKUP(A474,'Sheet 2'!A:A,'Sheet 2'!B:B)","v":5.5},0,null,0.06,0]
["001136",0,"Each","001136 - INSTRUCTIONS - MULTI-LIGHTING KIT,NFES 6051",{"$f":"_xlfn.XLOOKUP(A475,'Sheet 2'!A:A,'Sheet 2'!B:B)","v":0.01},0,null,0.01,0]
["001138",0,"Each","001138 - MIRROR - SIGNAL, 2'' X 3''",{"$f":"_xlfn.XLOOKUP(A476,'Sheet 2'!A:A,'Sheet 2'!B:B)","v":23.12},0,null,0.44,0]
["001140",0,"Pail","001140 - FOAM  - CONCENTRATE, CLASS A, 5GL – SILV-EX",{"$f":"_xlfn.XLOOKUP(A477,'Sheet 2'!A:A,'Sheet 2'!B:B)","v":111.87},0,null,45,0]
["001142",0,"Each","001142 - SIGN, FIRE TRAFFIC ENTERING ROAD - DIAMOND ROLL UP",{"$f":"_xlfn.XLOOKUP(A478,'Sheet 2'!A:A,'Sheet 2'!B:B)","v":113.25},0,null,0,0]
["001143",0,"Kit","001143 - KIT - FIRST AID, 20-25 PERSON, BELT TYPE",{"$f":"_xlfn.XLOOKUP(A479,'Sheet 2'!A:A,'Sheet 2'!B:B)","v":172.9},0,null,4,0]
["001149",0,"Each","001149 - PUMP - BACKPACK, OUTFIT, 5 1/2\" X 15 1/2\" X 19\", MANUALLY OPERATED",{"$f":"_xlfn.XLOOKUP(A480,'Sheet 2'!A:A,'Sheet 2'!B:B)","v":205.4},0,null,6.94,0]
["001154",0,"Each","001154 - CASE - BELT WEATHER KIT",{"$f":"_xlfn.XLOOKUP(A481,'Sheet 2'!A:A,'Sheet 2'!B:B)","v":25.78},0,null,0.44,0]
["001155",0,"Each","001155 - ANEMOMETER - HAND, WIND SPEED INDICATOR",{"$f":"_xlfn.XLOOKUP(A482,'Sheet 2'!A:A,'Sheet 2'!B:B)","v":40.08},0,null,0.13,0]
["001156",0,"Each","001156 - PSYCHROMETER - SLING W/HUMIDITY CALCULATOR",{"$f":"_xlfn.XLOOKUP(A483,'Sheet 2'!A:A,'Sheet 2'!B:B)","v":63.94},0,null,0.25,0]
["001157",0,"Each","001157 - BOTTLE - WATER, 1 1/4 OZ, PLASTIC",{"$f":"_xlfn.XLOOKUP(A484,'Sheet 2'!A:A,'Sheet 2'!B:B)","v":1.19},0,null,0.06,0]
["001158",0,"Each","001158 - CALCULATOR - HUMIDITY",{"$f":"_xlfn.XLOOKUP(A485,'Sheet 2'!A:A,'Sheet 2'!B:B)","v":1.52},0,null,0.06,0]
["001159",0,"Pad","001159 - FORM - MOBILE FIRE WEATHER OBSERVER'S RECORD, OF-251",{"$f":"_xlfn.XLOOKUP(A486,'Sheet 2'!A:A,'Sheet 2'!B:B)","v":5.67},0,null,0.19,0]
["001162",0,"Each","001162 - CASE - PUMP, TOOL ROLL",{"$f":"_xlfn.XLOOKUP(A487,'Sheet 2'!A:A,'Sheet 2'!B:B)","v":32.97},0,null,0.75,0]
["001166",0,"Each","001166 - SCREWDRIVER - COMBO, FLAT/CROSS TIP",{"$f":"_xlfn.XLOOKUP(A488,'Sheet 2'!A:A,'Sheet 2'!B:B)","v":8.1300000000000008},0,null,0.25,0]
["001168",0,"Each","001168 - HANDLE - COMBI-TOOL REPLACEMENT",{"$f":"_xlfn.XLOOKUP(A489,'Sheet 2'!A:A,'Sheet 2'!B:B)","v":27.1},0,null,1,0]
["001172",0,"Each","001172 - CORD - EXTENSION, 100', AWG, 12/3 WIRE",{"$f":"_xlfn.XLOOKUP(A490,'Sheet 2'!A:A,'Sheet 2'!B:B)","v":80.849999999999994},0,null,10,0]
["001173",0,"Book","001173 - FORM - VEHICLE/HEAVY EQUIPMENT PRE-USE INSPECTION, OF-296",{"$f":"_xlfn.XLOOKUP(A491,'Sheet 2'!A:A,'Sheet 2'!B:B)","v":20.89},{"$f":"E491*B491","v":0},null,0.63,0]
["001180",0,"Each","001180 - TOOL - COMBINATION SHOVEL AND GRUB HOE",{"$f":"_xlfn.XLOOKUP(A492,'Sheet 2'!A:A,'Sheet 2'!B:B)","v":89.45},0,null,4.5,0]
["001181",0,"Each","001181 - INSTRUCTIONS - COFFEE HEATING KIT (NFES 0480)",{"$f":"_xlfn.XLOOKUP(A493,'Sheet 2'!A:A,'Sheet 2'!B:B)","v":0.74},0,null,0.25,0]
["001197",0,"Each","001197 - BAG - BACKPACK PUMP, WITH 2 LINERS AND COUPLINGS",{"$f":"_xlfn.XLOOKUP(A494,'Sheet 2'!A:A,'Sheet 2'!B:B)","v":66.41},0,null,3.5,0]
["001201",0,"Each","001201 - VALVE - SHUT OFF, 1\"",{"$f":"_xlfn.XLOOKUP(A495,'Sheet 2'!A:A,'Sheet 2'!B:B)","v":76.23},0,null,1,0]
["001204",0,"Each","001204 - SCALES - PERSONNEL WEIGHING",{"$f":"_xlfn.XLOOKUP(A496,'Sheet 2'!A:A,'Sheet 2'!B:B)","v":18.38},0,null,3.44,0]
["001207",0,"Each","001207 - VALVE - SHUT OFF, 1 1/2''",{"$f":"_xlfn.XLOOKUP(A497,'Sheet 2'!A:A,'Sheet 2'!B:B)","v":65.37},0,null,1.38,0]
["001219",0,"Pair","001219 - GLOVES - FLIGHT, SIZE 7",{"$f":"_xlfn.XLOOKUP(A498,'Sheet 2'!A:A,'Sheet 2'!B:B)","v":40.369999999999997},0,null,0.19,0]
["001220",0,"Length","001220 - HOSE - BOOSTER,3/4\"INSIDE DIA 1\" NPSH X 50'",{"$f":"_xlfn.XLOOKUP(A499,'Sheet 2'!A:A,'Sheet 2'!B:B)","v":430.72},0,null,26.5,0]
["001223",0,"Pair","001223 - GLOVES - FLIGHT, SIZE 8",{"$f":"_xlfn.XLOOKUP(A500,'Sheet 2'!A:A,'Sheet 2'!B:B)","v":40.369999999999997},0,null,0.19,0]
["001224",0,"Pair","001224 - GLOVES - FLIGHT, SIZE 9",{"$f":"_xlfn.XLOOKUP(A501,'Sheet 2'!A:A,'Sheet 2'!B:B)","v":40.369999999999997},0,null,0.19,0]
["001225",0,"Pair","001225 - GLOVES - FLIGHT, SIZE 10",{"$f":"_xlfn.XLOOKUP(A502,'Sheet 2'!A:A,'Sheet 2'!B:B)","v":40.369999999999997},0,null,0.25,0]
["001226",0,"Pair","001226 - GLOVES - FLIGHT, SIZE 11",{"$f":"_xlfn.XLOOKUP(A503,'Sheet 2'!A:A,'Sheet 2'!B:B)","v":40.369999999999997},0,null,0.25,0]
["001238",0,"Length","001238 - HOSE - SYNTHETIC, LINED, 1\" NPSH X 100'",{"$f":"_xlfn.XLOOKUP(A504,'Sheet 2'!A:A,'Sheet 2'!B:B)","v":187.51},0,null,8.3800000000000008,0]
["001239",0,"Length","001239 - HOSE - SYNTHETIC, LINED, 1 1/2\" NH X 100'",{"$f":"_xlfn.XLOOKUP(A505,'Sheet 2'!A:A,'Sheet 2'!B:B)","v":237.13},0,null,12.38,0]
["001242",0,"Each","001242 - VEST -  HIGH VISIBILITY, ANSI CLASS II",{"$f":"_xlfn.XLOOKUP(A506,'Sheet 2'!A:A,'Sheet 2'!B:B)","v":9.49},0,null,0.1,0]
["001249",0,"Each","001249 - LID - PLASTIC GARBAGE CAN, 32 GL (121.1L)",{"$f":"_xlfn.XLOOKUP(A507,'Sheet 2'!A:A,'Sheet 2'!B:B)","v":10.85},0,null,1,0]
["001251",0,"PG","001251 - FORM - INCIDENT DEMOB VEHICLE SAFETY INSPECTION, ICS-212",{"$f":"_xlfn.XLOOKUP(A508,'Sheet 2'!A:A,'Sheet 2'!B:B)","v":24.79},0,null,2.63,0]
["001269",0,"Each","001269 - BAG - FLIGHT HELMET",{"$f":"_xlfn.XLOOKUP(A509,'Sheet 2'!A:A,'Sheet 2'!B:B)","v":20.88},0,null,0.94,0]
["001274",0,"Each","001274 - SHROUD - FACE & NECK, WILDLAND FIREFIGHTER'S",{"$f":"_xlfn.XLOOKUP(A510,'Sheet 2'!A:A,'Sheet 2'!B:B)","v":48.52},0,null,0.13,0]
["001279",0,"Each","001279 - GUIDE - SMOKE MGMT GUIDE FOR PRES/WL FIRES:2001 EDITION, PMS 420-2",{"$f":"_xlfn.XLOOKUP(A511,'Sheet 2'!A:A,'Sheet 2'!B:B)","v":16.600000000000001},0,null,1.69,0]
["001281",0,"Each","001281 - BLADE - HACKSAW",{"$f":"_xlfn.XLOOKUP(A512,'Sheet 2'!A:A,'Sheet 2'!B:B)","v":0.99},0,null,0.06,0]
["001285",0,"Spool","001285 - CORD - COTTON BRAIDED, 1/8\" X 3000'",{"$f":"_xlfn.XLOOKUP(A513,'Sheet 2'!A:A,'Sheet 2'!B:B)","v":91.24},0,null,16.75,0]
["001286",0,"PG","001286 - FORM - INCIDENT REPLACEMENT REQUISITION, CONTINUED, OF-315A",{"$f":"_xlfn.XLOOKUP(A514,'Sheet 2'!A:A,'Sheet 2'!B:B)","v":26.26},0,null,3.88,0]
["001287",0,"Sheet","001287 - SHEETING - PLASTIC, BLACK, 10' X 20'",{"$f":"_xlfn.XLOOKUP(A515,'Sheet 2'!A:A,'Sheet 2'!B:B)","v":7.96},0,null,5,0]
["001291",0,"Each","001291 - CAN - 5 GL (18.9L), SAFETY, VENTED",{"$f":"_xlfn.XLOOKUP(A516,'Sheet 2'!A:A,'Sheet 2'!B:B)","v":111.42},0,null,9.25,0]
["001293",0,"Pair","001293 - GLOVES - LEATHER, X-SMALL, FOREST WORKER,  NFPA COMPLIANCE",{"$f":"_xlfn.XLOOKUP(A517,'Sheet 2'!A:A,'Sheet 2'!B:B)","v":21.47},0,null,0.31,0]
["001294",0,"Pair","001294 - GLOVES - LEATHER, SMALL, FOREST WORKER, NFPA COMPLIANCE",{"$f":"_xlfn.XLOOKUP(A518,'Sheet 2'!A:A,'Sheet 2'!B:B)","v":21.47},0,null,0.31,0]
["001295",0,"Pair","001295 - GLOVES - LEATHER, MEDIUM,  FOREST WORKER, NFPA COMPLIANCE",{"$f":"_xlfn.XLOOKUP(A519,'Sheet 2'!A:A,'Sheet 2'!B:B)","v":21.47},0,null,0.38,0]
["001296",0,"Pair","001296 - GLOVES - LEATHER, LARGE, FOREST WORKER,  NFPA COMPLIANCE",{"$f":"_xlfn.XLOOKUP(A520,'Sheet 2'!A:A,'Sheet 2'!B:B)","v":21.47},0,null,0.44,0]
["001297",0,"Pair","001297 - GLOVES - LEATHER, X-LARGE, FOREST WORKER, NFPA COMPLIANCE",{"$f":"_xlfn.XLOOKUP(A521,'Sheet 2'!A:A,'Sheet 2'!B:B)","v":21.47},0,null,0.5,0]
["001300",0,"PG","001300 - FORM - INCIDENT REPLACEMENT REQUISITION, OF-315",{"$f":"_xlfn.XLOOKUP(A522,'Sheet 2'!A:A,'Sheet 2'!B:B)","v":24.15},0,null,3.75,0]
["001336",0,"PG","001336 - FORM - GENERAL MESSAGE, ICS-213",{"$f":"_xlfn.XLOOKUP(A523,'Sheet 2'!A:A,'Sheet 2'!B:B)","v":18.75},0,null,1.88,0]
["001342",0,"PG","001342 - FORM - RESOURCE STATUS CARD, HEADER, GREY, ICS-219-1",{"$f":"_xlfn.XLOOKUP(A524,'Sheet 2'!A:A,'Sheet 2'!B:B)","v":13.28},0,null,0.6,0]
["001344",0,"PG","001344 - FORM - RESOURCE STATUS CARD, CREW, GREEN, ICS-219-2",{"$f":"_xlfn.XLOOKUP(A525,'Sheet 2'!A:A,'Sheet 2'!B:B)","v":7.96},0,null,0.88,0]
["001345",0,"PG","001345 - FORM - RESOURCE STATUS CARD, ENGINES, PINK, ICS-219-3",{"$f":"_xlfn.XLOOKUP(A526,'Sheet 2'!A:A,'Sheet 2'!B:B)","v":10.35},0,null,0.75,0]
["001346",0,"PG","001346 - FORM - RESOURCE STATUS CARD, HELICOPTER, BLUE, ICS-219-4",{"$f":"_xlfn.XLOOKUP(A527,'Sheet 2'!A:A,'Sheet 2'!B:B)","v":9.6},0,null,0.75,0]
[{"$f":"LEFT(D528, 6)","v":"001347"},0,"PG","001347 - FORM - RESOURCE STATUS CARD, PERSONNEL, WHITE, ICS-219-5",{"$f":"_xlfn.XLOOKUP(A528,'Sheet 2'!A:A,'Sheet 2'!B:B)","v":11.89},0,null,0.75,{"$f":"B528*H528","v":0}]
["001348",0,"PG","001348 - FORM - RESOURCE STATUS CARD, AIRCRAFT, SALMON, ICS-219-6",{"$f":"_xlfn.XLOOKUP(A529,'Sheet 2'!A:A,'Sheet 2'!B:B)","v":13.61},0,null,0.88,0]
["001349",0,"PG","001349 - FORM - RESOURCE STATUS CARD, EQUIPMENT, YELLOW, ICS-219-7",{"$f":"_xlfn.XLOOKUP(A530,'Sheet 2'!A:A,'Sheet 2'!B:B)","v":8.2799999999999994},0,null,0.75,0]
["001350",0,"PG","001350 - FORM - RESOURCE STATUS CARD, MISC EQUIPMENT/TASK FORCES, BUFF, ICS-219-8",{"$f":"_xlfn.XLOOKUP(A531,'Sheet 2'!A:A,'Sheet 2'!B:B)","v":10.72},0,null,0.75,0]
["001352",0,"Each","001352 - SORTER - CARD, \"T\"",{"$f":"_xlfn.XLOOKUP(A532,'Sheet 2'!A:A,'Sheet 2'!B:B)","v":22.43},0,null,0.69,0]
["001373",0,"Each","001373 - GUIDE - INTERAGENCY AVIATION USER POCKET GUIDE",{"$f":"_xlfn.XLOOKUP(A533,'Sheet 2'!A:A,'Sheet 2'!B:B)","v":1.65},0,null,0.06,0]
["001374",0,"Sheet","001374 - FORM - OPERATIONAL PLANNING WORKSHEET, (36\" X 64\"), ICS-215-WS",{"$f":"_xlfn.XLOOKUP(A534,'Sheet 2'!A:A,'Sheet 2'!B:B)","v":34.39},0,null,0.06,0]
["001396",0,"Each","001396 - HOE - ADZE",{"$f":"_xlfn.XLOOKUP(A535,'Sheet 2'!A:A,'Sheet 2'!B:B)","v":88.57},0,null,4.4000000000000004,0]
["001472",0,"PG","001472 - FORM, OF-316 - INTERAGENCY INCIDENT WAYBILL (4/00)",{"$f":"_xlfn.XLOOKUP(A536,'Sheet 2'!A:A,'Sheet 2'!B:B)","v":18.079999999999998},0,null,4,0]
["001473",0,"PG","001473 - FORM,OF316-A - INTERAGENCY INCIDENT WAYBILL,CONT (4/00)",{"$f":"_xlfn.XLOOKUP(A537,'Sheet 2'!A:A,'Sheet 2'!B:B)","v":23.33},0,null,3.56,0]
["001521",0,"Each","001521 - FLY - TENT, TYPE II, 9' X 10'",{"$f":"_xlfn.XLOOKUP(A538,'Sheet 2'!A:A,'Sheet 2'!B:B)","v":137.82},0,null,2,0]
["001535",0,"Each","001535 - CONTAINER - 1 LITER, FUEL, ALUMINUM, RED FINISH",{"$f":"_xlfn.XLOOKUP(A539,'Sheet 2'!A:A,'Sheet 2'!B:B)","v":40.090000000000003},0,null,0.38,0]
["001538",0,"Pair","001538 - JEAN - WOMENS, FLAME RESISTANT, 26\"-29\"X28\"INSEAM",{"$f":"_xlfn.XLOOKUP(A540,'Sheet 2'!A:A,'Sheet 2'!B:B)","v":120.7},0,null,0,0]
["001539",0,"Pair","001539 - JEAN - WOMENS, FLAME RESISTANT, 26\"-29\"X31\"INSEAM",{"$f":"_xlfn.XLOOKUP(A541,'Sheet 2'!A:A,'Sheet 2'!B:B)","v":120.7},0,null,0,0]
["001540",0,"Pair","001540 - JEAN - WOMENS, FLAME RESISTANT, 26\"-29\"X34\"INSEAM",{"$f":"_xlfn.XLOOKUP(A542,'Sheet 2'!A:A,'Sheet 2'!B:B)","v":120.7},0,null,0,0]
["001541",0,"Pair","001541 - JEAN - WOMENS, FLAME RESISTANT, 28\"-31\"X28\"INSEAM",{"$f":"_xlfn.XLOOKUP(A543,'Sheet 2'!A:A,'Sheet 2'!B:B)","v":120.7},0,null,0,0]
["001542",0,"Pair","001542 - JEAN - WOMENS, FLAME RESISTANT, 28\"-31\"X31\"INSEAM",{"$f":"_xlfn.XLOOKUP(A544,'Sheet 2'!A:A,'Sheet 2'!B:B)","v":120.7},0,null,0,0]
["001543",0,"Pair","001543 - JEAN - WOMENS, FLAME RESISTANT, 28\"-31\"X34\"INSEAM",{"$f":"_xlfn.XLOOKUP(A545,'Sheet 2'!A:A,'Sheet 2'!B:B)","v":120.7},0,null,0,0]
["001544",0,"Pair","001544 - JEAN - WOMENS, FLAME RESISTANT, 31\"-34\"X28\"INSEAM",{"$f":"_xlfn.XLOOKUP(A546,'Sheet 2'!A:A,'Sheet 2'!B:B)","v":120.7},0,null,0,0]
["001545",0,"Pair","001545 - JEAN - WOMENS, FLAME RESISTANT, 31\"-34\"X31\"INSEAM",{"$f":"_xlfn.XLOOKUP(A547,'Sheet 2'!A:A,'Sheet 2'!B:B)","v":120.7},0,null,0,0]
["001546",0,"Pair","001546 - JEAN - WOMENS, FLAME RESISTANT, 31\"-34\"X34\"INSEAM",{"$f":"_xlfn.XLOOKUP(A548,'Sheet 2'!A:A,'Sheet 2'!B:B)","v":120.7},0,null,0,0]
["001547",0,"Pair","001547 - JEAN - WOMENS, FLAME RESISTANT, 33\"-37\"X28\"INSEAM",{"$f":"_xlfn.XLOOKUP(A549,'Sheet 2'!A:A,'Sheet 2'!B:B)","v":120.7},0,null,0,0]
["001548",0,"Pair","001548 - JEAN - WOMENS, FLAME RESISTANT, 33\"-37\"X31\"INSEAM",{"$f":"_xlfn.XLOOKUP(A550,'Sheet 2'!A:A,'Sheet 2'!B:B)","v":120.7},0,null,0,0]
["001549",0,"Pair","001549 - JEAN - WOMENS, FLAME RESISTANT, 33\"-37\"X34\"INSEAM",{"$f":"_xlfn.XLOOKUP(A551,'Sheet 2'!A:A,'Sheet 2'!B:B)","v":120.7},0,null,0,0]
["001550",0,"Pair","001550 - JEAN - WOMENS, FLAME RESISTANT, 36\"-40\"X28\"INSEAM",{"$f":"_xlfn.XLOOKUP(A552,'Sheet 2'!A:A,'Sheet 2'!B:B)","v":120.7},0,null,0,0]
["001551",0,"Pair","001551 - JEAN - WOMENS, FLAME RESISTANT, 36\"-40\"X31\"INSEAM",{"$f":"_xlfn.XLOOKUP(A553,'Sheet 2'!A:A,'Sheet 2'!B:B)","v":120.7},0,null,0,0]
["001552",0,"Pair","001552 - JEAN - WOMENS, FLAME RESISTANT, 36\"-40\"X34\"INSEAM",{"$f":"_xlfn.XLOOKUP(A554,'Sheet 2'!A:A,'Sheet 2'!B:B)","v":120.7},0,null,0,0]
["001553",0,"Pair","001553 - JEAN - WOMENS, FLAME RESISTANT, 40\"-44\"X28\"INSEAM",{"$f":"_xlfn.XLOOKUP(A555,'Sheet 2'!A:A,'Sheet 2'!B:B)","v":120.7},{"$f":"E555*B555","v":0},null,0,0]
["001554",0,"Pair","001554 - JEAN - WOMENS, FLAME RESISTANT, 40\"-44\"X31\"INSEAM",{"$f":"_xlfn.XLOOKUP(A556,'Sheet 2'!A:A,'Sheet 2'!B:B)","v":120.7},0,null,0,0]
["001556",0,"Pair","001556 - JEAN - WOMENS, FLAME RESISTANT, 40\"-44\"X34\"INSEAM",{"$f":"_xlfn.XLOOKUP(A557,'Sheet 2'!A:A,'Sheet 2'!B:B)","v":120.7},0,null,0,0]
["001566",0,"Each","001566 - MAT, SLEEPING - 3/8\" X 23 5/8\" X 74 3/4\", POLYETHYLENE",{"$f":"_xlfn.XLOOKUP(A558,'Sheet 2'!A:A,'Sheet 2'!B:B)","v":12.33},0,null,1,0]
["001576",0,"PG","001576 - FORM - INCIDENT PERSONNEL PERFORMANCE RATING, ICS-225",{"$f":"_xlfn.XLOOKUP(A559,'Sheet 2'!A:A,'Sheet 2'!B:B)","v":31.36},0,null,2.25,0]
["001660",0,"Kit","001660 - KIT - BIOLOGICAL HAZARDS, PROTECTION, INDIVIDUAL",{"$f":"_xlfn.XLOOKUP(A560,'Sheet 2'!A:A,'Sheet 2'!B:B)","v":14.45},0,null,0.55000000000000004,0]
["001670",0,"Each","001670 - LITTER - S.K.E.D.",{"$f":"_xlfn.XLOOKUP(A561,'Sheet 2'!A:A,'Sheet 2'!B:B)","v":463.58},0,null,19,0]
["001675",0,"Kit","001675 - KIT - BIOLOGICAL HAZARDS, PROTECTION,  MULTI-PERSON",{"$f":"_xlfn.XLOOKUP(A562,'Sheet 2'!A:A,'Sheet 2'!B:B)","v":207.13},0,null,5.55,0]
["001728",0,"Kit","001728 - KIT - OXYGEN THERAPY, UNIT 5, FIRST AID STATION",{"$f":"_xlfn.XLOOKUP(A563,'Sheet 2'!A:A,'Sheet 2'!B:B)","v":989.11},0,null,34,0]
["001760",0,"Kit","001760 - KIT - MEDICAL SUPPORT",{"$f":"_xlfn.XLOOKUP(A564,'Sheet 2'!A:A,'Sheet 2'!B:B)","v":1180.08},0,null,41.31,0]
["001807",0,"Each","001807 - RAKE - FIRE (COUNCIL TOOL) W/SHEATH",{"$f":"_xlfn.XLOOKUP(A565,'Sheet 2'!A:A,'Sheet 2'!B:B)","v":100.57},0,null,3.7,0]
["001808",0,"Length","001808 - HOSE - SUCTION, RUBBER, 1 1/2\" NH X 8'",{"$f":"_xlfn.XLOOKUP(A566,'Sheet 2'!A:A,'Sheet 2'!B:B)","v":181.02},0,null,7.88,0]
["001809",0,"Each","001809 - TEE - HOSELINE, W/CAP & CHAIN, 1'' NPSH-F X 1'' NPSH-M X 3/4'' NH-M",{"$f":"_xlfn.XLOOKUP(A567,'Sheet 2'!A:A,'Sheet 2'!B:B)","v":52.69},0,null,0.5,0]
["001814",0,"Each","001814 - COMPASS - SMOKE CHASER",{"$f":"_xlfn.XLOOKUP(A568,'Sheet 2'!A:A,'Sheet 2'!B:B)","v":16.32},0,null,0.19,0]
["001842",0,"Box","001842 - FOOD - MEALS READY TO EAT (MRE'S)",{"$f":"_xlfn.XLOOKUP(A569,'Sheet 2'!A:A,'Sheet 2'!B:B)","v":189.3},0,null,20.309999999999999,0]
["001857",0,"Each","001857 - HANDLE - PULASKI",{"$f":"_xlfn.XLOOKUP(A570,'Sheet 2'!A:A,'Sheet 2'!B:B)","v":18.440000000000001},0,null,1.44,0]
["001858",0,"Each","001858 - HAMMER - SLEDGE, 8 LB (3.63KG)",{"$f":"_xlfn.XLOOKUP(A571,'Sheet 2'!A:A,'Sheet 2'!B:B)","v":40.49},0,null,9.25,0]
["001864",0,"PG","001864 - FORM,OF289 - PROPERTY LOSS OR DAMAGE REPORT,(9/81)",{"$f":"_xlfn.XLOOKUP(A572,'Sheet 2'!A:A,'Sheet 2'!B:B)","v":13.79},0,null,2.6,0]
["001868",0,"Each","001868 - SWATTER - FIRE",{"$f":"_xlfn.XLOOKUP(A573,'Sheet 2'!A:A,'Sheet 2'!B:B)","v":72.180000000000007},0,null,5.3,0]
["001869",0,"Quart","001869 - OIL - BAR & CHAIN, 1 QT (.9L)",{"$f":"_xlfn.XLOOKUP(A574,'Sheet 2'!A:A,'Sheet 2'!B:B)","v":4.3899999999999997},0,null,1.81,0]
["001874",0,"Each","001874 - HANDBOOK - GUIDE TO WILDLAND FIRE ORIGIN & CAUSE DETERMINATION, PMS 412",{"$f":"_xlfn.XLOOKUP(A575,'Sheet 2'!A:A,'Sheet 2'!B:B)","v":57.66},0,null,0.31,0]
["001880",0,"Gallon","001880 - OIL - BAR &  CHAIN, 1 GL",{"$f":"_xlfn.XLOOKUP(A576,'Sheet 2'!A:A,'Sheet 2'!B:B)","v":13.92},0,null,7,0]
["001882",0,"Each","001882 - GASKET - 5 GL (18.9L), FUEL CAN, JEEP, 1/8'' X 1/2'' X 3 3/8''",{"$f":"_xlfn.XLOOKUP(A577,'Sheet 2'!A:A,'Sheet 2'!B:B)","v":1.63},0,null,0.28000000000000003,0]
["002006",0,"Each","002006 - CARTON - FIBERBOARD, 23\" X 19\" X 10\"",{"$f":"_xlfn.XLOOKUP(A578,'Sheet 2'!A:A,'Sheet 2'!B:B)","v":7},0,null,3.25,0]
["002047",0,"Each","002047 - CHAIR - FOLDING, METAL",{"$f":"_xlfn.XLOOKUP(A579,'Sheet 2'!A:A,'Sheet 2'!B:B)","v":44.17},0,null,10,0]
["002078",0,"Each","002078 - SHIRT - FIRE, LARGE, LONG",{"$f":"_xlfn.XLOOKUP(A580,'Sheet 2'!A:A,'Sheet 2'!B:B)","v":91.89},0,null,0.94,0]
["002079",0,"Each","002079 - SHIRT - FIRE, X-LARGE, LONG",{"$f":"_xlfn.XLOOKUP(A581,'Sheet 2'!A:A,'Sheet 2'!B:B)","v":91.89},0,null,1.06,0]
["002098",0,"PG","002098 - FORM - RESOURCE STATUS CARD, ACCT PROP ASSIGN RECORD, WHITE, ICS-219-9",{"$f":"_xlfn.XLOOKUP(A582,'Sheet 2'!A:A,'Sheet 2'!B:B)","v":8.44},0,null,0.75,0]
["002099",0,"PG","002099 - FORM - ACCOUNTABLE PROPERTY ASSIGNMENT RECORD/TRANSFER TAG, WHITE, ICS-219-WF",{"$f":"_xlfn.XLOOKUP(A583,'Sheet 2'!A:A,'Sheet 2'!B:B)","v":9.44},0,null,0.38,0]
["002105",0,"Each","002105 - FILE - ROUND 3/16\", CHAIN SAW",{"$f":"_xlfn.XLOOKUP(A584,'Sheet 2'!A:A,'Sheet 2'!B:B)","v":1.0900000000000001},0,null,0.05,0]
["002113",0,"PG","002113 - FORM - COMMERCIAL RENTAL/SERVICE ENVELOPE",{"$f":"_xlfn.XLOOKUP(A585,'Sheet 2'!A:A,'Sheet 2'!B:B)","v":33.28},0,null,4.1500000000000004,0]
["002114",0,"PG","002114 - FORM - BUYING TEAM INCIDENT WAYBILL, PMS 902-1",{"$f":"_xlfn.XLOOKUP(A586,'Sheet 2'!A:A,'Sheet 2'!B:B)","v":26.3},0,null,2.4,0]
["002139",0,"Each","002139 - DISPENSER - FILAMENT TAPE",{"$f":"_xlfn.XLOOKUP(A587,'Sheet 2'!A:A,'Sheet 2'!B:B)","v":9.16},0,null,0.56000000000000005,0]
["002147",0,"Each","002147 - DOT CHART 17 - HAZARDOUS MATERIALS MARKING, LABELING & PLACARDING GUIDE",{"$f":"_xlfn.XLOOKUP(A588,'Sheet 2'!A:A,'Sheet 2'!B:B)","v":0.92},0,null,0.06,0]
["002150",0,"Each","002150 - GUIDE - DOT, EMERGENCY RESPONSE",{"$f":"_xlfn.XLOOKUP(A589,'Sheet 2'!A:A,'Sheet 2'!B:B)","v":13.39},0,null,0.81,0]
["002210",0,"Each","002210 - CAP - TEE, W/CHAIN, 1 1/2\" NH-F",{"$f":"_xlfn.XLOOKUP(A590,'Sheet 2'!A:A,'Sheet 2'!B:B)","v":30.43},0,null,0.13,0]
["002229",0,"Each","002229 - REDUCER - 2 1/2'' NPSH-F, 1 1/2'' NH-M",{"$f":"_xlfn.XLOOKUP(A591,'Sheet 2'!A:A,'Sheet 2'!B:B)","v":26.87},0,null,0.88,0]
[{"$f":"LEFT(D592, 6)","v":"002230"},0,"Each","002230 - REDUCER - 2 1/2'' NH-F, 1 1/2'' NH-M",{"$f":"_xlfn.XLOOKUP(A592,'Sheet 2'!A:A,'Sheet 2'!B:B)","v":26.87},0,null,0.88,{"$f":"B592*H592","v":0}]
["002235",0,"Each","002235 - INCREASER - 3/4\" NH TO 1\" NPSH",{"$f":"_xlfn.XLOOKUP(A593,'Sheet 2'!A:A,'Sheet 2'!B:B)","v":11.42},0,null,0.13,0]
["002240",0,"Each","002240 - TEE - HOSELINE, W/CAP & CHAIN, 1'' NPSH-F X 1'' NPSH-M X 1'' NPSH-M",{"$f":"_xlfn.XLOOKUP(A594,'Sheet 2'!A:A,'Sheet 2'!B:B)","v":40.99},0,null,0.5,0]
["002314",0,"Each","002314 - HELMET - FLIGHT, SPH-5C STYLE, REGULAR, W/BAG",{"$f":"_xlfn.XLOOKUP(A595,'Sheet 2'!A:A,'Sheet 2'!B:B)","v":1404.54},0,null,5.88,0]
["002315",0,"Each","002315 - HELMET - FLIGHT, SPH-5C STYLE, X-LARGE, W/BAG",{"$f":"_xlfn.XLOOKUP(A596,'Sheet 2'!A:A,'Sheet 2'!B:B)","v":1404.54},0,null,4.75,0]
["002326",0,"Each","002326 - GASKET - HOSE, 2 1/2\"",{"$f":"_xlfn.XLOOKUP(A597,'Sheet 2'!A:A,'Sheet 2'!B:B)","v":1.21},0,null,0.06,0]
["002332",0,"Each","002332 - RACK - GARBAGE, WIRE, 32 GL (121.1L)",{"$f":"_xlfn.XLOOKUP(A598,'Sheet 2'!A:A,'Sheet 2'!B:B)","v":27.23},0,null,9,0]
["002396",0,"Roll","002396 - RIBBON - FLAGGING, CHARTREUSE FLUORESCENT, 1'' WIDE",{"$f":"_xlfn.XLOOKUP(A599,'Sheet 2'!A:A,'Sheet 2'!B:B)","v":3.11},0,null,0.38,0]
["002397",0,"PG","002397 - DECAL -  LCES",{"$f":"_xlfn.XLOOKUP(A600,'Sheet 2'!A:A,'Sheet 2'!B:B)","v":15.4},0,null,0.31,0]
["002398",0,"Roll","002398 - RIBBON - FLAGGING, ORANGE FLUORESCENT, 1\" WIDE",{"$f":"_xlfn.XLOOKUP(A601,'Sheet 2'!A:A,'Sheet 2'!B:B)","v":2.2200000000000002},0,null,0.38,0]
["002401",0,"Roll","002401 - RIBBON - FLAGGING, DARK PINK, 1\" WIDE",{"$f":"_xlfn.XLOOKUP(A602,'Sheet 2'!A:A,'Sheet 2'!B:B)","v":2.78},0,null,0.38,0]
["002490",0,"Each","002490 - STAPLER - HEAVY DUTY",{"$f":"_xlfn.XLOOKUP(A603,'Sheet 2'!A:A,'Sheet 2'!B:B)","v":27.74},0,null,2,0]
["002491",0,"Box","002491 - STAPLES - HEAVY DUTY,1/2\"",{"$f":"_xlfn.XLOOKUP(A604,'Sheet 2'!A:A,'Sheet 2'!B:B)","v":5.71},0,null,0.13,0]
["002501",0,"Each","002501 - LANTERN - CAMP, ELECTRIC, FLUORESCENT",{"$f":"_xlfn.XLOOKUP(A605,'Sheet 2'!A:A,'Sheet 2'!B:B)","v":27.21},0,null,1.38,0]
["002546",0,"Each","002546 - MARKER-SHARPIE, FINE POINT, BLUE",{"$f":"_xlfn.XLOOKUP(A606,'Sheet 2'!A:A,'Sheet 2'!B:B)","v":0.84},0,null,0.02,0]
["002547",0,"Each","002547 - MARKER SHARPIE, FINE POINT, RED",{"$f":"_xlfn.XLOOKUP(A607,'Sheet 2'!A:A,'Sheet 2'!B:B)","v":0.85},0,null,0.02,0]
["002558",0,"Each","002558 - PUNCH - PAPER SINGLE HOLE",{"$f":"_xlfn.XLOOKUP(A608,'Sheet 2'!A:A,'Sheet 2'!B:B)","v":2.74},0,null,0.38,0]
["002575",0,"Each","002575 - STAPLER - DESK",{"$f":"_xlfn.XLOOKUP(A609,'Sheet 2'!A:A,'Sheet 2'!B:B)","v":18.23},0,null,0.5,0]
["002591",0,"Each","002591 - GAUGE - FEELER, SPARK PLUG & POINTS",{"$f":"_xlfn.XLOOKUP(A610,'Sheet 2'!A:A,'Sheet 2'!B:B)","v":4.17},0,null,0.13,0]
["002608",0,"Each","002608 - WRENCH - COMBINATION, BOX, OPEN END, 13MM",{"$f":"_xlfn.XLOOKUP(A611,'Sheet 2'!A:A,'Sheet 2'!B:B)","v":11.63},0,null,0.25,0]
["002646",0,"PG","002646 - DECAL - FIRE AND COVID-19 BRIEFING CHECKLIST (FOR IRPG)",{"$f":"_xlfn.XLOOKUP(A612,'Sheet 2'!A:A,'Sheet 2'!B:B)","v":{"$error":"#N/A"}},{"$error":"#N/A"},null,0,0]
["002657",0,"Pad","002657 - FORM - AIRCRAFT DISPATCH, NIFC 9400-31",{"$f":"_xlfn.XLOOKUP(A613,'Sheet 2'!A:A,'Sheet 2'!B:B)","v":6.96},0,null,0.63,0]
["002678",0,"Each","002678 - SHELTER,PRACTICE - COMPLETE,M-2002",{"$f":"_xlfn.XLOOKUP(A614,'Sheet 2'!A:A,'Sheet 2'!B:B)","v":193.92},0,null,2.63,0]
["002681",0,"Each","002681 - BAG - POLYVINYL - PRACTICE FIRE SHELTER,M-2002",{"$f":"_xlfn.XLOOKUP(A615,'Sheet 2'!A:A,'Sheet 2'!B:B)","v":36.69},0,null,1,0]
["002695",0,"Each","002695 - STONE - SHARPENING AXE",{"$f":"_xlfn.XLOOKUP(A616,'Sheet 2'!A:A,'Sheet 2'!B:B)","v":24.06},0,null,0.5,0]
["002698",0,"Each","002698 - TABLE - METAL, FOLDING, 6'",{"$f":"_xlfn.XLOOKUP(A617,'Sheet 2'!A:A,'Sheet 2'!B:B)","v":279.06},0,null,47,0]
["002700",0,"Pair","002700 - JEAN - FLAME RESISTANT, BDU, 26\"-30\"X34\"INSEAM",{"$f":"_xlfn.XLOOKUP(A618,'Sheet 2'!A:A,'Sheet 2'!B:B)","v":111.65},0,null,1.25,0]
["002701",0,"Pair","002701 - JEAN - FLAME RESISTANT, BDU, 28\"-32\"X34\"INSEAM",{"$f":"_xlfn.XLOOKUP(A619,'Sheet 2'!A:A,'Sheet 2'!B:B)","v":111.65},{"$f":"E619*B619","v":0},null,1.31,0]
["002702",0,"Pair","002702 - JEAN - FLAME RESISTANT,8 BDU, 30\"-34\"X34\"INSEAM",{"$f":"_xlfn.XLOOKUP(A620,'Sheet 2'!A:A,'Sheet 2'!B:B)","v":111.65},0,null,1.25,0]
["002703",0,"Pair","002703 - JEAN - FLAME RESISTANT, BDU, 32\"-36\"X34\"INSEAM",{"$f":"_xlfn.XLOOKUP(A621,'Sheet 2'!A:A,'Sheet 2'!B:B)","v":111.65},0,null,1.38,0]
["002704",0,"Pair","002704 - JEAN - FLAME RESISTANT, BDU, 34\"-38\"X34\"INSEAM",{"$f":"_xlfn.XLOOKUP(A622,'Sheet 2'!A:A,'Sheet 2'!B:B)","v":111.65},0,null,1.38,0]
["002705",0,"Pair","002705 - JEAN - FLAME RESISTANT, BDU, 36\"-40\"X34\"INSEAM",{"$f":"_xlfn.XLOOKUP(A623,'Sheet 2'!A:A,'Sheet 2'!B:B)","v":111.65},0,null,1.38,0]
["002706",0,"Pair","002706 - JEAN - FLAME RESISTANT, BDU, 38\"-42\"X34\"INSEAM",{"$f":"_xlfn.XLOOKUP(A624,'Sheet 2'!A:A,'Sheet 2'!B:B)","v":111.65},0,null,1.38,0]
["002707",0,"Pair","002707 - JEAN - FLAME RESISTANT, BDU, 40\"-44\"X34\"INSEAM",{"$f":"_xlfn.XLOOKUP(A625,'Sheet 2'!A:A,'Sheet 2'!B:B)","v":111.65},0,null,1.25,0]
["002718",0,"PG","002718 - FORM - CREW PERFORMANCE RATING, SINGLE PAGE, ICS 244",{"$f":"_xlfn.XLOOKUP(A626,'Sheet 2'!A:A,'Sheet 2'!B:B)","v":35.99},0,null,1.2,0]
["002725",0,"Each","002725 - WEDGE - PLASTIC, FELLING, 12\" X 1-1/8\" X 3 1/4\"",{"$f":"_xlfn.XLOOKUP(A627,'Sheet 2'!A:A,'Sheet 2'!B:B)","v":11.8},0,null,1.19,0]
["002737",0,"Pair","002737 - JEAN - FLAME RESISTANT, BDU, 24\"-28\"X30\"INSEAM",{"$f":"_xlfn.XLOOKUP(A628,'Sheet 2'!A:A,'Sheet 2'!B:B)","v":111.65},0,null,1.38,0]
["002738",0,"Pair","002738 - JEAN - FLAME RESISTANT, BDU, 24\"-28\"X33\"INSEAM",{"$f":"_xlfn.XLOOKUP(A629,'Sheet 2'!A:A,'Sheet 2'!B:B)","v":111.65},0,null,1.38,0]
["002752",0,"Each","002752 - SIGN - FACILITIES UNIT, WHITE TAG, 14\" X 11\"",{"$f":"_xlfn.XLOOKUP(A630,'Sheet 2'!A:A,'Sheet 2'!B:B)","v":1.31},0,null,0.06,0]
["002754",0,"Each","002754 - SIGN - CHECK-IN, WHITE TAG, 14\" X 11\"",{"$f":"_xlfn.XLOOKUP(A631,'Sheet 2'!A:A,'Sheet 2'!B:B)","v":1.1599999999999999},0,null,0.06,0]
["002756",0,"Each","002756 - SIGN - COMMUNICATIONS UNIT, WHITE TAG, 14\" X 11\"",{"$f":"_xlfn.XLOOKUP(A632,'Sheet 2'!A:A,'Sheet 2'!B:B)","v":1.28},0,null,0.13,0]
["002760",0,"Each","002760 - SIGN - DOCUMENTATION UNIT, WHITE TAG, 14\" X 11\"",{"$f":"_xlfn.XLOOKUP(A633,'Sheet 2'!A:A,'Sheet 2'!B:B)","v":1.1499999999999999},0,null,0.06,0]
["002762",0,"Each","002762 - SIGN - FINANCE, WHITE TAG, 14\" X 11\"",{"$f":"_xlfn.XLOOKUP(A634,'Sheet 2'!A:A,'Sheet 2'!B:B)","v":1.1599999999999999},0,null,0.06,0]
["002764",0,"Each","002764 - SIGN - GROUND SUPPORT UNIT, WHITE TAG, 14\" X 11\"",{"$f":"_xlfn.XLOOKUP(A635,'Sheet 2'!A:A,'Sheet 2'!B:B)","v":1.39},0,null,0.06,0]
["002765",0,"Each","002765 - SIGN - CAUTION HELIBASE, POLYVINYL, 14'' X 11''",{"$f":"_xlfn.XLOOKUP(A636,'Sheet 2'!A:A,'Sheet 2'!B:B)","v":3.78},0,null,1,0]
["002768",0,"Each","002768 - SIGN - INFORMATION OFFICER, WHITE TAG, 14\" X 11\"",{"$f":"_xlfn.XLOOKUP(A637,'Sheet 2'!A:A,'Sheet 2'!B:B)","v":1.4},0,null,0.06,0]
["002770",0,"Each","002770 - SIGN - LOGISTICS, WHITE TAG, 14\" X 11\"",{"$f":"_xlfn.XLOOKUP(A638,'Sheet 2'!A:A,'Sheet 2'!B:B)","v":1.1200000000000001},0,null,0.06,0]
["002771",0,"Each","002771 - SIGN - FIRST AID, POLYVINYL, 14\" x 11\"",{"$f":"_xlfn.XLOOKUP(A639,'Sheet 2'!A:A,'Sheet 2'!B:B)","v":8.07},0,null,0.63,0]
["002773",0,"Each","002773 - SIGN - PLANNING, WHITE TAG, 14\" X 11\"",{"$f":"_xlfn.XLOOKUP(A640,'Sheet 2'!A:A,'Sheet 2'!B:B)","v":1.1499999999999999},0,null,0.06,0]
["002774",0,"Each","002774 - SIGN - RESOURCE UNIT, WHITE TAG, 14\" X 11\"",{"$f":"_xlfn.XLOOKUP(A641,'Sheet 2'!A:A,'Sheet 2'!B:B)","v":1.1100000000000001},0,null,0.06,0]
["002775",0,"Each","002775 - SIGN - SAFETY OFFICER, WHITE TAG, 14\" X 11\"",{"$f":"_xlfn.XLOOKUP(A642,'Sheet 2'!A:A,'Sheet 2'!B:B)","v":1.08},0,null,0.06,0]
["002776",0,"Each","002776 - SIGN - SECURITY, WHITE TAG, 14\" x 11\"",{"$f":"_xlfn.XLOOKUP(A643,'Sheet 2'!A:A,'Sheet 2'!B:B)","v":1.36},0,null,0.06,0]
["002777",0,"Each","002777 - SIGN - SITUATION UNIT, WHITE TAG, 14\" X 11\"",{"$f":"_xlfn.XLOOKUP(A644,'Sheet 2'!A:A,'Sheet 2'!B:B)","v":1.1200000000000001},0,null,0.06,0]
["002779",0,"Each","002779 - SIGN - SUPPLY UNIT, WHITE TAG, 14\" X 11\"",{"$f":"_xlfn.XLOOKUP(A645,'Sheet 2'!A:A,'Sheet 2'!B:B)","v":1.1200000000000001},0,null,0.06,0]
["002781",0,"Each","002781 - SIGN - TIME RECORDER, WHITE TAG, 14\" X 11\"",{"$f":"_xlfn.XLOOKUP(A646,'Sheet 2'!A:A,'Sheet 2'!B:B)","v":1.1499999999999999},0,null,0.06,0]
["002799",0,"Each","002799 - SHELTER - PRACTICE,LARGE,COMPLETE,M2002",{"$f":"_xlfn.XLOOKUP(A647,'Sheet 2'!A:A,'Sheet 2'!B:B)","v":260.17},0,null,2.95,0]
["002800",0,"Pair","002800 - JEAN - FLAME RESISTANT, BDU, 26\"-30\"X30\"INSEAM",{"$f":"_xlfn.XLOOKUP(A648,'Sheet 2'!A:A,'Sheet 2'!B:B)","v":111.65},0,null,1.25,0]
["002801",0,"Pair","002801 - JEAN - FLAME RESISTANT, BDU, 28\"-32\"X30\"INSEAM",{"$f":"_xlfn.XLOOKUP(A649,'Sheet 2'!A:A,'Sheet 2'!B:B)","v":111.65},0,null,1.25,0]
["002802",0,"Pair","002802 - JEAN - FLAME RESISTANT, BDU, 30\"-34\"X30\"INSEAM",{"$f":"_xlfn.XLOOKUP(A650,'Sheet 2'!A:A,'Sheet 2'!B:B)","v":111.65},0,null,1.31,0]
["002803",0,"Pair","002803 - JEAN - FLAME RESISTANT, BDU, 32\"-36\"X30\"INSEAM",{"$f":"_xlfn.XLOOKUP(A651,'Sheet 2'!A:A,'Sheet 2'!B:B)","v":111.65},0,null,1.38,0]
["002804",0,"Pair","002804 - JEAN - FLAME RESISTANT, BDU, 34\"-38\"X30\"INSEAM",{"$f":"_xlfn.XLOOKUP(A652,'Sheet 2'!A:A,'Sheet 2'!B:B)","v":111.65},0,null,1.38,0]
["002805",0,"Pair","002805 - JEAN - FLAME RESISTANT, BDU, 36\"-40\"X30\"INSEAM",{"$f":"_xlfn.XLOOKUP(A653,'Sheet 2'!A:A,'Sheet 2'!B:B)","v":111.65},0,null,1.38,0]
["002806",0,"Pair","002806 - JEAN - FLAME RESISTANT, BDU, 38\"-42\"X30\"INSEAM",{"$f":"_xlfn.XLOOKUP(A654,'Sheet 2'!A:A,'Sheet 2'!B:B)","v":111.65},0,null,1.38,0]
["002807",0,"Pair","002807 - JEAN - FLAME RESISTANT, BDU, 40\"-44\"X30\"INSEAM",{"$f":"_xlfn.XLOOKUP(A655,'Sheet 2'!A:A,'Sheet 2'!B:B)","v":111.65},0,null,1.44,0]
[{"$f":"LEFT(D656, 6)","v":"002841"},0,"Pair","002841 - JEAN - FLAME RESISTANT, BDU, 26''-30''X36''INSEAM",{"$f":"_xlfn.XLOOKUP(A656,'Sheet 2'!A:A,'Sheet 2'!B:B)","v":111.65},0,null,1.25,{"$f":"B656*H656","v":0}]
["002842",0,"Pair","002842 - JEAN - FLAME RESISTANT, BDU, 44''-48''X30''INSEAM",{"$f":"_xlfn.XLOOKUP(A657,'Sheet 2'!A:A,'Sheet 2'!B:B)","v":111.65},0,null,1.25,0]
["002843",0,"Pair","002843 - JEAN - FLAME RESISTANT, BDU, 28''-32''X36''INSEAM",{"$f":"_xlfn.XLOOKUP(A658,'Sheet 2'!A:A,'Sheet 2'!B:B)","v":111.65},0,null,1.25,0]
["002844",0,"Pair","002844 - JEAN - FLAME RESISTANT, BDU, 30''-34''X36''INSEAM",{"$f":"_xlfn.XLOOKUP(A659,'Sheet 2'!A:A,'Sheet 2'!B:B)","v":111.65},0,null,1.25,0]
["002845",0,"Pair","002845 - JEAN - FLAME RESISTANT, BDU, 32''-36''X36''INSEAM",{"$f":"_xlfn.XLOOKUP(A660,'Sheet 2'!A:A,'Sheet 2'!B:B)","v":111.65},0,null,1.25,0]
["002846",0,"Pair","002846 - JEAN - FLAME RESISTANT, BDU, 44''-48''X33''INSEAM",{"$f":"_xlfn.XLOOKUP(A661,'Sheet 2'!A:A,'Sheet 2'!B:B)","v":111.65},0,null,1.25,0]
["002847",0,"Pair","002847 - JEAN - FLAME RESISTANT, BDU, 34''-38''X36''INSEAM",{"$f":"_xlfn.XLOOKUP(A662,'Sheet 2'!A:A,'Sheet 2'!B:B)","v":111.65},0,null,1.25,0]
["002848",0,"Pair","002848 - JEAN - FLAME RESISTANT, BDU, 36''-40''X36''INSEAM",{"$f":"_xlfn.XLOOKUP(A663,'Sheet 2'!A:A,'Sheet 2'!B:B)","v":111.65},0,null,1.25,0]
["002849",0,"Pair","002849 - JEAN - FLAME RESISTANT, BDU, 38''-42''X36''INSEAM",{"$f":"_xlfn.XLOOKUP(A664,'Sheet 2'!A:A,'Sheet 2'!B:B)","v":111.65},0,null,1.25,0]
["002850",0,"Pair","002850 - JEAN - FLAME RESISTANT, BDU, 40''-44''X36''INSEAM",{"$f":"_xlfn.XLOOKUP(A665,'Sheet 2'!A:A,'Sheet 2'!B:B)","v":111.65},0,null,1.25,0]
["002851",0,"Pair","002851 - JEAN - FLAME RESISTANT, BDU, 44''-48''X36''INSEAM",{"$f":"_xlfn.XLOOKUP(A666,'Sheet 2'!A:A,'Sheet 2'!B:B)","v":111.65},0,null,1.25,0]
["002910",0,"Each","002910 - SHIRT - FIRE, 3XL",{"$f":"_xlfn.XLOOKUP(A667,'Sheet 2'!A:A,'Sheet 2'!B:B)","v":91.89},0,null,1.25,0]
["002911",0,"Each","002911 - SHIRT - FIRE, 3XL-L",{"$f":"_xlfn.XLOOKUP(A668,'Sheet 2'!A:A,'Sheet 2'!B:B)","v":91.89},0,null,1.25,0]
["002946",0,"Pair","002946 - JEAN - BDU, KEVLAR/NOMEX, 32\" -36\" X 34\" INSEAM",{"$f":"_xlfn.XLOOKUP(A669,'Sheet 2'!A:A,'Sheet 2'!B:B)","v":143.19},0,null,1.25,0]
["002990",0,"Kit","002990 - KIT - RECORD RETENTION",{"$f":"_xlfn.XLOOKUP(A670,'Sheet 2'!A:A,'Sheet 2'!B:B)","v":368.64},0,null,84,0]
["003007",0,"Box","003007 - LIGHTSTICK - CHEMICAL, 12 HOUR, RED",{"$f":"_xlfn.XLOOKUP(A671,'Sheet 2'!A:A,'Sheet 2'!B:B)","v":25.63},0,null,0.63,0]
["003009",0,"Box","003009 - LIGHTSTICK - CHEMICAL, 12 HOUR, GREEN",{"$f":"_xlfn.XLOOKUP(A672,'Sheet 2'!A:A,'Sheet 2'!B:B)","v":22.34},0,null,0.63,0]
["003012",0,"Box","003012 - LIGHTSTICK - CHEMICAL, 12 HOUR, YELLOW",{"$f":"_xlfn.XLOOKUP(A673,'Sheet 2'!A:A,'Sheet 2'!B:B)","v":22.11},0,null,0.63,0]
["003161",0,"Each","003161 - EASEL - DISPLAY, 27'' X 36'' W/FOLDING LEGS",{"$f":"_xlfn.XLOOKUP(A674,'Sheet 2'!A:A,'Sheet 2'!B:B)","v":269.77},0,null,15.5,0]
["003168",0,"Each","003168 - SIGN - CAUTION ROAD CLOSED, POLYVINYL, 14'' X 10''",{"$f":"_xlfn.XLOOKUP(A675,'Sheet 2'!A:A,'Sheet 2'!B:B)","v":9.5299999999999994},0,null,0.1,0]
["003300",0,"Each","003300 - BAG - GARBAGE LINER, PLASTIC, 30 GL",{"$f":"_xlfn.XLOOKUP(A676,'Sheet 2'!A:A,'Sheet 2'!B:B)","v":0.36},0,null,0.1,0]
["003305",0,"Hank","003305 - CORD - NYLON, 1/8'' X 100'",{"$f":"_xlfn.XLOOKUP(A677,'Sheet 2'!A:A,'Sheet 2'!B:B)","v":6.07},0,null,1.1599999999999999,0]
["003309",0,"Pound","003309 - RAG - WIPING (KIT ITEM)",{"$f":"_xlfn.XLOOKUP(A678,'Sheet 2'!A:A,'Sheet 2'!B:B)","v":3.24},0,null,1,0]
["003310",0,"Ream","003310 - PAPER - COPIER, 8 1/2'' X 11''",{"$f":"_xlfn.XLOOKUP(A679,'Sheet 2'!A:A,'Sheet 2'!B:B)","v":7.63},0,null,4.88,0]
["003318",0,"Each","003318 - BAG - COTTON, LUNCH OR TOOL, 10'' X 24'' (KIT ITEM)",{"$f":"_xlfn.XLOOKUP(A680,'Sheet 2'!A:A,'Sheet 2'!B:B)","v":3.03},0,null,0.12,0]
["003411",0,"Case","003411 - AERIAL IGNITION DEV - PING-PONG BALL",{"$f":"_xlfn.XLOOKUP(A681,'Sheet 2'!A:A,'Sheet 2'!B:B)","v":326.39},0,null,14.38,0]
["003412",0,"Case","003412 - AERIAL IGNITION SPHERE - UAV, DRAGON EGG",{"$f":"_xlfn.XLOOKUP(A682,'Sheet 2'!A:A,'Sheet 2'!B:B)","v":382.23},0,null,12.1,0]
["003444",0,"Each","003444 - OIL - 2 CYCLE, MIX SIZE FOR 1 GL (3.8L) OF FUEL MIX",{"$f":"_xlfn.XLOOKUP(A683,'Sheet 2'!A:A,'Sheet 2'!B:B)","v":1.51},{"$f":"E683*B683","v":0},null,0.5,0]
["003520",0,"Kit","003520 - KIT - ACCESSORY PACK, HELICOPTER SUPPORT",{"$f":"_xlfn.XLOOKUP(A684,'Sheet 2'!A:A,'Sheet 2'!B:B)","v":985.81},0,null,84,0]
["003521",0,"Kit","003521 - KIT - FORMS PACK, HELICOPTER SUPPORT (NFES 0520)",{"$f":"_xlfn.XLOOKUP(A685,'Sheet 2'!A:A,'Sheet 2'!B:B)","v":712.03},0,null,55,0]
["003870",0,"Kit","003870 - KIT - ACCESSORY, PUMP, PORTABLE, HIGH PRESSURE (000870)",{"$f":"_xlfn.XLOOKUP(A686,'Sheet 2'!A:A,'Sheet 2'!B:B)","v":1955.17},0,null,58,0]
["004045",0,"Each","004045 - HOLDER - BATTERY, AA, BKR5000",{"$f":"_xlfn.XLOOKUP(A687,'Sheet 2'!A:A,'Sheet 2'!B:B)","v":93.84},0,null,0.35,0]
["006031",0,"Each","006031 - TANK, COLLAPSIBLE - 6000 GL (22,712.5L), FREE STANDING 64'' DEPTH, OPENING 215''",{"$f":"_xlfn.XLOOKUP(A688,'Sheet 2'!A:A,'Sheet 2'!B:B)","v":2140.16},0,null,155,0]
["006050",0,"Kit","006050 - KIT - LIGHTING, FLOOD",{"$f":"_xlfn.XLOOKUP(A689,'Sheet 2'!A:A,'Sheet 2'!B:B)","v":172.2},0,null,33,0]
["006051",0,"Kit","006051 - KIT - LIGHTING, MULTI-LIGHT CORD",{"$f":"_xlfn.XLOOKUP(A690,'Sheet 2'!A:A,'Sheet 2'!B:B)","v":990.47},0,null,83,0]
["006066",0,"Roll","006066 - RIBBON - FLAGGING, ''KILLER TREE'', 1 1/2'' X 150', ORANGE",{"$f":"_xlfn.XLOOKUP(A691,'Sheet 2'!A:A,'Sheet 2'!B:B)","v":4.03},0,null,0.63,0]
["006067",0,"Roll","006067 - RIBBON - FLAGGING, ''SPOT FIRE'', 1 1/2'' X 150', ORANGE",{"$f":"_xlfn.XLOOKUP(A692,'Sheet 2'!A:A,'Sheet 2'!B:B)","v":3.83},0,null,0.63,0]
["006131",0,"Each","006131 - FLY - SUNSCREEN, 20' X 20',W/GUY ROPES",{"$f":"_xlfn.XLOOKUP(A693,'Sheet 2'!A:A,'Sheet 2'!B:B)","v":366.21},0,null,16,0]
["006139",0,"Each","006139 - HEATER, PROPANE - 20 LB TANK MOUNTED",{"$f":"_xlfn.XLOOKUP(A694,'Sheet 2'!A:A,'Sheet 2'!B:B)","v":62.19},0,null,3.63,0]
["006500",0,"Each","006500 - CHAIN - SAW, 72, 84  OR 91 DRIVER LOOP, MODEL SPECIFIC",{"$f":"_xlfn.XLOOKUP(A695,'Sheet 2'!A:A,'Sheet 2'!B:B)","v":33.68},0,null,1,0]
["007038",0,"Each","007038 - WRENCH - SPARKPLUG 5/8\" OR 3/4\" PLUGS",{"$f":"_xlfn.XLOOKUP(A696,'Sheet 2'!A:A,'Sheet 2'!B:B)","v":10.98},0,null,1,0]
["007046",0,"Each","007046 - CONE - TRAFFIC, ORANGE",{"$f":"_xlfn.XLOOKUP(A697,'Sheet 2'!A:A,'Sheet 2'!B:B)","v":27.91},0,null,7,0]
["007051",0,"Each","007051 - CORD - EXTENSION, 50', 3-WIRE AWG-14",{"$f":"_xlfn.XLOOKUP(A698,'Sheet 2'!A:A,'Sheet 2'!B:B)","v":50},0,null,5,0]
["007057",0,"Each","007057 - FUEL LINE - FOR 2 GAS CAN ASSEMBLY (SPRINKLER KITS)",{"$f":"_xlfn.XLOOKUP(A699,'Sheet 2'!A:A,'Sheet 2'!B:B)","v":55.84},0,null,2,0]
["007058",0,"Each","007058 - HEADSET - H7030, OVER HEAD",{"$f":"_xlfn.XLOOKUP(A700,'Sheet 2'!A:A,'Sheet 2'!B:B)","v":204.9},0,null,2,0]
["007059",0,"Each","007059 - HEADSET - H7040, UNDER HARDHAT",{"$f":"_xlfn.XLOOKUP(A701,'Sheet 2'!A:A,'Sheet 2'!B:B)","v":218.4},0,null,2,0]
["007064",0,"Each","007064 - LUMBER -  2\" X 2\" X 8' (FOR HELIBASE)",{"$f":"_xlfn.XLOOKUP(A702,'Sheet 2'!A:A,'Sheet 2'!B:B)","v":2.36},0,null,6,0]
["007065",0,"Each","007065 - LUMBER - 2\" X 4\" X 8'",{"$f":"_xlfn.XLOOKUP(A703,'Sheet 2'!A:A,'Sheet 2'!B:B)","v":3.23},0,null,6,0]
["007069",0,"Each","007069 - PLIERS - CHANNEL LOCK, ADJUSTABLE",{"$f":"_xlfn.XLOOKUP(A704,'Sheet 2'!A:A,'Sheet 2'!B:B)","v":11.96},0,null,1,0]
["007078",0,"Each","007078 - PLYWOOD - 4' X 8' X 1/2\" SHEET",{"$f":"_xlfn.XLOOKUP(A705,'Sheet 2'!A:A,'Sheet 2'!B:B)","v":32.53},0,null,48,0]
["007079",0,"Each","007079 - RETAINER - HELMET CLIPS",{"$f":"_xlfn.XLOOKUP(A706,'Sheet 2'!A:A,'Sheet 2'!B:B)","v":2.5},0,null,0.01,0]
["007084",0,"Each","007084 - TIE WRAPS - ONE WAY, 14\"- 15\"",{"$f":"_xlfn.XLOOKUP(A707,'Sheet 2'!A:A,'Sheet 2'!B:B)","v":7.0000000000000007E-2},0,null,0,0]
["007086",0,"Each","007086 - WRENCH - 7/16\" COMBINATION",{"$f":"_xlfn.XLOOKUP(A708,'Sheet 2'!A:A,'Sheet 2'!B:B)","v":2.48},0,null,0.25,0]
["007090",0,"Each","007090 - WRENCH - COMBINATION 1/2\"",{"$f":"_xlfn.XLOOKUP(A709,'Sheet 2'!A:A,'Sheet 2'!B:B)","v":1.6},0,null,0.25,0]
["007093",0,"Each","007093 - WRENCH - PIPE, 18\"",{"$f":"_xlfn.XLOOKUP(A710,'Sheet 2'!A:A,'Sheet 2'!B:B)","v":53.69},0,null,6,0]
["007274",0,"Each","007274 - PLUG-SPARK, LEAF BLOWER OR CHAINSAW, 10MM",{"$f":"_xlfn.XLOOKUP(A711,'Sheet 2'!A:A,'Sheet 2'!B:B)","v":3.3},0,null,0.1,0]
["007287",0,"Each","007287 - HELMET - CAP STYLE, YELLOW, BULLARD 911C",{"$f":"_xlfn.XLOOKUP(A712,'Sheet 2'!A:A,'Sheet 2'!B:B)","v":52.4},0,null,0,0]
["007291",0,"Each","007291 - HELMET - FULL BRIM, YELLOW, BULLARD, 911H",{"$f":"_xlfn.XLOOKUP(A713,'Sheet 2'!A:A,'Sheet 2'!B:B)","v":56.2},0,null,0,0]
["007471",0,"PG","007471 - BATTERY - AAA, PACKAGE",{"$f":"_xlfn.XLOOKUP(A714,'Sheet 2'!A:A,'Sheet 2'!B:B)","v":3.49},0,null,0.45,0]
["007613",0,"Quart","007613 - OIL - SAE 10-30 WT",{"$f":"_xlfn.XLOOKUP(A715,'Sheet 2'!A:A,'Sheet 2'!B:B)","v":5.98},0,null,1,0]
["007621",0,"Each","007621 - GASKET - 1 1/2\"  LEXAN NOZZLE",{"$f":"_xlfn.XLOOKUP(A716,'Sheet 2'!A:A,'Sheet 2'!B:B)","v":0.27},0,null,0.06,0]
["007623",0,"Each","007623 - GASKET - NOZZLE, FOR 0138 LEXAN",{"$f":"_xlfn.XLOOKUP(A717,'Sheet 2'!A:A,'Sheet 2'!B:B)","v":0.36},0,null,0.06,0]
["007628",0,"Length","007628 - HOSE - CSJRL, 2 1/2\" NH X 50'",{"$f":"_xlfn.XLOOKUP(A718,'Sheet 2'!A:A,'Sheet 2'!B:B)","v":105.68},0,null,20,0]
["007636",0,"Length","007636 - HOSE - SYNTHETIC, 3/4\" X 15', GARDEN (SPRINKLER KIT)",{"$f":"_xlfn.XLOOKUP(A719,'Sheet 2'!A:A,'Sheet 2'!B:B)","v":9.6},0,null,1,0]
[{"$f":"LEFT(D720, 6)","v":"007651"},0,"Each","007651 - PUMP - TIRE (FOR BASE UNITS)",{"$f":"_xlfn.XLOOKUP(A720,'Sheet 2'!A:A,'Sheet 2'!B:B)","v":8.9600000000000009},0,null,2,{"$f":"B720*H720","v":0}]
["007655",0,"Each","007655 - SPRINKLER HEAD - RAIN BIRD, 20JH, 1/2\", W/MOUNT BRACKET",{"$f":"_xlfn.XLOOKUP(A721,'Sheet 2'!A:A,'Sheet 2'!B:B)","v":19},0,null,3,0]
["007659",0,"Each","007659 - VALVE -  FOOT, W/STRAINER, 2 1/2\" NH",{"$f":"_xlfn.XLOOKUP(A722,'Sheet 2'!A:A,'Sheet 2'!B:B)","v":224.78},0,null,2,0]
["007724",0,"Bottle","007724 - OIL - 2 CYCLE, 5 GAL MIX SIZE,(12.8 OZ)",{"$f":"_xlfn.XLOOKUP(A723,'Sheet 2'!A:A,'Sheet 2'!B:B)","v":4.17},0,null,0,0]
["008035",0,"Each","008035 - CARTON - FIBERBOARD, 15 1/4\" X 15 1/4\" X 14\"",{"$f":"_xlfn.XLOOKUP(A724,'Sheet 2'!A:A,'Sheet 2'!B:B)","v":2.97},0,null,1.4,0]
["008037",0,"Each","008037 - CARTON - FIBERBOARD, 18 1/2\" X 18 1/2\" X 15 1/2\"",{"$f":"_xlfn.XLOOKUP(A725,'Sheet 2'!A:A,'Sheet 2'!B:B)","v":1.38},0,null,2,0]
["008043",0,"Each","008043 - PACK - #2 CRUISER, ORANGE, SPRINKLER KITS",{"$f":"_xlfn.XLOOKUP(A726,'Sheet 2'!A:A,'Sheet 2'!B:B)","v":42},0,null,2,0]
["008070",0,"Each","008070 - CARTON - FIBERBOARD, 18\" X 15\" X 5 1/2\"",{"$f":"_xlfn.XLOOKUP(A727,'Sheet 2'!A:A,'Sheet 2'!B:B)","v":2.89},0,null,1.45,0]
["008200",0,"Each","008200 - CARTON - FIBERBOARD, 38 1/2\" X 18 1/2\" X 10 3/8\"",{"$f":"_xlfn.XLOOKUP(A728,'Sheet 2'!A:A,'Sheet 2'!B:B)","v":8.76},0,null,4.0599999999999996,0]
["008617",0,"Kit","008617 - KIT - HELICOPTER, LEADLINE, NET, SWIVEL (1 PER KIT)",{"$f":"_xlfn.XLOOKUP(A729,'Sheet 2'!A:A,'Sheet 2'!B:B)","v":1166.8800000000001},0,null,45,0]
["008618",0,"Kit","008618 - KIT - HOSE, SYNTHETIC LINED, 1 1/2\" X 400' IN BOX",{"$f":"_xlfn.XLOOKUP(A730,'Sheet 2'!A:A,'Sheet 2'!B:B)","v":963.07},0,null,53,0]
["008619",0,"Kit","008619 - KIT - HOSE, SYNTHETIC LINED, 1 1/2\" X 400' IN NYLON PACK",{"$f":"_xlfn.XLOOKUP(A731,'Sheet 2'!A:A,'Sheet 2'!B:B)","v":1024.04},0,null,55,0]
["009498",0,"Each","009498 - FLASHDRIVE - USB, 64 - 128 GB",{"$f":"_xlfn.XLOOKUP(A732,'Sheet 2'!A:A,'Sheet 2'!B:B)","v":9.0299999999999994},0,null,0,0]
["009981",0,"Each","009981 - SPRAYER - HANDHELD, 1-4 GAL",{"$f":"_xlfn.XLOOKUP(A733,'Sheet 2'!A:A,'Sheet 2'!B:B)","v":39.85},0,null,0,0]

{"sheet":"Sheet 2","index":1,"n_rows":4004,"n_cols":9,"rows_kept":4004,"cut":false,"hidden":false,"merged":[]}
["Item ID","Cost",null,null,null,6,null,"January",1]
["000002",4.32,null,null,null,7,null,"February",2]
["000003",4.95,null,null,null,4,null,"March",3]
["000004",5.01,null,null,null,3,null,"April",4]
["000006",15.57,null,null,null,46,null,"May",5]
["000007",16.12,null,null,null,857,null,"June",6]
["000009",29.92,null,null,null,710,null,"July",7]
["000010",13.58,null,null,null,856,null,"August",8]
["000011",112.37,null,null,null,916,null,"September",9]
["000012",26.21,null,null,null,429,null,"October",10]
["000013",45.32,null,null,null,428,null,"November",11]
["000014",10.41,null,null,null,1145,null,"December",12]
["000015",40,null,null,null,105,null,null,13]
["000016",39.549999999999997,null,null,null,743,null,null,14]
["000017",0.85,null,null,null,254,null,null,15]
["000018",249.51,null,null,null,721,null,null,16]
["000020",79.81,null,null,null,1296,null,null,17]
["000021",29.89,null,null,null,1295,null,null,18]
["000022",62.66,null,null,null,1294,null,null,19]
["000024",161.35,null,null,null,1297,null,null,20]
["000027",5.01,null,null,null,1293,null,null,21]
["000028",146.66999999999999,null,null,null,318,null,null,22]
["000030",9.26,null,null,null,1086,null,null,23]
["000033",15.47,null,null,null,718,null,null,24]
["000034",13.64,null,null,null,7291,null,null,25]
["000035",7.59,null,null,null,7287,null,null,26]
["000037",2.0299999999999998,null,null,null,1016,null,null,27]
["000038",10.08,null,null,null,7629,null,null,28]
["000040",115,null,null,null,115,null,null,29]
["000043",25.74,null,null,null,1239,null,null,30]
["000045",146.66999999999999,null,null,null,1238,null,null,31]
["000046",53.07,null,null,null,1808]
["000047",46.56,null,null,null,2800]
["000048",186.25,null,null,null,2841]
["000049",15.47,null,null,null,2700]
["000050",209.16,null,null,null,2801]
["000052",5.01,null,null,null,2843]
["000053",88.26,null,null,null,2701]
["000054",3.1,null,null,null,2844]
["000058",85.55,null,null,null,2802]
["000059",8.76,null,null,null,2702]
["000060",3.26,null,null,null,2803]
["000061",7.61,null,null,null,2845]
["000062",42,null,null,null,2703]
["000063",2.46,null,null,null,2804]
["000064",530,null,null,null,2847]
["000066",6.79,null,null,null,2704]
["000067",24.31,null,null,null,2805]
["000069",11.58,null,null,null,2848]
["000070",663.05,null,null,null,2705]
["000071",7.68,null,null,null,2806]
["000072",42,null,null,null,2849]
["000074",1.31,null,null,null,2706]
["000075",4.13,null,null,null,2807]
["000077",255.31,null,null,null,2850]
["000078",146.66999999999999,null,null,null,2707]
["000079",9.4600000000000009,null,null,null,2842]
["000081",15.87,null,null,null,2846]
["000082",85.38,null,null,null,2851]
["000083",60.91,null,null,null,597]
["000084",689.68,null,null,null,296]
["000085",51.43,null,null,null,24]
["000086",8.65,null,null,null,628]
["000087",4.84,null,null,null,629]
["000088",3.55,null,null,null,627]
["000089",184.17,null,null,null,136]
["000090",895.77,null,null,null,138]
["000091",88.77,null,null,null,137]
["000092",193.11,null,null,null,674]
["000093",137.5,null,null,null,679]
["000094",10.87,null,null,null,146]
["000096",37.44,null,null,null,1149]
["000097",56.45,null,null,null,151]
["000098",14.31,null,null,null,659]
["000100",8.1199999999999992,null,null,null,1807]
["000103",320.93,null,null,null,10]
["000104",1586.81,null,null,null,733]
["000105",143.16999999999999,null,null,null,2230]
["000106",20.25,null,null,null,257]
["000109",52.33,null,null,null,975]
["000113",57.72,null,null,null,925]
["000114",38.909999999999997,null,null,null,579]
["000115",214.15,null,null,null,578]
["000116",46.13,null,null,null,569]
["000117",43.73,null,null,null,577]
["000118",556.41999999999996,null,null,null,580]
["000119",95.46,null,null,null,570]
["000120",1425.75,null,null,null,2078]
["000121",1359.29,null,null,null,511]
["000124",679.84,null,null,null,2079]
["000126",12.96,null,null,null,522]
["000128",116.97,null,null,null,512]
["000129",3.3,null,null,null,2910]
["000131",0.98,null,null,null,2911]
["000132",11.34,null,null,null,171]
["000135",70.11,null,null,null,1274]
["000136",22.06,null,null,null,1868]
["000137",8.33,null,null,null,731]
["000138",8.64,null,null,null,230]
["000139",3.93,null,null,null,1180]
["000140",11.49,null,null,null,241]
["000141",10.46,null,null,null,228]
["000142",68.459999999999994,null,null,null,212]
["000143",67.8,null,null,null,231]
["000144",84.53,null,null,null,259]
["000145",116.49,null,null,null,229]
["000146",72.680000000000007,null,null,null,235]
["000147",6826.9,null,null,null,234]
["000148",5354.46]
["000149",278.56]
["000150",146.66999999999999]
["000151",70.67]
["000152",7.89]
["000153",8.27]
["000159",1347.75]
["000171",91.53]
["000177",6.39]
["000178",1.47]
["000184",12.03]
["000185",6.5]
["000186",12.89]
["000189",0.69]
["000191",75]
["000193",0]
["000194",29]
["000195",35]
["000196",11.91]
["000197",4.32]
["000204",63.84]
["000206",0.21]
["000208",55.98]
["000209",125.48]
["000210",12.31]
["000212",87.78]
["000213",4.6500000000000004]
["000215",5.82]
["000216",0.24]
["000217",122.26]
["000218",181.15]
["000220",402.61]
["000221",293.89]
["000222",5.4]
["000223",434.1]
["000224",0]
["000225",35.020000000000003]
["000228",132.81]
["000229",104.38]
["000230",47.09]
["000231",125.63]
["000233",3.21]
["000234",6.46]
["000235",11.08]
["000237",4.5]
["000238",96.16]
["000240",31.1]
["000241",214.72]
["000242",1397.46]
["000243",2245]
["000244",423.9]
["000245",917.78]
["000246",430.97]
["000247",27.91]
["000248",11.34]
["000249",12.49]
["000250",22.29]
["000251",2.88]
["000254",0.34]
["000255",41.95]
["000256",2.23]
["000257",4.1900000000000004]
["000258",73.83]
["000259",124.55]
["000260",141.44]
["000261",7.89]
["000262",13.93]
["000263",5.86]
["000264",0.84]
["000265",16.72]
["000266",4.71]
["000267",3.74]
["000268",51.75]
["000273",7.51]
["000278",2.59]
["000279",2.46]
["000280",20.53]
["000281",33.33]
["000283",1.06]
["000284",7.13]
["000285",18.05]
["000286",1312.28]
["000287",0.01]
["000288",15.55]
["000289",15.76]
["000290",8.18]
["000291",9.4700000000000006]
["000292",15.82]
["000293",7.24]
["000294",19.260000000000002]
["000295",9.19]
["000296",68.489999999999995]
["000297",11.07]
["000298",63.91]
["000299",10.62]
["000305",52.58]
["000306",624.44000000000005]
["000307",154.68]
["000308",85.7]
["000309",22.14]
["000314",246]
["000315",5.8]
["000316",17.329999999999998]
["000317",34.96]
["000318",22.93]
["000319",69.13]
["000320",685.55]
["000321",12.75]
["000322",20.82]
["000323",49.02]
["000324",13.34]
["000325",19.84]
["000326",1.73]
["000327",1.01]
["000328",0.13]
["000329",8.6999999999999993]
["000330",2.67]
["000331",5.65]
["000332",13.6]
["000333",35.96]
["000336",1.94]
["000337",44.38]
["000338",31.09]
["000340",2031.13]
["000341",5.54]
["000342",59.03]
["000343",33.020000000000003]
["000344",2.56]
["000345",1.44]
["000346",6.94]
["000347",27.5]
["000348",7.46]
["000349",11.5]
["000350",108.47]
["000351",2.38]
["000353",8.35]
["000357",19.38]
["000358",2.72]
["000364",9.5500000000000007]
["000365",0.82]
["000366",0.76]
["000367",1.1100000000000001]
["000369",49.45]
["000370",4.13]
["000371",64.930000000000007]
["000372",0.14000000000000001]
["000373",1.5]
["000374",1.59]
["000375",2.39]
["000376",1.27]
["000377",1.3]
["000378",1.49]
["000379",0.73]
["000380",374.27]
["000381",0.06]
["000382",16.559999999999999]
["000383",35.119999999999997]
["000384",40.090000000000003]
["000385",12.54]
["000386",1.41]
["000387",9.67]
["000388",18.68]
["000389",18.68]
["000390",1810.5]
["000391",19.02]
["000392",3.67]
["000393",19]
["000394",0.08]
["000395",7.87]
["000396",5.01]
["000397",23]
["000398",34.380000000000003]
["000399",11.66]
["000400",2.16]
["000401",0.03]
["000402",9.15]
["000403",11.91]
["000404",11.65]
["000405",1035.6099999999999]
["000408",1260.1400000000001]
["000410",79.41]
["000412",12.76]
["000413",3.53]
["000414",1700]
["000415",0.72]
["000416",16.53]
["000417",26.23]
["000418",11.85]
["000420",7.41]
["000422",25.72]
["000424",14.98]
["000425",198.21]
["000426",380.49]
["000428",7.13]
["000429",9.65]
["000432",6.82]
["000433",3.14]
["000435",378.13]
["000436",91.2]
["000437",224.41]
["000438",41.33]
["000439",21]
["000440",74.75]
["000441",39.26]
["000442",245]
["000443",5.33]
["000444",44]
["000445",113.23]
["000446",1.22]
["000447",1.07]
["000448",0.81]
["000450",1.06]
["000453",20.69]
["000457",2509.4]
["000458",1763.24]
["000459",1.91]
["000461",80.239999999999995]
["000463",1797.8]
["000464",41.4]
["000465",96.54]
["000467",51.6]
["000468",5.6]
["000471",158.46]
["000472",1011.03]
["000473",11.19]
["000474",5.44]
["000475",5.23]
["000476",5.23]
["000478",3.75]
["000480",1852.88]
["000481",499.64]
["000482",229.13]
["000483",0.12]
["000484",35.35]
["000485",56.15]
["000486",0.18]
["000487",16.149999999999999]
["000488",215.55]
["000489",687]
["000490",39.78]
["000491",47.48]
["000492",26.05]
["000493",77.56]
["000494",9.33]
["000495",13.67]
["000496",10.39]
["000497",0.1]
["000498",0.02]
["000499",7.0000000000000007E-2]
["000500",21.21]
["000501",181.41]
["000502",25.3]
["000503",1683.78]
["000504",591.23]
["000505",570.76]
["000506",570.76]
["000507",168.2]
["000508",168.2]
["000509",181.41]
["000510",44.85]
["000511",91.89]
["000512",91.89]
["000513",7.26]
["000514",181.41]
["000515",8.08]
["000516",5.85]
["000517",181.41]
["000518",181.41]
["000519",181.41]
["000520",5209.72]
["000521",181.41]
["000522",91.89]
["000523",10.7]
["000524",10.35]
["000525",181.41]
["000526",329.15]
["000527",168.2]
["000528",126.88]
["000529",8.26]
["000531",604.36]
["000532",41.55]
["000533",171.23]
["000534",9.16]
["000535",45.22]
["000536",17.84]
["000537",140.65]
["000538",0.89]
["000539",181.41]
["000542",4.12]
["000543",7.91]
["000544",28.16]
["000545",181.41]
["000546",181.41]
["000547",181.41]
["000548",181.41]
["000549",16457.599999999999]
["000551",12.01]
["000552",0]
["000554",3.23]
["000555",0]
["000556",7.64]
["000557",53.84]
["000558",6.19]
["000559",8.0299999999999994]
["000560",43.11]
["000562",2.78]
["000563",127.69]
["000564",7.57]
["000565",61.82]
["000566",2.34]
["000567",181.41]
["000568",1152.5899999999999]
["000569",91.89]
["000570",91.89]
["000571",773.99]
["000572",181.41]
["000573",13.25]
["000574",181.41]
["000575",11.37]
["000576",181.41]
["000577",91.89]
["000578",91.89]
["000579",91.89]
["000580",91.89]
["000581",4583.26]
["000586",136.02000000000001]
["000587",63.75]
["000588",711.73]
["000589",713.64]
["000590",11.46]
["000591",0.73]
["000592",3.81]
["000593",2.61]
["000594",3.84]
["000595",9.98]
["000596",3.27]
["000597",9.2899999999999991]
["000598",101.92]
["000599",3.26]
["000602",147.91999999999999]
["000604",0.93]
["000605",9.2799999999999994]
["000606",214.65]
["000607",329.95]
["000608",39.72]
["000609",8.2200000000000006]
["000610",0.04]
["000611",1.06]
["000613",121.55]
["000615",20.92]
["000616",38.119999999999997]
["000617",38.49]
["000618",286.44]
["000619",3.79]
["000620",13.23]
["000621",123.97]
["000622",5.77]
["000623",6.46]
["000624",47.07]
["000625",4.1399999999999997]
["000627",19.18]
["000628",25.58]
["000629",31]
["000633",4576.5600000000004]
["000634",2.39]
["000635",27.11]
["000636",35.44]
["000637",9.84]
["000638",17.34]
["000639",3.42]
["000640",42.62]
["000643",11.53]
["000644",17.66]
["000645",9.3800000000000008]
["000646",1.61]
["000647",22.66]
["000649",30.84]
["000650",1250.1300000000001]
["000652",56.51]
["000653",266.17]
["000654",555.84]
["000656",27.35]
["000657",6.01]
["000658",378.77]
["000659",114.16]
["000661",837.6]
["000662",176.17]
["000663",72.010000000000005]
["000664",908.68]
["000665",4349.4799999999996]
["000666",44.2]
["000667",48.37]
["000668",781.55]
["000669",20412.91]
["000670",1453.45]
["000672",5.96]
["000673",4.88]
["000674",147.29]
["000675",11.59]
["000676",61.51]
["000677",11.96]
["000678",484.24]
["000679",112.17]
["000680",176.08]
["000681",10.31]
["000684",17.27]
["000685",83.62]
["000686",52.27]
["000687",88.02]
["000688",55.92]
["000689",0.18]
["000690",10.050000000000001]
["000692",332.59]
["000693",50.62]
["000694",0.08]
["000700",2.5]
["000702",1.87]
["000703",28.23]
["000705",6.85]
["000706",8.69]
["000707",52.24]
["000709",2477.1799999999998]
["000710",19.61]
["000712",2.0699999999999998]
["000713",16.46]
["000714",2.0699999999999998]
["000718",57.76]
["000719",18.77]
["000720",25.47]
["000721",0.28000000000000003]
["000725",0.14000000000000001]
["000726",1.75]
["000727",0.3]
["000729",0.65]
["000730",17.61]
["000731",45.76]
["000732",15.75]
["000733",10.86]
["000734",13.83]
["000735",46.18]
["000736",10.02]
["000737",15.7]
["000741",43.9]
["000742",1.24]
["000743",0.42]
["000744",92.99]
["000745",3.68]
["000746",0.41]
["000747",6.28]
["000748",6.14]
["000749",10.43]
["000751",5.29]
["000758",84.87]
["000759",675.35]
["000760",769.78]
["000762",19.88]
["000763",9.06]
["000764",2.64]
["000765",0.23]
["000766",0.18]
["000767",2.17]
["000768",3.48]
["000769",1.93]
["000770",2.5099999999999998]
["000771",3.96]
["000773",3.33]
["000774",2.63]
["000775",0.98]
["000776",1.33]
["000781",0.79]
["000783",2.16]
["000784",3.02]
["000785",1.1000000000000001]
["000786",2.69]
["000787",23.41]
["000789",4.37]
["000790",4.13]
["000791",0.66]
["000794",0.28000000000000003]
["000795",359.74]
["000796",60.97]
["000797",6.68]
["000798",30.5]
["000800",435.08]
["000801",1.28]
["000802",1.1499999999999999]
["000803",1.19]
["000805",1.48]
["000808",5.82]
["000811",7.41]
["000812",5.2]
["000814",189.61]
["000815",23.96]
["000823",5.5]
["000824",0.71]
["000825",3.18]
["000826",2.4300000000000002]
["000827",601.54]
["000828",1.49]
["000829",17.71]
["000830",100.98]
["000831",1.29]
["000832",17.489999999999998]
["000833",25.15]
["000835",21.61]
["000836",4038.48]
["000847",4.3899999999999997]
["000849",349.24]
["000854",6.58]
["000855",44.06]
["000856",15.82]
["000857",26.76]
["000863",40.35]
["000866",26.66]
["000871",6.4]
["000872",15.77]
["000875",22.37]
["000880",144.13]
["000881",400.31]
["000882",3.25]
["000884",10.58]
["000886",10]
["000887",57.2]
["000891",8.66]
["000894",0.35]
["000897",7.44]
["000898",40.25]
["000899",21.61]
["000904",24.26]
["000906",126.93]
["000907",40.5]
["000908",83.79]
["000909",140.1]
["000910",694.06]
["000911",4.41]
["000912",92.42]
["000913",6.88]
["000914",129.66999999999999]
["000915",1.8]
["000916",15.22]
["000917",3.12]
["000925",500.97]
["000926",422.96]
["000927",20.79]
["000928",9.0299999999999994]
["000929",24.39]
["000930",45.55]
["000932",195.75]
["000933",250.15]
["000934",174.75]
["000935",0.76]
["000936",3.38]
["000937",13.39]
["000938",6.71]
["000939",4.22]
["000943",38.729999999999997]
["000957",2.42]
["000961",244.67]
["000963",7.72]
["000966",88.01]
["000967",92.58]
["000968",108.71]
["000970",146.61000000000001]
["000971",2.69]
["000972",17]
["000973",501.97]
["000975",555.15]
["000981",11.59]
["000982",17.21]
["000983",31.71]
["000985",12.59]
["000999",18.57]
["001002",0.2]
["001003",247.91]
["001004",9.7799999999999994]
["001005",37.19]
["001008",4.8499999999999996]
["001013",0.2]
["001014",18.3]
["001016",32.31]
["001017",33.22]
["001024",2205.4299999999998]
["001025",1685.05]
["001026",3890.48]
["001027",0.26]
["001031",471.58]
["001034",26.3]
["001035",6.86]
["001038",132.55000000000001]
["001039",6.7]
["001040",1029.08]
["001041",19.77]
["001042",16.23]
["001043",3.9]
["001046",4.22]
["001047",63.78]
["001048",882.69]
["001050",147.66]
["001051",1.26]
["001052",4.96]
["001054",5.04]
["001055",7.78]
["001059",2.66]
["001060",1291.1099999999999]
["001064",8.8000000000000007]
["001065",488.04]
["001066",81.87]
["001067",16.010000000000002]
["001070",42444.160000000003]
["001071",23.27]
["001073",4.34]
["001074",0.59]
["001075",2.13]
["001076",0.55000000000000004]
["001077",6]
["001078",11.95]
["001081",37.33]
["001082",57.04]
["001083",208.03]
["001086",70.62]
["001087",1.19]
["001090",2.9]
["001091",135.43]
["001092",140.84]
["001093",67.56]
["001094",428.09]
["001095",11.51]
["001097",153.37]
["001098",43.35]
["001099",123.23]
["001105",26.08]
["001113",71.86]
["001114",9.1]
["001117",7.69]
["001120",5.7]
["001121",133.41]
["001122",101.93]
["001123",133.41]
["001124",133.41]
["001125",133.41]
["001126",143.46]
["001132",32.89]
["001134",5.5]
["001135",0.01]
["001136",0.01]
["001138",23.12]
["001139",155.32]
["001140",111.87]
["001141",113.25]
["001142",113.25]
["001143",172.9]
["001144",3]
["001145",169.83]
["001146",24.33]
["001147",39.049999999999997]
["001148",21.07]
["001149",205.4]
["001151",4.5]
["001153",48.64]
["001154",25.78]
["001155",40.08]
["001156",63.94]
["001157",1.19]
["001158",1.52]
["001159",5.67]
["001160",0.28999999999999998]
["001161",1]
["001162",32.97]
["001163",5]
["001164",5]
["001165",5]
["001166",8.1300000000000008]
["001167",24.95]
["001168",27.1]
["001169",2.2000000000000002]
["001170",3.5]
["001171",12]
["001172",80.849999999999994]
["001173",20.89]
["001175",46.05]
["001176",5]
["001177",0.55000000000000004]
["001180",89.45]
["001181",0.74]
["001183",5]
["001184",15]
["001192",30.2]
["001193",30.2]
["001194",30.2]
["001195",21.53]
["001196",13.32]
["001197",66.41]
["001201",76.23]
["001202",9.83]
["001204",18.38]
["001207",65.37]
["001214",495.22]
["001215",508.49]
["001219",40.369999999999997]
["001220",430.72]
["001222",1588.78]
["001223",40.369999999999997]
["001224",40.369999999999997]
["001225",40.369999999999997]
["001226",40.369999999999997]
["001228",3.78]
["001238",187.51]
["001239",237.13]
["001240",0.6]
["001241",1.96]
["001242",9.49]
["001243",2.4300000000000002]
["001248",1.79]
["001249",10.85]
["001251",24.79]
["001269",20.88]
["001272",15.71]
["001273",22.62]
["001274",48.52]
["001275",64.64]
["001279",16.600000000000001]
["001281",0.99]
["001282",12.72]
["001285",91.24]
["001286",26.26]
["001287",7.96]
["001288",48.87]
["001290",70.73]
["001291",111.42]
["001292",42.77]
["001293",21.47]
["001294",21.47]
["001295",21.47]
["001296",21.47]
["001297",21.47]
["001300",24.15]
["001306",3.55]
["001309",3826.61]
["001316",9.6]
["001336",18.75]
["001342",13.28]
["001343",35.770000000000003]
["001344",7.96]
["001345",10.35]
["001346",9.6]
["001347",11.89]
["001348",13.61]
["001349",8.2799999999999994]
["001350",10.72]
["001352",22.43]
["001354",16.53]
["001361",19.63]
["001368",7.22]
["001372",72.989999999999995]
["001373",1.65]
["001374",34.39]
["001386",12.33]
["001396",88.57]
["001400",36.159999999999997]
["001401",6.34]
["001472",18.079999999999998]
["001473",23.33]
["001483",38.229999999999997]
["001486",10.08]
["001490",24.67]
["001492",16.55]
["001501",58.56]
["001503",22.42]
["001514",8.02]
["001521",137.82]
["001525",53.04]
["001526",48.71]
["001528",30.05]
["001529",5.0999999999999996]
["001530",8.7899999999999991]
["001534",19.3]
["001535",40.090000000000003]
["001536",9.5399999999999991]
["001537",4.38]
["001538",120.7]
["001539",120.7]
["001540",120.7]
["001541",120.7]
["001542",120.7]
["001543",120.7]
["001544",120.7]
["001545",120.7]
["001546",120.7]
["001547",120.7]
["001548",120.7]
["001549",120.7]
["001550",120.7]
["001551",120.7]
["001552",120.7]
["001553",120.7]
["001554",120.7]
["001556",120.7]
["001557",16.739999999999998]
["001559",31.84]
["001566",12.33]
["001576",31.36]
["001580",10.26]
["001581",69.709999999999994]
["001584",70.010000000000005]
["001585",36]
["001587",35.44]
["001589",22.03]
["001596",8.4600000000000009]
["001597",70.72]
["001599",34.08]
["001600",54.23]
["001602",22.35]
["001617",515.70000000000005]
["001639",36.07]
["001640",36.07]
["001641",36.07]
["001642",36.07]
["001643",36.07]
["001653",16.13]
["001660",14.45]
["001670",463.58]
["001675",207.13]
["001687",0.72]
["001727",326.08]
["001728",989.11]
["001760",1180.08]
["001762",2.99]
["001763",2.99]
["001764",2.99]
["001765",2.99]
["001766",2.99]
["001767",29]
["001768",29]
["001769",29]
["001770",70.92]
["001772",34.47]
["001788",9.5500000000000007]
["001801",89.4]
["001802",134.97999999999999]
["001807",100.57]
["001808",181.02]
["001809",52.69]
["001814",16.32]
["001827",2.41]
["001840",2.56]
["001841",8.5399999999999991]
["001842",189.3]
["001846",162.65]
["001848",337.97]
["001853",3.59]
["001854",2.54]
["001855",57.25]
["001857",18.440000000000001]
["001858",40.49]
["001864",13.79]
["001868",72.180000000000007]
["001869",4.3899999999999997]
["001874",57.66]
["001880",13.92]
["001882",1.63]
["001921",43.99]
["001922",10.07]
["001931",46.03]
["001933",17.399999999999999]
["001938",0.13]
["001957",58.16]
["001959",16.27]
["001960",7.6]
["001961",8.19]
["001962",62.08]
["001963",7.27]
["001971",28.17]
["001974",8.19]
["001975",7.23]
["001976",3.66]
["001977",10]
["001980",29.88]
["001981",19.72]
["002006",7]
["002007",10.199999999999999]
["002009",6.71]
["002025",4.8099999999999996]
["002030",6.6]
["002047",44.17]
["002057",6.93]
["002078",91.89]
["002079",91.89]
["002098",8.44]
["002099",9.44]
["002105",1.0900000000000001]
["002112",9.6999999999999993]
["002113",33.28]
["002114",26.3]
["002139",9.16]
["002143",65.19]
["002145",35.71]
["002147",0.92]
["002150",13.39]
["002165",14.46]
["002185",10.83]
["002186",15]
["002210",30.43]
["002229",26.87]
["002230",26.87]
["002231",4.72]
["002232",2.48]
["002235",11.42]
["002240",40.99]
["002290",29.23]
["002292",35.659999999999997]
["002293",143.19]
["002294",143.19]
["002295",143.19]
["002296",143.19]
["002297",7.93]
["002314",1404.54]
["002315",1404.54]
["002321",0.52]
["002326",1.21]
["002332",27.23]
["002362",5.47]
["002388",11.89]
["002389",25]
["002396",3.11]
["002397",15.4]
["002398",2.2200000000000002]
["002401",2.78]
["002419",37.78]
["002420",57.77]
["002440",77.89]
["002441",4.8499999999999996]
["002442",11.06]
["002475",115.91]
["002476",58.15]
["002478",41.94]
["002479",14.47]
["002490",27.74]
["002491",5.71]
["002501",27.21]
["002538",4.7]
["002545",1.06]
["002546",0.84]
["002547",0.85]
["002558",2.74]
["002559",1.02]
["002575",18.23]
["002591",4.17]
["002608",11.63]
["002636",26.33]
["002638",8.11]
["002640",6.27]
["002641",16.91]
["002642",24.78]
["002647",56.29]
["002648",10.76]
["002657",6.96]
["002670",79.73]
["002671",63.19]
["002674",18.2]
["002678",193.92]
["002679",281.31]
["002680",42.81]
["002681",36.69]
["002688",47.73]
["002690",12.56]
["002695",24.06]
["002696",16.37]
["002698",279.06]
["002700",111.65]
["002701",111.65]
["002702",111.65]
["002703",111.65]
["002704",111.65]
["002705",111.65]
["002706",111.65]
["002707",111.65]
["002718",35.99]
["002725",11.8]
["002737",111.65]
["002738",111.65]
["002752",1.31]
["002754",1.1599999999999999]
["002756",1.28]
["002760",1.1499999999999999]
["002762",1.1599999999999999]
["002764",1.39]
["002765",3.78]
["002768",1.4]
["002770",1.1200000000000001]
["002771",8.07]
["002773",1.1499999999999999]
["002774",1.1100000000000001]
["002775",1.08]
["002776",1.36]
["002777",1.1200000000000001]
["002779",1.1200000000000001]
["002781",1.1499999999999999]
["002785",53.29]
["002794",78.91]
["002795",34.31]
["002797",121.8]
["002798",108.2]
["002799",260.17]
["002800",111.65]
["002801",111.65]
["002802",111.65]
["002803",111.65]
["002804",111.65]
["002805",111.65]
["002806",111.65]
["002807",111.65]
["002816",62.87]
["002817",24.41]
["002830",51.24]
["002831",34.409999999999997]
["002834",52.23]
["002835",23.52]
["002841",111.65]
["002842",111.65]
["002843",111.65]
["002844",111.65]
["002845",111.65]
["002846",111.65]
["002847",111.65]
["002848",111.65]
["002849",111.65]
["002850",111.65]
["002851",111.65]
["002865",18.45]
["002866",13.24]
["002867",13.31]
["002874",58.3]
["002875",12.75]
["002880",83.26]
["002881",7.03]
["002885",53.39]
["002886",38.229999999999997]
["002889",3.09]
["002903",32.99]
["002904",5.33]
["002906",12.22]
["002910",91.89]
["002911",91.89]
["002912",52.99]
["002915",28.22]
["002917",55.58]
["002919",8.35]
["002920",48.31]
["002921",7.44]
["002923",13.87]
["002924",35.11]
["002926",20.309999999999999]
["002931",28.52]
["002934",35.4]
["002935",21.83]
["002944",143.19]
["002945",143.19]
["002946",143.19]
["002947",143.19]
["002948",143.19]
["002950",42.04]
["002951",12.19]
["002954",143.19]
["002955",143.19]
["002956",143.19]
["002957",143.19]
["002958",143.19]
["002959",143.19]
["002960",34.31]
["002961",9.4499999999999993]
["002963",143.19]
["002964",143.19]
["002965",143.19]
["002966",143.19]
["002967",143.19]
["002968",88.03]
["002970",30.28]
["002971",26.33]
["002972",5.73]
["002983",30.36]
["002986",10.24]
["002990",368.64]
["002992",10.039999999999999]
["002994",4.38]
["003000",3.3]
["003001",10695.25]
["003003",48.5]
["003004",118.56]
["003005",0.14000000000000001]
["003006",211.25]
["003007",25.63]
["003008",25.55]
["003009",22.34]
["003012",22.11]
["003016",103.28]
["003017",126.16]
["003018",65]
["003019",224.34]
["003022",18.86]
["003023",13.24]
["003024",14.93]
["003025",62.51]
["003026",45.27]
["003028",12.46]
["003031",1.43]
["003038",15.48]
["003039",33.71]
["003040",82.22]
["003041",17.54]
["003042",23.5]
["003043",8.27]
["003046",1.58]
["003049",0.48]
["003050",7.92]
["003051",7.92]
["003052",0.72]
["003053",7.38]
["003055",85.48]
["003056",12.85]
["003057",2.62]
["003058",0.61]
["003059",7.05]
["003060",16.41]
["003062",39.35]
["003063",29.39]
["003064",31.65]
["003065",17.98]
["003066",25.78]
["003067",40.479999999999997]
["003068",40]
["003069",21.3]
["003071",15.37]
["003073",48.7]
["003074",23.63]
["003075",287.16000000000003]
["003076",0.91]
["003161",269.77]
["003168",9.5299999999999994]
["003300",0.36]
["003305",6.07]
["003309",3.24]
["003310",7.63]
["003318",3.03]
["003400",1.1200000000000001]
["003411",326.39]
["003412",382.23]
["003444",1.51]
["003520",985.81]
["003521",712.03]
["003522",3511.88]
["003870",1955.17]
["004000",8.92]
["004002",8.6300000000000008]
["004040",1031.0899999999999]
["004041",206.31]
["004042",53.37]
["004043",42.03]
["004044",200.75]
["004045",93.84]
["004059",37.65]
["004060",317.22000000000003]
["004061",317.22000000000003]
["004062",83.52]
["004064",1293]
["004065",124.95]
["004066",12538.5]
["004067",189]
["004068",189]
["004069",189]
["004070",189]
["004071",4000]
["004072",1495]
["004073",1293]
["004074",1293]
["004075",34]
["004076",13.28]
["004077",59.97]
["004078",104.81]
["004079",69.3]
["004080",1377.39]
["004081",151.5]
["004082",56.09]
["004083",134.16]
["004084",60.06]
["004085",54.12]
["004086",7.24]
["004087",14.83]
["004088",25]
["004089",675]
["004091",18.53]
["004092",50]
["004093",69.87]
["004094",59.45]
["004095",72.900000000000006]
["004096",145.76]
["004097",46.44]
["004098",68.75]
["004099",795]
["004101",25]
["004102",44676.75]
["004103",12904]
["004104",66.73]
["004105",135.61000000000001]
["004106",20.27]
["004107",1456.25]
["004108",142.25]
["004109",34.99]
["004110",3.79]
["004116",3388]
["004117",995]
["004118",2058]
["004119",1474]
["004120",20434.43]
["004121",189]
["004122",189]
["004123",189]
["004124",65]
["004125",0]
["004126",0]
["004127",20]
["004130",5.46]
["004132",65.5]
["004133",96.88]
["004134",286]
["004136",13.75]
["004138",17.57]
["004139",1500]
["004140",3126]
["004141",3.29]
["004142",7.99]
["004143",350]
["004144",250]
["004145",30.99]
["004146",48.52]
["004147",7.84]
["004148",27]
["004149",285]
["004150",368.28]
["004162",3500]
["004169",912.54]
["004170",103.16]
["004171",1.19]
["004172",72]
["004173",33]
["004174",31.5]
["004175",99]
["004176",37.44]
["004177",93.07]
["004178",11.13]
["004180",9.01]
["004181",501.91]
["004182",448.84]
["004183",244.09]
["004184",615.01]
["004185",15]
["004186",41.48]
["004187",56.25]
["004189",19.72]
["004190",167.75]
["004227",2272]
["004228",116.67]
["004233",21]
["004234",38]
["004235",961.98]
["004236",90]
["004237",49.81]
["004238",165]
["004239",871.2]
["004240",4399.43]
["004241",111]
["004242",13.74]
["004243",25.96]
["004244",0]
["004245",110.94]
["004247",435.41]
["004248",11625.14]
["004249",93]
["004254",44.42]
["004255",34.28]
["004256",35.6]
["004257",34.31]
["004274",11.64]
["004281",18222.25]
["004293",56.6]
["004297",707.92]
["004298",15.78]
["004299",14.96]
["004300",5808.91]
["004301",35.4]
["004302",42.75]
["004303",24.63]
["004304",17.03]
["004305",17.88]
["004306",122.75]
["004307",25.47]
["004308",6.14]
["004309",662.48]
["004311",1150]
["004312",19084.11]
["004313",61.45]
["004320",6391.85]
["004321",241.92]
["004323",7670]
["004324",6080.89]
["004325",1917.45]
["004326",15]
["004330",0]
["004331",1150]
["004332",215.63]
["004333",28.1]
["004334",0]
["004339",5.5]
["004340",230.26]
["004342",1156.68]
["004343",331]
["004352",15]
["004355",59.54]
["004370",17484.98]
["004381",0]
["004390",0]
["004400",10.97]
["004402",384]
["004403",109.44]
["004405",61.99]
["004409",58.71]
["004420",1266.45]
["004464",25.01]
["004466",3798]
["004471",52.83]
["004472",428.69]
["004473",260]
["004475",50]
["004476",3318]
["004477",5.72]
["004479",7500]
["004480",257.5]
["004489",43.74]
["004490",3.59]
["004491",18.07]
["004492",22.78]
["004496",5096.25]
["004498",21.15]
["004499",32772.639999999999]
["004522",55.48]
["004523",199.99]
["004535",1149.3]
["004537",38.950000000000003]
["004540",17.850000000000001]
["004542",26.62]
["004543",72.64]
["004544",314.29000000000002]
["004545",12625.12]
["004601",14.37]
["004602",82.97]
["004603",758.74]
["004604",1312.24]
["004605",14196.99]
["004606",26915.66]
["004607",46125.46]
["004608",14562.49]
["004610",90.95]
["004611",202.95]
["004612",106.92]
["004613",37.5]
["004614",37.950000000000003]
["004615",37.950000000000003]
["004616",89.95]
["004624",210]
["004648",790.41]
["004649",149.99]
["004651",833.87]
["004652",1398.82]
["004659",78.72]
["004660",29964.25]
["004665",1584.8]
["004666",2454.54]
["004667",2757.58]
["004668",77.84]
["004669",77.84]
["004675",529.26]
["004676",78.14]
["004677",78.14]
["004678",80.14]
["004679",80.14]
["004682",3259.84]
["004683",3131.25]
["004684",3257.06]
["004685",2932.23]
["004690",10.039999999999999]
["004800",1313.98]
["004804",31.01]
["004805",1013]
["004806",213.37]
["004807",136.94999999999999]
["004808",305.95999999999998]
["004809",197.02]
["004810",118.73]
["004811",66.349999999999994]
["004812",181]
["004830",0.23]
["005066",84]
["005082",13.38]
["005083",26.64]
["005084",28.16]
["005085",115.07]
["005086",181.88]
["005087",53.86]
["005088",152.91999999999999]
["005089",871.2]
["005208",148.97]
["005209",15]
["005321",6.12]
["005326",40]
["005328",251]
["005330",46.4]
["005331",30.98]
["005338",9.17]
["005340",6.18]
["005341",25.95]
["005342",113.63]
["005344",23.55]
["005346",23.55]
["005350",4.13]
["005400",417.95]
["005832",1365]
["005833",147.25]
["005834",15.2]
["005835",12.4]
["005836",160]
["005837",129.05000000000001]
["005838",570]
["005840",21933.09]
["005841",32260.799999999999]
["005842",121.52]
["005843",1558.4]
["005844",200]
["005845",193.4]
["005846",150]
["005847",675]
["005848",100]
["005849",150]
["005850",90]
["005851",2707]
["005852",1603.39]
["005853",267.44]
["005854",138.5]
["005855",16281.03]
["005856",26638.32]
["005869",16267.5]
["005870",16267.5]
["006000",592.23]
["006011",4000]
["006017",1321]
["006021",987]
["006030",1381.84]
["006031",2140.16]
["006050",172.2]
["006051",990.47]
["006066",4.03]
["006067",3.83]
["006131",366.21]
["006133",57.35]
["006139",62.19]
["006140",132.69999999999999]
["006160",3.5]
["006185",43.89]
["006186",20.65]
["006187",305.85000000000002]
["006238",2.1]
["006500",33.68]
["006661",1.7]
["006671",0.97]
["006672",5.43]
["006681",8.24]
["006697",4.03]
["006711",22.38]
["006723",1.63]
["006724",3]
["006765",56.45]
["006823",27]
["006824",19.75]
["007000",0.37]
["007001",0.7]
["007002",17.489999999999998]
["007003",12.06]
["007004",0.93]
["007005",221.96]
["007006",8.5500000000000007]
["007009",9.67]
["007011",2.09]
["007012",0.53]
["007013",0.48]
["007014",0.43]
["007015",7.22]
["007018",0.77]
["007019",17.03]
["007023",2.68]
["007025",107.83]
["007026",39.880000000000003]
["007027",6.62]
["007028",6.68]
["007029",0.55000000000000004]
["007030",0.35]
["007031",0.59]
["007032",2.57]
["007033",7.84]
["007034",402.9]
["007035",10.24]
["007036",4.12]
["007038",10.98]
["007040",450]
["007041",75]
["007042",1.73]
["007043",46.13]
["007044",0]
["007045",1.25]
["007046",27.91]
["007047",15]
["007048",4.3499999999999996]
["007050",37]
["007051",50]
["007052",18]
["007053",38.299999999999997]
["007054",4.3499999999999996]
["007055",0.06]
["007056",260]
["007057",55.84]
["007058",204.9]
["007059",218.4]
["007060",13.59]
["007061",114.32]
["007062",26.5]
["007063",150]
["007064",2.36]
["007065",3.23]
["007067",3.1]
["007068",20.8]
["007069",11.96]
["007071",1.05]
["007078",32.53]
["007079",2.5]
["007080",1.2]
["007081",41.8]
["007082",1.88]
["007083",3.66]
["007084",7.0000000000000007E-2]
["007085",23.74]
["007086",2.48]
["007087",4.5999999999999996]
["007088",4.04]
["007089",1]
["007090",1.6]
["007091",8.73]
["007092",15.93]
["007093",53.69]
["007094",1.33]
["007095",1.41]
["007096",6.05]
["007097",7]
["007098",109]
["007099",2]
["007100",2.88]
["007101",1.0900000000000001]
["007102",1.03]
["007103",6.12]
["007105",89.62]
["007106",12.26]
["007107",31.94]
["007108",27.8]
["007110",6.35]
["007111",6.95]
["007112",20.5]
["007114",2.7]
["007115",3.87]
["007116",0.75]
["007117",6.39]
["007118",5.75]
["007119",9.19]
["007120",5.95]
["007121",20.96]
["007122",9.9499999999999993]
["007123",0.17]
["007124",20.6]
["007125",0.89]
["007126",1.53]
["007127",0.84]
["007128",140.97999999999999]
["007129",53.03]
["007130",2.5]
["007131",705]
["007132",7.65]
["007134",388.08]
["007135",84.32]
["007136",25.26]
["007138",1.53]
["007139",31.6]
["007140",1.53]
["007141",32.380000000000003]
["007142",11.24]
["007143",8.9499999999999993]
["007144",2.94]
["007145",1.23]
["007146",2]
["007147",0.75]
["007148",1]
["007149",0.87]
["007150",11.23]
["007151",2]
["007152",0.94]
["007153",0.98]
["007156",18.739999999999998]
["007159",3]
["007160",17.28]
["007161",2.14]
["007163",16.25]
["007164",38.11]
["007165",0.75]
["007166",0.54]
["007168",59.98]
["007169",2.85]
["007170",21.69]
["007171",11.8]
["007172",45.94]
["007175",55]
["007176",1.37]
["007177",0.33]
["007178",0.98]
["007179",173.26]
["007180",37.700000000000003]
["007181",66.67]
["007182",0.05]
["007183",19.920000000000002]
["007184",4.43]
["007185",199.1]
["007186",0.75]
["007187",41.35]
["007188",31.61]
["007190",0.05]
["007192",139]
["007194",12.57]
["007195",50.95]
["007197",1.33]
["007198",4]
["007199",8.1]
["007200",625]
["007201",270.85000000000002]
["007204",43.19]
["007205",147.25]
["007206",24.38]
["007207",2]
["007210",9.75]
["007214",0.25]
["007219",0.5]
["007221",5.5]
["007222",3.25]
["007224",35.31]
["007225",0.25]
["007226",745.69]
["007227",0.37]
["007228",0.41]
["007229",3.34]
["007230",12.93]
["007231",27.27]
["007233",465.4]
["007234",3.53]
["007238",3.07]
["007239",0.47]
["007240",3.22]
["007241",1.1000000000000001]
["007242",0.89]
["007243",1.6]
["007244",2.5499999999999998]
["007245",142.71]
["007246",30.62]
["007251",25.37]
["007253",4.13]
["007254",9.17]
["007256",0.64]
["007258",42.98]
["007261",7.45]
["007262",9.6199999999999992]
["007265",24.4]
["007266",10.27]
["007270",4697.54]
["007272",603.94000000000005]
["007273",7.35]
["007274",3.3]
["007275",10.69]
["007276",11.06]
["007277",477.13]
["007278",425]
["007279",4455]
["007280",0.33]
["007282",2.39]
["007283",49.95]
["007284",2.6]
["007285",52.4]
["007286",52.4]
["007287",52.4]
["007288",80.75]
["007289",56.93]
["007290",55.4]
["007291",56.2]
["007292",11.75]
["007294",3.29]
["007298",24.87]
["007300",635]
["007301",0.93]
["007302",0.61]
["007303",0.22]
["007304",0.95]
["007305",5.76]
["007306",10.99]
["007307",16.98]
["007308",3.09]
["007309",15.03]
["007310",5.2]
["007311",0.96]
["007313",0.5]
["007314",57.57]
["007315",30.44]
["007316",80.89]
["007317",73]
["007318",24.8]
["007319",385]
["007320",19.64]
["007321",65.55]
["007322",1268.5]
["007323",1364.33]
["007324",1922.46]
["007325",562.91]
["007326",54.27]
["007329",1.76]
["007330",2.35]
["007331",2.31]
["007332",5.68]
["007333",2.9]
["007334",10.87]
["007335",21.74]
["007336",20.5]
["007337",750]
["007338",175]
["007339",175]
["007341",17.649999999999999]
["007342",1.69]
["007343",0.84]
["007344",3.33]
["007345",3.56]
["007346",3.5]
["007347",52]
["007349",193.28]
["007350",21.54]
["007351",30.48]
["007352",8.69]
["007353",28.64]
["007354",41.44]
["007355",4.71]
["007356",48.44]
["007357",57.62]
["007358",39.4]
["007359",234.65]
["007360",4.92]
["007361",15.81]
["007362",433.55]
["007363",1.49]
["007364",0.73]
["007365",0.34]
["007366",17.010000000000002]
["007367",465.12]
["007368",2.42]
["007369",14.48]
["007370",153.06]
["007371",2850]
["007372",408.78]
["007373",9.07]
["007374",18.739999999999998]
["007375",13.88]
["007376",2.13]
["007377",17.2]
["007378",109.38]
["007379",11]
["007381",259.72000000000003]
["007382",45]
["007383",9.7899999999999991]
["007384",29.44]
["007385",335.5]
["007386",536.98]
["007387",4.4000000000000004]
["007388",0.25]
["007389",15.59]
["007390",124.68]
["007391",2.4500000000000002]
["007392",4.22]
["007393",59.25]
["007394",6.8]
["007396",9.86]
["007397",540]
["007398",4145.9399999999996]
["007399",2796.5]
["007400",7.31]
["007401",4.18]
["007402",125]
["007404",172.71]
["007405",1]
["007406",15.63]
["007407",1511.37]
["007409",48.55]
["007410",6.98]
["007411",9.8800000000000008]
["007413",9.4600000000000009]
["007414",4.2]
["007415",1.71]
["007416",474.68]
["007417",0]
["007418",2.2599999999999998]
["007419",4]
["007420",50]
["007421",163.46]
["007422",0.62]
["007423",9.42]
["007424",27.48]
["007425",0.17]
["007426",1.35]
["007427",12.2]
["007428",99]
["007429",3.58]
["007430",168.69]
["007431",1.51]
["007432",3.83]
["007433",71.86]
["007434",12.06]
["007435",3.73]
["007436",4.24]
["007437",2.13]
["007438",3.89]
["007439",6.57]
["007440",4.25]
["007441",3.33]
["007442",173.58]
["007443",14.05]
["007444",0.72]
["007445",242.4]
["007446",282]
["007448",43.73]
["007449",1.34]
["007450",34.950000000000003]
["007451",263.27999999999997]
["007452",31.21]
["007453",26.17]
["007454",14.41]
["007457",96]
["007458",193.25]
["007459",106.25]
["007460",30.2]
["007461",24.5]
["007462",24.69]
["007463",18.77]
["007464",25.2]
["007465",0.25]
["007466",3150]
["007467",3433]
["007469",27.79]
["007470",164.07]
["007471",3.49]
["007472",198]
["007473",205]
["007474",192]
["007475",4.0599999999999996]
["007476",63.65]
["007477",1062.8399999999999]
["007479",11]
["007480",7348]
["007481",2.12]
["007482",164.38]
["007483",46.03]
["007484",28.27]
["007485",3.33]
["007486",22.99]
["007487",22.99]
["007488",47.49]
["007489",19.989999999999998]
["007490",19.27]
["007491",47.97]
["007492",37.9]
["007493",110]
["007494",15]
["007495",0.45]
["007496",89.49]
["007497",89.49]
["007498",65.989999999999995]
["007601",0.28000000000000003]
["007602",1.92]
["007603",1.94]
["007604",6.49]
["007605",0.59]
["007606",1.3]
["007607",9]
["007608",4.99]
["007609",9.99]
["007610",1.3]
["007611",3.85]
["007612",738]
["007613",5.98]
["007614",1154]
["007615",7.42]
["007616",16.25]
["007617",11.2]
["007618",2.5]
["007619",7.47]
["007620",21.75]
["007621",0.27]
["007622",1.86]
["007623",0.36]
["007624",3.13]
["007625",215.14]
["007626",365.12]
["007627",21.22]
["007628",105.68]
["007629",82.02]
["007630",35]
["007631",55.2]
["007632",66.3]
["007635",33]
["007636",9.6]
["007637",10.76]
["007638",11.48]
["007639",30]
["007640",22.5]
["007641",22.5]
["007642",7.91]
["007643",7.32]
["007646",1677.22]
["007647",900]
["007648",1000]
["007650",1680]
["007651",8.9600000000000009]
["007652",41]
["007653",31.81]
["007654",22.13]
["007655",19]
["007656",26.5]
["007657",600]
["007658",10]
["007659",224.78]
["007660",15.9]
["007662",5]
["007663",0.85]
["007664",0.85]
["007665",1.5]
["007666",121.76]
["007667",11.15]
["007668",1.05]
["007669",2.4]
["007670",9]
["007671",339.42]
["007672",65.19]
["007673",55.99]
["007674",1.05]
["007675",62.5]
["007676",89.89]
["007677",32]
["007678",0.76]
["007680",0.27]
["007681",0.41]
["007683",0.12]
["007684",0.1]
["007685",7.12]
["007686",0.84]
["007687",80.5]
["007688",51.97]
["007689",36.53]
["007690",20.81]
["007691",2.25]
["007692",1.19]
["007693",280]
["007694",512.5]
["007695",3.59]
["007696",1655]
["007699",5500]
["007700",1292]
["007701",1340]
["007702",7.25]
["007703",7.25]
["007721",6]
["007724",4.17]
["007726",50]
["007727",11.25]
["007728",36.22]
["007729",35.5]
["007730",2.85]
["007731",1.8]
["007732",1.2]
["007733",20]
["007734",71.099999999999994]
["007736",132.87]
["007737",139.80000000000001]
["007738",22.48]
["007739",14.92]
["007740",107]
["007741",6.12]
["007742",1.69]
["007743",45.94]
["007744",2843.09]
["007746",52.49]
["007747",43.49]
["007748",53.07]
["007751",569.70000000000005]
["007752",968.33]
["007753",178.75]
["007754",180]
["007756",41.57]
["007758",466.33]
["007759",184.84]
["007760",611.15]
["008001",15.32]
["008003",2.06]
["008004",9.5299999999999994]
["008005",1.51]
["008006",6.55]
["008008",3.01]
["008010",6.45]
["008011",3.49]
["008013",92]
["008015",1.58]
["008017",2.97]
["008018",2.09]
["008020",3.29]
["008021",4.71]
["008022",1.61]
["008032",890]
["008033",60]
["008034",40]
["008035",2.97]
["008037",1.38]
["008038",6.39]
["008041",50]
["008042",173.46]
["008043",42]
["008044",45.46]
["008045",62.3]
["008046",60.97]
["008047",0.54]
["008048",15.45]
["008049",1.24]
["008051",0.69]
["008052",2.34]
["008053",1.93]
["008054",1.79]
["008056",2.1]
["008057",1.07]
["008061",4.82]
["008062",2.4300000000000002]
["008063",45.62]
["008064",1.1399999999999999]
["008065",0.95]
["008066",1.43]
["008067",1.7]
["008068",3.1]
["008070",2.89]
["008072",3.93]
["008073",1.68]
["008075",2.0699999999999998]
["008076",0.37]
["008077",1.08]
["008079",1.33]
["008080",83.05]
["008081",7.73]
["008082",1.83]
["008085",0.12]
["008090",2.21]
["008091",0.59]
["008092",0.42]
["008098",0.73]
["008099",0.99]
["008101",1.19]
["008103",1.29]
["008105",1.27]
["008106",1.62]
["008108",1.47]
["008109",1.82]
["008111",1.5]
["008114",1.22]
["008118",3.38]
["008126",2.25]
["008128",48.88]
["008134",4.1500000000000004]
["008143",8]
["008145",18.03]
["008146",11.07]
["008147",18.940000000000001]
["008148",22.56]
["008149",14.35]
["008151",9.23]
["008154",11.12]
["008155",0.32]
["008157",14.46]
["008158",22.98]
["008161",0.52]
["008162",6.15]
["008163",1.74]
["008164",1.17]
["008165",0.88]
["008169",117.95]
["008171",0.61]
["008180",0.92]
["008182",1.31]
["008183",2.48]
["008184",1.44]
["008186",6.66]
["008188",2.1]
["008189",1.41]
["008192",4.47]
["008194",5.1100000000000003]
["008195",2.54]
["008199",9.3800000000000008]
["008200",8.76]
["008201",0.4]
["008203",1.38]
["008204",1.31]
["008205",2.2000000000000002]
["008208",4.3600000000000003]
["008209",0.16]
["008210",1.91]
["008211",5.15]
["008212",10.76]
["008213",30.77]
["008214",20.13]
["008215",6.56]
["008217",1.1100000000000001]
["008219",2.2400000000000002]
["008224",34.369999999999997]
["008225",2.04]
["008226",0.85]
["008227",0.82]
["008228",2]
["008229",3]
["008230",1.64]
["008233",1.34]
["008235",0.98]
["008236",1.02]
["008237",1.55]
["008238",15.27]
["008241",7.38]
["008242",2.2999999999999998]
["008244",7.95]
["008245",3.97]
["008246",14.12]
["008247",1.35]
["008248",0.2]
["008249",34.08]
["008250",5]
["008253",5.89]
["008254",82.85]
["008255",128.43]
["008256",187.51]
["008257",23]
["008259",18.55]
["008261",2.62]
["008262",16.420000000000002]
["008263",1.66]
["008264",2.23]
["008265",13.48]
["008266",16.27]
["008267",11.5]
["008268",25.25]
["008269",6.67]
["008270",161.57]
["008271",530.21]
["008272",2935.6]
["008273",3.44]
["008274",3.28]
["008275",0]
["008277",18.32]
["008501",1.06]
["008502",3.35]
["008503",4.3600000000000003]
["008504",2.31]
["008506",1.74]
["008507",1.38]
["008508",1.1100000000000001]
["008509",3.7]
["008510",0.81]
["008511",4.46]
["008512",0.87]
["008513",1.0900000000000001]
["008514",7.0000000000000007E-2]
["008515",1.44]
["008516",4.8899999999999997]
["008517",11.06]
["008518",0.51]
["008519",12.11]
["008520",0.13]
["008521",2.84]
["008522",3.28]
["008523",8.01]
["008524",1.72]
["008525",2.6]
["008526",0.94]
["008527",2.75]
["008528",0.81]
["008528-T",0]
["008529",2.92]
["008530",1.02]
["008531",0.95]
["008532",1.9]
["008533",1.02]
["008534",1.36]
["008535",3.86]
["008536",1.65]
["008537",3.06]
["008538",2.59]
["008539",0.76]
["008540",3.59]
["008541",1.39]
["008542",0.28000000000000003]
["008543",1.83]
["008544",3.82]
["008546",1.68]
["008547",1.17]
["008548",2.82]
["008549",0.83]
["008550",3.08]
["008551",10.81]
["008552",0.87]
["008554",0.88]
["008555",3.35]
["008556",0]
["008557",0]
["008558",10.94]
["008559",1.38]
["008561",2.36]
["008565",9.4600000000000009]
["008566",5.2]
["008567",0.67]
["008568",25.32]
["008569",1.88]
["008570",82.39]
["008571",27.36]
["008572",20.5]
["008573",1.51]
["008574",2.89]
["008575",0.81]
["008576",3.12]
["008577",0.79]
["008578",4.68]
["008579",3.39]
["008580",48.58]
["008581",2.17]
["008582",0.31]
["008583",8.44]
["008585",0.17]
["008586",1.1000000000000001]
["008588",1.73]
["008589",1.9]
["008590",7.3]
["008593",0.23]
["008594",0.34]
["008595",0.63]
["008596",2.41]
["008597",0.13]
["008598",0.16]
["008599",0.11]
["008600",1.29]
["008601",2.46]
["008602",245104.63]
["008606",1525.39]
["008607",7.62]
["008608",227253.44]
["008613",150950.70000000001]
["008614",182433.68]
["008617",1166.8800000000001]
["008618",963.07]
["008619",1024.04]
["008621",211550.42]
["008624",908.41]
["008629",8901.24]
["008630",25]
["008636",8.2200000000000006]
["008637",5242.01]
["008640",201132.2]
["008643",11.95]
["008644",13.75]
["008646",186576.54]
["008648",4840.99]
["008649",6500]
["008651",11545.87]
["008652",22965.25]
["008653",595.95000000000005]
["008654",2868.76]
["008657",16918.22]
["008659",22888.95]
["008667",182438.33]
["008668",219.13]
["008669",99.83]
["008670",684.04]
["008671",762.19]
["008672",18.78]
["008673",1436.93]
["008675",10376.790000000001]
["008676",28.78]
["008678",1121.74]
["008680",60.5]
["008683",11410.44]
["008685",28873.37]
["008686",892.82]
["008687",17595.47]
["008688",1312.36]
["008689",200.98]
["008690",34369.19]
["008691",8978.66]
["008692",1706.31]
["008693",5192.74]
["008694",808.2]
["008695",733.36]
["008696",5454.49]
["008697",1793.36]
["008698",82.05]
["008699",7428.7]
["008700",3500]
["008701",1544.63]
["008702",682.67]
["008703",57.99]
["008704",863.51]
["008705",36.29]
["008706",1636.8]
["008707",672.34]
["008708",17666.46]
["008713",103.33]
["008721",1155.95]
["008722",1249.1600000000001]
["008723",158688.04]
["008724",1377.22]
["008725",1127.26]
["008726",219.11]
["008727",1049.6400000000001]
["008728",98.17]
["008730",1165.5]
["008731",3453.76]
["008732",1655.3]
["008733",308.33999999999997]
["008734",1829.6]
["008735",2093.31]
["008736",998.82]
["008744",282256.7]
["008746",1075]
["008747",814.79]
["008749",2723.91]
["008750",4357.99]
["008751",239812.54]
["008752",40.479999999999997]
["008753",552.91999999999996]
["008754",1951.75]
["008755",1152.6099999999999]
["008756",63.13]
["008757",1331.93]
["008758",705.09]
["008759",443.22]
["008760",7885.55]
["008761",2900.04]
["008762",4397.38]
["008763",2865.43]
["008764",1034.19]
["008765",373177.96]
["008766",234195.71]
["008768",329.88]
["008769",1961.4]
["008770",131228.71]
["008771",2069.42]
["008772",14353.67]
["008773",5387.96]
["008802",0]
["008804",4]
["008805",0.4]
["008806",0.5]
["008807",0.5]
["008808",0.5]
["008809",3.23]
["008810",0]
["008811",3]
["008812",8]
["008813",2.2999999999999998]
["008814",38]
["008815",1.91]
["008819",19.87]
["008820",0.02]
["008821",0.03]
["008822",9]
["008823",0.09]
["008824",3]
["008827",1]
["008828",0.2]
["008830",3.05]
["008831",1.25]
["008837",26.32]
["008839",16.98]
["008845",127.26]
["008848",1]
["008853",67.34]
["008854",0.87]
["008856",10.15]
["008887",22.05]
["008888",64.8]
["008889",6]
["008890",5.95]
["008891",6.76]
["008893",15]
["008894",0]
["008896",1.52]
["008897",2.38]
["008898",38.61]
["008899",1.5]
["008901",2.4500000000000002]
["008902",1.42]
["008904",7.29]
["008906",0.01]
["008909",10]
["008910",0]
["008911",15]
["008915",5.98]
["008916",2.88]
["008917",0.08]
["008918",5.95]
["008919",9.93]
["008920",0.1]
["008921",5.5]
["008925",0.01]
["008926",0.01]
["008927",0]
["008928",4.57]
["008929",3.8]
["008930",5.45]
["008931",2.74]
["008932",1.04]
["008933",1.04]
["008934",1.04]
["009004",8.69]
["009007",0.02]
["009009",4.09]
["009010",2.69]
["009013",15]
["009020",2.82]
["009021",6.75]
["009023",1.3]
["009031",0.13]
["009034",0.18]
["009035",2.17]
["009036",0.46]
["009040",2.61]
["009043",0.18]
["009045",0.2]
["009048",0.15]
["009052",0.09]
["009054",1.89]
["009055",0.15]
["009056",411.54]
["009106",1.55]
["009147",9.4499999999999993]
["009149",0.03]
["009162",6.57]
["009163",0.16]
["009164",11.92]
["009166",240]
["009167",0.06]
["009168",13.84]
["009169",7.36]
["009170",27.6]
["009171",26.69]
["009172",0.76]
["009173",21]
["009174",0.02]
["009175",6]
["009176",0.52]
["009177",1.56]
["009178",2.87]
["009179",35.54]
["009201",101.35]
["009202",101.35]
["009203",101.35]
["009204",101.35]
["009205",101.35]
["009206",101.35]
["009207",101.35]
["009208",130]
["009209",130]
["009215",14.38]
["009216",14.44]
["009217",14.44]
["009218",14.48]
["009219",14.8]
["009220",14.88]
["009221",7.71]
["009222",7.69]
["009223",7.69]
["009224",7.72]
["009225",7.69]
["009226",8]
["009227",8.31]
["009228",25.65]
["009229",36.31]
["009230",239.42]
["009231",85.75]
["009232",1.84]
["009233",8.3800000000000008]
["009234",8.25]
["009301",179.56]
["009302",179.56]
["009303",179.56]
["009304",179.56]
["009305",197.32]
["009306",215.08]
["009400",4423.04]
["009401",57.8]
["009402",200]
["009403",15]
["009404",15]
["009405",12000]
["009406",999]
["009407",10]
["009408",49.5]
["009409",500]
["009410",15.99]
["009411",200]
["009412",3000]
["009413",80]
["009414",60]
["009415",6440.25]
["009416",16.2]
["009417",2.33]
["009418",16.989999999999998]
["009419",6500]
["009420",18000]
["009421",29.92]
["009422",0.1]
["009423",75.8]
["009425",799.5]
["009427",10]
["009428",272.74]
["009435",100]
["009436",132]
["009438",9]
["009439",1.53]
["009440",3.96]
["009441",72.44]
["009442",20.36]
["009443",12.4]
["009444",5]
["009445",353.31]
["009446",50]
["009447",6.76]
["009448",50]
["009449",1300]
["009450",497]
["009451",1011.95]
["009452",14.97]
["009453",177.35]
["009454",23.99]
["009455",100.47]
["009456",13.36]
["009457",4857.75]
["009458",81.89]
["009459",14700]
["009460",80]
["009461",5454]
["009462",41.4]
["009463",21.13]
["009464",53.45]
["009465",633.48]
["009466",80]
["009467",50]
["009468",12]
["009469",15]
["009470",28.04]
["009471",31.95]
["009472",1239.6500000000001]
["009473",2558.13]
["009474",0.02]
["009475",935.16]
["009476",65]
["009477",12]
["009478",6.94]
["009479",2997.23]
["009480",0.38]
["009481",700]
["009482",1156]
["009483",1180]
["009484",313.67]
["009485",307.47000000000003]
["009486",463]
["009487",300]
["009488",500]
["009489",5593.75]
["009490",74.94]
["009492",33.9]
["009493",100]
["009494",374.26]
["009495",267]
["009496",10]
["009497",90]
["009498",9.0299999999999994]
["009499",48.98]
["009500",1094.08]
["009501",19.809999999999999]
["009503",40]
["009504",45]
["009505",18.87]
["009506",142.83000000000001]
["009507",27.8]
["009508",237.16]
["009509",260]
["009511",432.49]
["009512",598.85]
["009513",675.66]
["009514",650.52]
["009515",328.13]
["009516",74]
["009517",732.57]
["009518",286.72000000000003]
["009519",310.63]
["009520",693.13]
["009521",3]
["009522",4.42]
["009523",6.6]
["009524",2]
["009525",587.5]
["009526",3]
["009527",12241.25]
["009528",52.25]
["009529",95]
["009530",4.17]
["009531",1.37]
["009532",1117.1500000000001]
["009533",1374.3]
["009534",100.96]
["009535",97.9]
["009536",116.5]
["009537",69.8]
["009538",37.880000000000003]
["009539",5.99]
["009540",450]
["009541",1361.8]
["009542",132]
["009543",2218]
["009544",299]
["009545",54]
["009546",652.5]
["009547",258.07]
["009548",175.5]
["009549",205.35]
["009550",39.630000000000003]
["009551",100.73]
["009552",119.93]
["009553",137.57]
["009554",6.58]
["009555",4.1900000000000004]
["009556",548.85]
["009557",26.33]
["009558",29.62]
["009559",80.23]
["009560",35.74]
["009561",20.54]
["009562",53.97]
["009563",46.09]
["009564",2140.6999999999998]
["009565",1417.17]
["009566",193.58]
["009567",121.09]
["009568",60.32]
["009569",6.38]
["009570",19.57]
["009571",94.23]
["009572",13.68]
["009573",160]
["009574",289.99]
["009575",281]
["009576",985.5]
["009577",961.45]
["009578",3.39]
["009579",20.99]
["009580",36.47]
["009581",436.74]
["009582",153.02000000000001]
["009583",212.3]
["009584",242.62]
["009585",126.62]
["009586",456.98]
["009587",352]
["009588",15.67]
["009589",7.39]
["009590",7.99]
["009591",9.49]
["009592",27.99]
["009593",224.94]
["009594",4]
["009595",6.99]
["009596",0.01]
["009597",71.95]
["009598",5.31]
["009599",211.96]
["009600",4500]
["009601",1.57]
["009602",3.05]
["009603",1.62]
["009604",2.81]
["009605",1.48]
["009606",8.35]
["009607",1.44]
["009608",15.18]
["009609",0.53]
["009611",4.03]
["009612",3.28]
["009613",3.5]
["009614",4.7300000000000004]
["009615",7.58]
["009616",1.45]
["009617",2.52]
["009618",7.12]
["009619",10.050000000000001]
["009620",6.28]
["009621",1.33]
["009622",6.75]
["009623",2.99]
["009624",2.5099999999999998]
["009625",2.59]
["009626",1.26]
["009627",3.72]
["009628",2.9]
["009629",2]
["009630",8]
["009631",43.1]
["009632",3.76]
["009700",25.52]
["009701",93.55]
["009702",94.78]
["009703",95.44]
["009704",2.2000000000000002]
["009705",188.25]
["009706",167.84]
["009707",188.42]
["009708",190.88]
["009709",190.36]
["009710",190.88]
["009711",28.94]
["009712",390.2]
["009713",6995.35]
["009714",500]
["009715",288.95]
["009716",5]
["009717",350]
["009718",62.47]
["009719",175]
["009720",6068.33]
["009721",150]
["009722",1771]
["009723",1215]
["009724",267.5]
["009725",0]
["009726",0]
["009727",0]
["009728",0]
["009729",3150]
["009730",148.62]
["009731",10.93]
["009732",10.78]
["009733",880]
["009734",4857.75]
["009735",12241.25]
["009736",5.75]
["009737",4.4800000000000004]
["009738",855]
["009739",4.5999999999999996]
["009740",66]
["009741",147]
["009742",0]
["009743",0]
["009744",21.99]
["009798",1.69]
["009799",7.48]
["009800",35.18]
["009801",1780.07]
["009802",152]
["009803",6807]
["009804",3966.22]
["009805",6345.65]
["009806",3000]
["009807",467]
["009808",12.53]
["009809",0.5]
["009810",945]
["009811",1066]
["009812",526.37]
["009813",882.53]
["009814",540.34]
["009815",28.99]
["009816",908.7]
["009817",541.71]
["009818",170.98]
["009819",140.5]
["009820",45.13]
["009821",126.81]
["009968",0]
["009969",11.25]
["009970",1.25]
["009971",3.96]
["009972",3.96]
["009973",3.96]
["009974",3.96]
["009975",3.96]
["009976",9.6999999999999993]
["009977",9.6999999999999993]
["009978",9.6999999999999993]
["009979",9.6999999999999993]
["009980",7.6]
["009981",39.85]
["009982",45.78]
["009983",23.89]
["009984",221.58]
["009985",3.03]
["009986",4.68]
["009987",5.83]
["009988",43.66]
["009989",210.77]
["009990",13.44]
["009991",13.46]
["009992",20.9]
["009993",16.98]
["009994",14.54]
["009995",26.04]
["009996",18.18]
["009997",5.87]
["009998",2.4500000000000002]
["009999",0.17]
["060000",12.48]
["060001",13.82]
["060002",1124]
["060003",61.63]
["065987",183.6]
["065988",2224]
["065989",56.93]
["065990",45.32]
["065991",11.99]
["065992",239.99]
["065993",88.34]
["065994",3.99]
["065995",159.55000000000001]
["065996",6.64]
["065997",29.33]
["065998",13.03]
["065999",17.46]
["066002",25.52]
["066004",23.1]
["066007",1130.9100000000001]
["066008",1.19]
["066009",4.43]
["066010",5.82]
["066011",238.87]
["066012",16.72]
["066013",15.05]
["066014",4.87]
["066015",16.97]
["066017",245.11]
["066018",0.76]
["066019",0.59]
["066021",2.13]
["066022",108.47]
["066023",2.2000000000000002]
["066024",91.88]
["066025",27.48]
["066026",46.92]
["066027",90.07]
["066028",32.33]
["066029",14.64]
["066030",1.72]
["066031",66.7]
["066032",1.06]
["066033",77.12]
["066035",23.67]
["066036",5.26]
["066037",3.11]
["066038",3.74]
["066039",3.55]
["066040",8.68]
["066042",106.42]
["066043",99.77]
["066044",4.09]
["066045",1.07]
["066046",3.99]
["066048",330.06]
["066049",94.28]
["066050",10.99]
["066051",9]
["066052",25.89]
["066054",107.05]
["066055",0.95]
["066057",36.29]
["066058",0.75]
["066059",1.1499999999999999]
["066060",1.56]
["066062",0.99]
["066063",6.92]
["066064",14.05]
["066065",3.47]
["066066",20.75]
["066067",48.65]
["066068",10.38]
["066069",143.66999999999999]
["066070",80.95]
["066071",89.18]
["066072",1.53]
["066073",57.24]
["066075",7.17]
["066076",24.2]
["066077",3.88]
["066078",3.67]
["066079",1.19]
["066080",0.05]
["066081",0.25]
["066082",0.12]
["066083",0.18]
["066084",0.51]
["066085",0.06]
["066086",0.46]
["066088",148.37]
["066089",4.4400000000000004]
["066090",151.21]
["066091",9.3800000000000008]
["066092",0.87]
["066093",0.05]
["066094",0.48]
["066095",0.87]
["066096",3.23]
["066097",2.2799999999999998]
["066098",0.85]
["066099",1.03]
["066100",0.09]
["066101",6.84]
["066102",3.51]
["066104",48.44]
["066106",0.65]
["066107",4.9400000000000004]
["066108",24.04]
["066109",0.31]
["066110",189.3]
["066111",55.73]
["066113",0.8]
["066115",20.75]
["066116",5.38]
["066117",106.89]
["066118",1507.4]
["066119",29.52]
["066120",2.92]
["066121",15.42]
["066123",2.58]
["066124",52.05]
["066125",1.76]
["066126",8.85]
["066127",22.07]
["066128",0.83]
["066129",0.71]
["066130",3.03]
["066131",46.26]
["066133",54.75]
["066134",0.63]
["066135",1.1000000000000001]
["066136",0.45]
["066138",0.39]
["066139",47.71]
["066140",28.89]
["066141",0.13]
["066142",0.57999999999999996]
["066143",0.14000000000000001]
["066144",0.18]
["066145",0.08]
["066146",1.36]
["066147",174.41]
["066148",4.78]
["066149",7.35]
["066150",130.47999999999999]
["066152",187.06]
["066153",13.12]
["066154",23.43]
["066162",1.59]
["066163",1.1599999999999999]
["066164",0.95]
["066165",1.01]
["066166",78.23]
["066167",1.85]
["066168",18.79]
["066169",1.05]
["066170",1.97]
["066171",50.44]
["066172",0.92]
["066174",2.59]
["066175",0.93]
["066177",1.35]
["066178",3.95]
["066179",2.4900000000000002]
["066180",52.87]
["066182",2.7]
["066184",2.17]
["066185",21]
["066186",37.71]
["066187",5.56]
["066188",0.85]
["066189",0.43]
["066191",1.63]
["066192",1.52]
["066193",8.4]
["066194",0.21]
["066196",2.83]
["066197",113.72]
["066199",49.87]
["066200",559.02]
["066201",0.68]
["066202",1.68]
["066204",0.38]
["066207",1.06]
["066208",0.47]
["066209",1.75]
["066210",0.78]
["066212",6.24]
["066213",4.79]
["066214",1225]
["066215",300.44]
["066216",82.97]
["066218",35.979999999999997]
["066219",2.2000000000000002]
["066220",3.38]
["066221",12]
["066222",18]
["066225",2.5]
["066226",2.77]
["066228",497.36]
["066229",181.2]
["066230",132.38999999999999]
["066231",440.27]
["066232",5]
["066233",11.08]
["066234",1.1100000000000001]
["066235",79.709999999999994]
["066236",4.72]
["066237",1.57]
["066239",1.97]
["066240",3.58]
["066241",1.57]
["066242",2.4]
["066243",3.68]
["066244",4.83]
["066246",0.59]
["066247",0.24]
["066248",46.13]
["066249",268.67]
["066253",71.790000000000006]
["066256",1.35]
["066259",463.91]
["066260",1.32]
["066265",318.97000000000003]
["066266",13.48]
["066271",112.86]
["066272",258.64]
["066273",19.39]
["066274",176.96]
["066275",1.1399999999999999]
["066276",23.02]
["066277",19.760000000000002]
["066278",25.67]
["066279",0.87]
["066280",6.87]
["066281",13.05]
["066282",12.15]
["066283",1.27]
["066284",6.05]
["066285",2.36]
["066288",3.71]
["066289",10.14]
["066290",2.2400000000000002]
["066291",0.88]
["066292",0.88]
["066293",0.88]
["066294",0.88]
["066295",57.47]
["066296",29.99]
["066297",25.96]
["066298",1.23]
["066300",10.37]
["066301",16.97]
["066302",1.33]
["066303",1.05]
["066304",220.62]
["066305",262.87]
["066307",162.1]
["066309",31]
["066310",2.64]
["066311",11.44]
["066312",2.42]
["066313",29.52]
["066314",3.26]
["066315",5.85]
["066316",166.77]
["066318",127.84]
["066319",120.55]
["066324",8.92]
["066325",1.18]
["066326",6.6]
["066327",21.27]
["066328",11.92]
["066329",3]
["066330",2.25]
["066331",13.76]
["066332",12.62]
["066333",2.42]
["066334",1.97]
["066335",1.46]
["066337",18.45]
["066338",11.84]
["066339",7.53]
["066340",19.190000000000001]
["066341",65.31]
["066343",8.2799999999999994]
["066344",2.71]
["066345",1.26]
["066346",6.14]
["066347",19.399999999999999]
["066348",6.11]
["066349",2.57]
["066350",5.62]
["066351",0.88]
["066352",0.88]
["066353",1.33]
["066355",4.88]
["066356",1.35]
["066357",0.88]
["066358",0.88]
["066359",0.88]
["066360",0.85]
["066361",0.88]
["066363",7.76]
["066364",169.26]
["066366",1.82]
["066367",23.63]
["066368",3.68]
["066369",15.57]
["066370",1.23]
["066371",1.18]
["066372",1.06]
["066373",1.23]
["066374",1.28]
["066375",1.28]
["066376",2.78]
["066377",0.88]
["066378",9.98]
["066382",26.05]
["066383",12.59]
["066384",15.5]
["066385",116.76]
["066387",36.590000000000003]
["066390",0.88]
["066391",15.81]
["066392",35.450000000000003]
["066393",13.79]
["066394",12.62]
["066395",1.21]
["066396",3.18]
["066397",3.26]
["066398",22.39]
["066399",9.25]
["066401",341.41]
["066402",11.51]
["066403",1.43]
["066405",61]
["066406",11.32]
["066407",8.73]
["066408",0.88]
["066409",2.48]
["066411",1.58]
["066412",1.28]
["066413",2.56]
["066414",1.93]
["066415",1.18]
["066416",1]
["066417",48.12]
["066418",14.84]
["066419",1.51]
["066420",55.92]
["066421",62.72]
["066422",548.66]
["066423",2.44]
["066424",416.5]
["066425",7.49]
["066426",1.07]
["066427",87.99]
["066429",684.92]
["066430",152.47]
["066431",163.51]
["066433",1.43]
["066435",1.34]
["066436",2.74]
["066438",4.72]
["066439",11.57]
["066440",37.43]
["066441",2.33]
["066442",0.88]
["066443",0.88]
["066444",0.88]
["066445",77.400000000000006]
["066446",21.77]
["066447",14.81]
["066448",4.47]
["066449",21.58]
["066451",0.88]
["066452",45.08]
["066453",10.119999999999999]
["066454",25.66]
["066456",0.88]
["066457",9.24]
["066458",0.88]
["066459",0.88]
["066461",0.88]
["066462",0.88]
["066463",0.88]
["066464",2.95]
["066465",0.88]
["066466",2.14]
["066467",1.33]
["066468",2.08]
["066469",75.290000000000006]
["066471",15]
["066473",98]
["066475",18.95]
["066477",20.190000000000001]
["066480",100.53]
["066481",33.07]
["066484",92.2]
["066485",16.5]
["066487",3.15]
["066489",9.5]
["066490",8.92]
["066491",360.54]
["066492",3.16]
["066493",144.72999999999999]
["066494",8.59]
["066495",86.42]
["066496",437.01]
["066497",2.17]
["066498",11.13]
["066499",14.09]
["066503",3.13]
["066504",79.77]
["066505",7.57]
["066506",1.63]
["066507",5.22]
["066508",6.47]
["066510",12.16]
["066511",2.17]
["066514",55.39]
["066516",21.95]
["066517",0.92]
["066521",14.75]
["066523",5.39]
["066525",23.02]
["066526",65.16]
["066529",0.34]
["066531",147.44]
["066532",58.15]
["066534",64.56]
["066535",0.91]
["066538",4.0999999999999996]
["066539",21.12]
["066540",4.4000000000000004]
["066541",6.98]
["066545",0.89]
["066549",0.48]
["066550",1.1100000000000001]
["066551",0.57999999999999996]
["066552",0.2]
["066553",1.18]
["066554",0.59]
["066555",1.82]
["066557",0.2]
["066559",48.51]
["066561",2.36]
["066563",2.9]
["066565",12.63]
["066566",23.02]
["066568",3.78]
["066570",3.78]
["066574",0.99]
["066575",3.82]
["066578",0.28999999999999998]
["066579",293.81]
["066580",37.65]
["066581",83.01]
["066582",300.16000000000003]
["066583",7.82]
["066584",81.94]
["066585",27.75]
["066586",5.9]
["066587",7.46]
["066588",2.7]
["066589",5.4]
["066590",7.97]
["066591",87.96]
["066592",25]
["066593",20.03]
["066594",49.56]
["066595",3.42]
["066596",3.82]
["066597",0.2]
["066598",12.6]
["066599",1.93]
["066600",24.8]
["066601",4.1399999999999997]
["066602",3.82]
["066603",3.7]
["066604",2.37]
["066605",45.42]
["066606",120.84]
["066607",4.71]
["066608",7.35]
["066609",35.46]
["066610",15.77]
["066611",21.61]
["066612",85.76]
["066613",8.8000000000000007]
["066614",7.22]
["066615",41.77]
["066616",6.22]
["066617",2.0299999999999998]
["066618",1.17]
["066619",0.95]
["066620",0.6]
["066621",3.54]
["066622",0.75]
["066623",10.050000000000001]
["066624",2.4]
["066625",9.84]
["066626",4.3499999999999996]
["066627",4.3099999999999996]
["066628",4.07]
["066629",1.9]
["066630",11.95]
["066631",1.19]
["066632",1.1000000000000001]
["066633",0.99]
["066634",0.97]
["066635",1.8]
["066636",1]
["066637",0.75]
["066638",1.54]
["066639",2.6]
["066640",0.9]
["066641",9.1]
["066642",10.23]
["066643",49.8]
["066644",5.61]
["066645",20.18]
["066646",15.96]
["066647",1.05]
["066648",0.7]
["066649",1.4]
["066650",1.32]
["066651",14.63]
["066652",10.119999999999999]
["066653",135.13]
["066654",4]
["066655",4.42]
["066656",10.42]
["066657",5.7]
["066658",10.42]
["066659",1.41]
["066660",11.04]
["066662",47.76]
["066663",100.14]
["066664",43.17]
["066665",0.28999999999999998]
["066668",50.38]
["066669",295.2]
["066670",1.31]
["066673",17.77]
["066675",64.599999999999994]
["066676",52.01]
["066677",51.23]
["066678",98.68]
["066679",42.58]
["066682",10.27]
["066683",53.35]
["066708",14.17]
["066709",5.48]
["066710",70.67]
["066712",11.9]
["066713",42.62]
["066714",228.14]
["066715",84.95]
["066716",32.9]
["066717",16.29]
["066718",2.04]
["066719",15.19]
["066720",64.98]
["066721",97.4]
["066722",50.91]
["066726",9.82]
["066728",1.69]
["066730",117.04]
["066731",59.85]
["066733",38.35]
["066734",251.6]
["066735",29.73]
["066736",38.42]
["066737",125]
["066738",20.12]
["066739",59.99]
["066740",68.5]
["066741",77.33]
["066742",10.32]
["066743",94.8]
["066744",18.010000000000002]
["066746",18.350000000000001]
["066748",14.8]
["066749",18.73]
["066751",53.42]
["066752",39.299999999999997]
["066753",18.079999999999998]
["066755",11.93]
["066756",19.45]
["066757",10.99]
["066758",39.06]
["066759",6.22]
["066760",14.61]
["066762",4.28]
["066763",5.64]
["066764",37.19]
["066766",19.34]
["066767",217.71]
["066768",9.65]
["066770",144.19999999999999]
["066771",95.91]
["066772",169.51]
["066773",10.19]
["066774",318.39999999999998]
["066775",5.18]
["066776",35.19]
["066777",36.54]
["066778",1.19]
["066779",9.1199999999999992]
["066780",20.22]
["066781",5.21]
["066782",97.01]
["066783",286.45999999999998]
["066784",155.25]
["066785",208.97]
["066786",103.09]
["066787",28.6]
["066788",17.399999999999999]
["066789",8.48]
["066790",8.1]
["066791",81.84]
["066792",174.78]
["066793",74.680000000000007]
["066794",134.69]
["066795",143.63]
["066796",301.49]
["066797",18.309999999999999]
["066798",21.52]
["066799",18.170000000000002]
["066800",10.69]
["066801",299]
["066802",22.49]
["066803",7]
["066804",7]
["066805",5.5]
["066806",18.75]
["066807",26.15]
["066808",176.67]
["066809",47.27]
["066810",76.22]
["066811",40]
["066812",7.73]
["066813",160.41999999999999]
["066814",9.6999999999999993]
["066815",112.96]
["066816",1.74]
["066817",195.49]
["066818",97]
["066819",38.409999999999997]
["066820",36.1]
["066821",24.82]
["066822",54.02]
["066823",16.739999999999998]
["066824",76.7]
["066825",143.99]
["066840",29.11]
["066841",195.3]
["066842",270]
["066843",12.38]
["066844",25.47]
["066845",4.97]
["066846",3.49]
["066847",18.82]
["066849",0.69]
["066850",104.32]
["066851",143.79]
["066852",110.9]
["066853",21.79]
["066854",65.42]
["066855",6.66]
["066856",1.38]
["066857",13.22]
["066858",103.25]
["066859",80.510000000000005]
["066860",85.12]
["066861",53.67]
["066862",45]
["066863",240.19]
["066864",209.91]
["066865",15.65]
["066866",18.850000000000001]
["066867",364.38]
["066869",101.42]
["066870",31.6]
["066871",26.7]
["066872",2.7]
["066873",4.43]
["066874",3.18]
["066875",3.99]
["066876",1.02]
["066877",4.18]
["066878",2.48]
["066879",8.84]
["066880",86.18]
["066881",9.86]
["066882",6.04]
["066883",9.86]
["066884",9.86]
["066885",1.73]
["066886",107.31]
["066887",3.69]
["066888",4.87]
["066889",3.99]
["066890",1.51]
["066891",17.75]
["066892",1.74]
["066893",8.92]
["066894",2.48]
["066895",2.34]
["066896",1.02]
["066897",1.43]
["066898",1.32]
["066899",28.25]
["066900",15.75]
["066910",2.5299999999999998]
["066911",2.17]
["066912",6.58]
["066913",1.1000000000000001]
["066914",8.7100000000000009]
["066915",3.35]
["066916",1.77]
["066917",2.33]
["066918",1]
["066919",3.6]
["066920",12.22]
["066921",165.7]
["066922",90.72]
["066923",4.57]
["066924",3.65]
["066925",8.1]
["066926",125.76]
["066927",8.11]
["066928",22.88]
["066929",3.82]
["066930",62.38]
["066931",7.7]
["066932",2.4700000000000002]
["066933",15.87]
["066934",3.48]
["066935",13.3]
["066936",18.27]
["066937",31.4]
["066938",6.21]
["066939",15.89]
["066940",9.0500000000000007]
["066941",2.02]
["066942",11.01]
["066943",3.26]
["066944",0.76]
["066945",11.76]
["066946",3.9]
["066947",67.36]
["066948",25.33]
["066949",13.18]
["066950",1]
["066951",3.2]
["066952",51.99]
["066953",46.72]
["066954",33.32]
["066955",89.43]
["066956",3.46]
["066957",6.24]
["066958",1.59]
["066959",8.2100000000000009]
["066960",3.21]
["066961",20.5]
["066962",12.1]
["066963",8.6300000000000008]
["066964",2.4700000000000002]
["066965",1.1299999999999999]
["066966",12.32]
["066967",8.1199999999999992]
["066968",462.74]
["066969",36.18]
["066970",89.69]
["066971",8.4700000000000006]
["066972",3.63]
["066973",18.510000000000002]
["066974",1.66]
["066975",2.04]
["066976",34.15]
["066977",7.42]
["066978",2.0699999999999998]
["066979",120.51]
["066980",3.8]
["066981",1.89]
["066982",7.05]
["066983",1.42]
["066984",19.309999999999999]
["066985",7.93]
["066986",2.08]
["066987",204.03]
["066988",24.93]
["066989",24.14]
["066990",4.95]
["066991",11.62]
["066992",3.79]
["066993",6.09]
["066994",2.04]
["066995",16.7]
["066996",2.7]
["066997",194.12]
["067000",141.06]
["067001",110.99]
["067002",128.05000000000001]
["067003",12.07]
["067004",9.61]
["067005",5.99]
["067006",45.99]
["067007",11.25]
["067008",5.99]
["067009",5.99]
["067010",5.99]
["067011",4.5199999999999996]
["067012",4.96]
["067013",13.87]
["067014",2]
["067015",5.65]
["067016",10.210000000000001]
["067017",5.99]
["067018",12.24]
["067019",9.33]
["067020",160.99]
["067021",16.25]
["067022",7.33]
["067023",12.06]
["067024",9.4]
["067025",5]
["067026",31.52]
["067027",22.27]
["067028",19.79]
["067029",24.66]
["067030",59.89]
["067031",37.4]
["067032",3.62]
["067033",1.49]
["067034",0.99]
["067035",304.74]
["067036",83.82]
["067037",38.869999999999997]
["067038",47.78]
["067039",38.869999999999997]
["067040",91.92]
["067041",5.49]
["067042",3.99]
["067043",1.99]
["067044",1.49]
["067045",10.49]
["067046",8.99]
["067047",13.75]
["067048",12.29]
["067049",115.95]
["067050",10.49]
["067051",27.99]
["067052",149.51]
["067053",89.77]
["067054",71.989999999999995]
["067055",105.49]
["067056",26.49]
["067057",276.74]
["067058",115.99]
["067059",247.99]
["067060",7.99]
["067061",98.99]
["067062",4.99]
["067063",0]
["067064",0]
["067065",0]
["067066",0]
["067067",330]
["067068",2.74]
["067069",6.59]
["067070",1.05]
["067072",1.05]
["067073",1.1499999999999999]
["067074",1.45]
["067075",1.45]
["067076",1.45]
["067077",1.6]
["067296",21.48]
["067644",677.12]
["067697",186.54]
["067698",31.85]
["067757",37]
["075000",14305.8]
["075001",275]
["075002",275]
["075003",275]
["075004",259.48]
["075005",259.48]
["075006",259.48]
["075007",259.48]
["075008",275]
["075009",275]
["075010",275]
["075011",275]
["075012",275]
["075013",275]
["075014",259.48]
["075015",275]
["075016",259.48]
["075017",275]
["075018",259.48]
["075019",259.48]
["075020",259.48]
["075021",275]
["075022",259.48]
["075023",275]
["075024",275]
["075025",275]
["075026",259.48]
["075027",275]
["081272",0.03]
["082069",154175.4]
["087246",1634.26]
["089000",136436.06]
["089001",65.989999999999995]
["089004",2.48]
["089005",361.49]
["089006",24.11]
["089008",17.95]
["089010",45.79]
["089011",115.95]
["089012",9]
["089013",878.53]
["089014",158.80000000000001]
["089015",158.80000000000001]
["089020",0]
["089021",0.18]
["089022",1.99]
["089023",12.99]
["089024",0.56000000000000005]
["089025",31.99]
["089026",0.01]
["089027",0]
["089060",30.34]
["089063",386.94]
["089064",126.5]
["089065",625.24]
["089078",56.31]
["089079",299.8]
["089080",0.01]
["089081",0.04]
["089082",20.67]
["089086",18.739999999999998]
["089087",53.45]
["089088",49.72]
["089103",6]
["089105",0.41]
["089107",1.04]
["089114",3.34]
["089126",3.6]
["089134",26.99]
["089143",5.3]
["089152",0.32]
["089155",45.72]
["089156",58.9]
["089159",31.35]
["089273",27.54]
["089326",0.9]
["089332",0.2]
["089333",0.2]
["089342",2.0299999999999998]
["089344",35.17]
["089361",0.93]
["089441",20.61]
["089446",0.64]
["089592",0.05]
["089601",4.24]
["089602",6.59]
["089605",0.21]
["089616",97.88]
["089627",41.81]
["089629",0.45]
["089632",1.74]
["089635",5.1100000000000003]
["089637",12.44]
["089638",1.41]
["089654",7.0000000000000007E-2]
["089658",6]
["089662",2.9]
["089664",4.03]
["089667",0.37]
["089685",262.05]
["089686",16]
["089687",7.33]
["089688",25.47]
["089689",0.13]
["089690",7.0000000000000007E-2]
["089691",45.9]
["089692",1.74]
["089693",25.91]
["089699",0.17]
["089700",8.15]
["089701",7.67]
["089703",2.09]
["089704",14.14]
["089705",0.9]
["089706",0.73]
["089709",31.45]
["089712",1.43]
["089713",17.989999999999998]
["089714",1.68]
["089718",91.33]
["089723",59.05]
["089729",0.19]
["089737",1.9]
["089750",1.1100000000000001]
["089751",0.99]
["089752",2314.83]
["089754",902.72]
["089761",1.93]
["089777",3.22]
["089786",1.1000000000000001]
["089788",31.99]
["089789",17.61]
["089790",11.82]
["089793",6.45]
["089794",1.1299999999999999]
["089797",13.51]
["089798",2.0099999999999998]
["089799",5.6]
["089829",4.59]
["089911",0.81]
["089913",9.7899999999999991]
["089914",13.69]
["089915",61.94]
["089916",1.95]
["089921",262.88]
["089926",3.57]
["089927",8.68]
["100862",0.13]
["100863",0.13]
["101286",0.13]
["101300",0.15]
["101342",0.04]
["101344",0.04]
["101345",0.04]
["101346",0.05]
["101347",0.04]
["101348",0.05]
["101349",0.04]
["101350",0.04]
["101472",0.14000000000000001]
["101473",0.13]
["101576",0.1]
["4244AK",16140.73]
["4244K2",22593.72]
["4244MD",18205.13]
["4244X2",21764.35]
["4248AK",10421.18]
["4312AK",20819.28]
["4330AK",3643.22]
["4330EX",956.12]
["4330KP",4502.63]
["4330MD",3895.65]
["4330X2",6875.58]
["4370AK",16954.88]
["4381AK",28675.759999999998]
["4381K2",22390.41]
["4381KD",14704.07]
["4381KR",22059.23]